BEGIN:VCALENDAR
VERSION:2.0
PRODID:-//Charis Foundation - ECPv6.15.20//NONSGML v1.0//EN
CALSCALE:GREGORIAN
METHOD:PUBLISH
X-WR-CALNAME:Charis Foundation
X-ORIGINAL-URL:https://charisinterspirituality.org
X-WR-CALDESC:Events for Charis Foundation
REFRESH-INTERVAL;VALUE=DURATION:PT1H
X-Robots-Tag:noindex
X-PUBLISHED-TTL:PT1H
BEGIN:VTIMEZONE
TZID:America/Denver
BEGIN:DAYLIGHT
TZOFFSETFROM:-0700
TZOFFSETTO:-0600
TZNAME:MDT
DTSTART:20240310T090000
END:DAYLIGHT
BEGIN:STANDARD
TZOFFSETFROM:-0600
TZOFFSETTO:-0700
TZNAME:MST
DTSTART:20241103T080000
END:STANDARD
BEGIN:DAYLIGHT
TZOFFSETFROM:-0700
TZOFFSETTO:-0600
TZNAME:MDT
DTSTART:20250309T090000
END:DAYLIGHT
BEGIN:STANDARD
TZOFFSETFROM:-0600
TZOFFSETTO:-0700
TZNAME:MST
DTSTART:20251102T080000
END:STANDARD
BEGIN:DAYLIGHT
TZOFFSETFROM:-0700
TZOFFSETTO:-0600
TZNAME:MDT
DTSTART:20260308T090000
END:DAYLIGHT
BEGIN:STANDARD
TZOFFSETFROM:-0600
TZOFFSETTO:-0700
TZNAME:MST
DTSTART:20261101T080000
END:STANDARD
END:VTIMEZONE
BEGIN:VEVENT
DTSTART;TZID=America/Denver:20250703T170000
DTEND;TZID=America/Denver:20250712T100000
DTSTAMP:20260424T051941
CREATED:20250409T193345Z
LAST-MODIFIED:20250409T194729Z
UID:10001865-1751562000-1752314400@charisinterspirituality.org
SUMMARY:Charis 10-Day Retreat | Stages of the Path
DESCRIPTION:July 3 – 12 \nAll Practitioners Welcome \nJoin us for an enriching 10-day Charis Retreat\, where we’ll explore the Stages of the Spiritual Path through diverse religious traditions\, including Christianity\, Buddhism\, Sufism\, and the Sacred Feminine. Led by Rory McEntee\, Netanel Miles-Yépez\, and Alejandra Warden this interspiritual retreat invites you to deepen your practice and understanding of spiritual growth. Set amidst the serene Charis Mandala Sanctuary\, the retreat includes meditation\, contemplative practice\, spiritual dialogue\, and periods of silence. You’ll learn the two-step interspiritual Charis Meditation process\, combining Centering Prayer and lectio divina\, to deepen your spiritual practice and insights. Explore the stages of the spiritual path while integrating transformative wisdom into your everyday life. Whether you’re new to Charis Meditation or looking to deepen your practice\, all are welcome to this unique opportunity for shared learning and spiritual awakening. \nMeals\, lodging\, and teaching are included. \nREGISTER HERE
URL:https://charisinterspirituality.org/event/charis-10-day-retreat-stages-of-the-path/
LOCATION:Charis Mandala Sanctuary | Des Moines\, NM\, Des Moines\, NM\, United States
CATEGORIES:Charis Retreat
ATTACH;FMTTYPE=image/jpeg:https://charisinterspirituality.org/wp-content/uploads/2025/03/DSC_0514-1-edited.jpg
ORGANIZER;CN="Charis Foundation":MAILTO:admin@charisinterspirituality.org
END:VEVENT
END:VCALENDAR