BEGIN:VCALENDAR
VERSION:2.0
PRODID:-//Charis Foundation - ECPv6.15.20//NONSGML v1.0//EN
CALSCALE:GREGORIAN
METHOD:PUBLISH
X-ORIGINAL-URL:https://charisinterspirituality.org
X-WR-CALDESC:Events for Charis Foundation
REFRESH-INTERVAL;VALUE=DURATION:PT1H
X-Robots-Tag:noindex
X-PUBLISHED-TTL:PT1H
BEGIN:VTIMEZONE
TZID:America/Denver
BEGIN:DAYLIGHT
TZOFFSETFROM:-0700
TZOFFSETTO:-0600
TZNAME:MDT
DTSTART:20240310T090000
END:DAYLIGHT
BEGIN:STANDARD
TZOFFSETFROM:-0600
TZOFFSETTO:-0700
TZNAME:MST
DTSTART:20241103T080000
END:STANDARD
BEGIN:DAYLIGHT
TZOFFSETFROM:-0700
TZOFFSETTO:-0600
TZNAME:MDT
DTSTART:20250309T090000
END:DAYLIGHT
BEGIN:STANDARD
TZOFFSETFROM:-0600
TZOFFSETTO:-0700
TZNAME:MST
DTSTART:20251102T080000
END:STANDARD
BEGIN:DAYLIGHT
TZOFFSETFROM:-0700
TZOFFSETTO:-0600
TZNAME:MDT
DTSTART:20260308T090000
END:DAYLIGHT
BEGIN:STANDARD
TZOFFSETFROM:-0600
TZOFFSETTO:-0700
TZNAME:MST
DTSTART:20261101T080000
END:STANDARD
END:VTIMEZONE
BEGIN:VEVENT
DTSTART;TZID=America/Denver:20250901T180000
DTEND;TZID=America/Denver:20250901T200000
DTSTAMP:20260421T051233
CREATED:20250409T185920Z
LAST-MODIFIED:20250409T192537Z
UID:10001572-1756749600-1756756800@charisinterspirituality.org
SUMMARY:Charis Circle and Interspiritual Sacred Scripture Study | Online | 1st Monday of the month  
DESCRIPTION:Offered on the 1st Monday of the month \nFacilitator: Samantha Krezinski\, MA\, CYT \n5pm PT / 6pm MT / 7pm CT / 8pm ET \nDuratiion: 2 hours
URL:https://charisinterspirituality.org/event/charis-circle-and-interspiritual-sacred-scripture-study-online-1st-monday-of-the-month/2025-09-01/
LOCATION:Online | Zoom
CATEGORIES:Charis Circle,Online
ORGANIZER;CN="Samantha Krezinski":MAILTO:chariscircles@charisinterspirituality.org
END:VEVENT
BEGIN:VEVENT
DTSTART;TZID=America/Denver:20250903T170000
DTEND;TZID=America/Denver:20250903T183000
DTSTAMP:20260421T051233
CREATED:20250409T184901Z
LAST-MODIFIED:20250409T192537Z
UID:10000116-1756918800-1756924200@charisinterspirituality.org
SUMMARY:Charis Circle | Online | 1st and 3rd Wednesdays 
DESCRIPTION:Held on the 1st and 3rd Wednesdays of the month \nFacilitators: Samantha Krezinski and Judith Blanchard \n90 minutes \n4pm PT / 5pm MT / 6pm CT / 7pm ET \nContact chariscircles@charisinterspirituality.org for more information
URL:https://charisinterspirituality.org/event/charis-circle-online-1st-and-3rd-wednesdays/2025-09-03/
LOCATION:Online | Zoom
CATEGORIES:Charis Circle,Online
ORGANIZER;CN="Samantha Krezinski and Judith Blanchard":MAILTO:chariscircles@charisinterspirituality.org
END:VEVENT
BEGIN:VEVENT
DTSTART;TZID=America/Denver:20250907T170000
DTEND;TZID=America/Denver:20250907T183000
DTSTAMP:20260421T051233
CREATED:20250409T191411Z
LAST-MODIFIED:20250409T192537Z
UID:10001732-1757264400-1757269800@charisinterspirituality.org
SUMMARY:Charis Circle | Online | 1st and 3rd Sundays
DESCRIPTION:Offered on the 1st and 3rd Sundays of the month \nFacilitators: Ron Barnett and Deb Quinn \n4pm PT / 5pm MT / 6pm CT / 7pm ET \nDuration: 90 minutes
URL:https://charisinterspirituality.org/event/charis-circle-online-1st-and-3rd-sundays/2025-09-07/
LOCATION:Online | Zoom
CATEGORIES:Charis Circle,Online
ORGANIZER;CN="Ron Barnett and Deb Quinn":MAILTO:chariscircles@charisinterspirituality.org
END:VEVENT
BEGIN:VEVENT
DTSTART;TZID=America/Denver:20250917T170000
DTEND;TZID=America/Denver:20250917T183000
DTSTAMP:20260421T051233
CREATED:20250409T184901Z
LAST-MODIFIED:20250409T192537Z
UID:10000117-1758128400-1758133800@charisinterspirituality.org
SUMMARY:Charis Circle | Online | 1st and 3rd Wednesdays 
DESCRIPTION:Held on the 1st and 3rd Wednesdays of the month \nFacilitators: Samantha Krezinski and Judith Blanchard \n90 minutes \n4pm PT / 5pm MT / 6pm CT / 7pm ET \nContact chariscircles@charisinterspirituality.org for more information
URL:https://charisinterspirituality.org/event/charis-circle-online-1st-and-3rd-wednesdays/2025-09-17/
LOCATION:Online | Zoom
CATEGORIES:Charis Circle,Online
ORGANIZER;CN="Samantha Krezinski and Judith Blanchard":MAILTO:chariscircles@charisinterspirituality.org
END:VEVENT
BEGIN:VEVENT
DTSTART;TZID=America/Denver:20250921T170000
DTEND;TZID=America/Denver:20250921T183000
DTSTAMP:20260421T051233
CREATED:20250409T191411Z
LAST-MODIFIED:20250409T192537Z
UID:10001733-1758474000-1758479400@charisinterspirituality.org
SUMMARY:Charis Circle | Online | 1st and 3rd Sundays
DESCRIPTION:Offered on the 1st and 3rd Sundays of the month \nFacilitators: Ron Barnett and Deb Quinn \n4pm PT / 5pm MT / 6pm CT / 7pm ET \nDuration: 90 minutes
URL:https://charisinterspirituality.org/event/charis-circle-online-1st-and-3rd-sundays/2025-09-21/
LOCATION:Online | Zoom
CATEGORIES:Charis Circle,Online
ORGANIZER;CN="Ron Barnett and Deb Quinn":MAILTO:chariscircles@charisinterspirituality.org
END:VEVENT
END:VCALENDAR