BEGIN:VCALENDAR
VERSION:2.0
PRODID:-//Charis Foundation - ECPv6.15.20//NONSGML v1.0//EN
CALSCALE:GREGORIAN
METHOD:PUBLISH
X-ORIGINAL-URL:https://charisinterspirituality.org
X-WR-CALDESC:Events for Charis Foundation
REFRESH-INTERVAL;VALUE=DURATION:PT1H
X-Robots-Tag:noindex
X-PUBLISHED-TTL:PT1H
BEGIN:VTIMEZONE
TZID:America/Denver
BEGIN:DAYLIGHT
TZOFFSETFROM:-0700
TZOFFSETTO:-0600
TZNAME:MDT
DTSTART:20240310T090000
END:DAYLIGHT
BEGIN:STANDARD
TZOFFSETFROM:-0600
TZOFFSETTO:-0700
TZNAME:MST
DTSTART:20241103T080000
END:STANDARD
BEGIN:DAYLIGHT
TZOFFSETFROM:-0700
TZOFFSETTO:-0600
TZNAME:MDT
DTSTART:20250309T090000
END:DAYLIGHT
BEGIN:STANDARD
TZOFFSETFROM:-0600
TZOFFSETTO:-0700
TZNAME:MST
DTSTART:20251102T080000
END:STANDARD
BEGIN:DAYLIGHT
TZOFFSETFROM:-0700
TZOFFSETTO:-0600
TZNAME:MDT
DTSTART:20260308T090000
END:DAYLIGHT
BEGIN:STANDARD
TZOFFSETFROM:-0600
TZOFFSETTO:-0700
TZNAME:MST
DTSTART:20261101T080000
END:STANDARD
BEGIN:DAYLIGHT
TZOFFSETFROM:-0700
TZOFFSETTO:-0600
TZNAME:MDT
DTSTART:20270314T090000
END:DAYLIGHT
BEGIN:STANDARD
TZOFFSETFROM:-0600
TZOFFSETTO:-0700
TZNAME:MST
DTSTART:20271107T080000
END:STANDARD
END:VTIMEZONE
BEGIN:VEVENT
DTSTART;TZID=America/Denver:20251006T180000
DTEND;TZID=America/Denver:20251006T200000
DTSTAMP:20260423T041539
CREATED:20250409T185920Z
LAST-MODIFIED:20250409T192537Z
UID:10001573-1759773600-1759780800@charisinterspirituality.org
SUMMARY:Charis Circle and Interspiritual Sacred Scripture Study | Online | 1st Monday of the month  
DESCRIPTION:Offered on the 1st Monday of the month \nFacilitator: Samantha Krezinski\, MA\, CYT \n5pm PT / 6pm MT / 7pm CT / 8pm ET \nDuratiion: 2 hours
URL:https://charisinterspirituality.org/event/charis-circle-and-interspiritual-sacred-scripture-study-online-1st-monday-of-the-month/2025-10-06/
LOCATION:Online | Zoom
CATEGORIES:Charis Circle,Online
ORGANIZER;CN="Samantha Krezinski":MAILTO:chariscircles@charisinterspirituality.org
END:VEVENT
BEGIN:VEVENT
DTSTART;TZID=America/Denver:20251015T170000
DTEND;TZID=America/Denver:20251015T183000
DTSTAMP:20260423T041539
CREATED:20250409T184901Z
LAST-MODIFIED:20250409T192537Z
UID:10000119-1760547600-1760553000@charisinterspirituality.org
SUMMARY:Charis Circle | Online | 1st and 3rd Wednesdays 
DESCRIPTION:Held on the 1st and 3rd Wednesdays of the month \nFacilitators: Samantha Krezinski and Judith Blanchard \n90 minutes \n4pm PT / 5pm MT / 6pm CT / 7pm ET \nContact chariscircles@charisinterspirituality.org for more information
URL:https://charisinterspirituality.org/event/charis-circle-online-1st-and-3rd-wednesdays/2025-10-15/
LOCATION:Online | Zoom
CATEGORIES:Charis Circle,Online
ORGANIZER;CN="Samantha Krezinski and Judith Blanchard":MAILTO:chariscircles@charisinterspirituality.org
END:VEVENT
BEGIN:VEVENT
DTSTART;TZID=America/Denver:20251019T170000
DTEND;TZID=America/Denver:20251019T183000
DTSTAMP:20260423T041539
CREATED:20250409T191411Z
LAST-MODIFIED:20250409T192537Z
UID:10001735-1760893200-1760898600@charisinterspirituality.org
SUMMARY:Charis Circle | Online | 1st and 3rd Sundays
DESCRIPTION:Offered on the 1st and 3rd Sundays of the month \nFacilitators: Ron Barnett and Deb Quinn \n4pm PT / 5pm MT / 6pm CT / 7pm ET \nDuration: 90 minutes
URL:https://charisinterspirituality.org/event/charis-circle-online-1st-and-3rd-sundays/2025-10-19/
LOCATION:Online | Zoom
CATEGORIES:Charis Circle,Online
ORGANIZER;CN="Ron Barnett and Deb Quinn":MAILTO:chariscircles@charisinterspirituality.org
END:VEVENT
BEGIN:VEVENT
DTSTART;TZID=America/Denver:20251102T170000
DTEND;TZID=America/Denver:20251102T183000
DTSTAMP:20260423T041539
CREATED:20250409T191411Z
LAST-MODIFIED:20250409T192537Z
UID:10001736-1762102800-1762108200@charisinterspirituality.org
SUMMARY:Charis Circle | Online | 1st and 3rd Sundays
DESCRIPTION:Offered on the 1st and 3rd Sundays of the month \nFacilitators: Ron Barnett and Deb Quinn \n4pm PT / 5pm MT / 6pm CT / 7pm ET \nDuration: 90 minutes
URL:https://charisinterspirituality.org/event/charis-circle-online-1st-and-3rd-sundays/2025-11-02/
LOCATION:Online | Zoom
CATEGORIES:Charis Circle,Online
ORGANIZER;CN="Ron Barnett and Deb Quinn":MAILTO:chariscircles@charisinterspirituality.org
END:VEVENT
BEGIN:VEVENT
DTSTART;TZID=America/Denver:20251103T180000
DTEND;TZID=America/Denver:20251103T200000
DTSTAMP:20260423T041539
CREATED:20250409T185920Z
LAST-MODIFIED:20250409T192537Z
UID:10001574-1762192800-1762200000@charisinterspirituality.org
SUMMARY:Charis Circle and Interspiritual Sacred Scripture Study | Online | 1st Monday of the month  
DESCRIPTION:Offered on the 1st Monday of the month \nFacilitator: Samantha Krezinski\, MA\, CYT \n5pm PT / 6pm MT / 7pm CT / 8pm ET \nDuratiion: 2 hours
URL:https://charisinterspirituality.org/event/charis-circle-and-interspiritual-sacred-scripture-study-online-1st-monday-of-the-month/2025-11-03/
LOCATION:Online | Zoom
CATEGORIES:Charis Circle,Online
ORGANIZER;CN="Samantha Krezinski":MAILTO:chariscircles@charisinterspirituality.org
END:VEVENT
BEGIN:VEVENT
DTSTART;TZID=America/Denver:20251105T170000
DTEND;TZID=America/Denver:20251105T183000
DTSTAMP:20260423T041539
CREATED:20250409T184901Z
LAST-MODIFIED:20250409T192537Z
UID:10000120-1762362000-1762367400@charisinterspirituality.org
SUMMARY:Charis Circle | Online | 1st and 3rd Wednesdays 
DESCRIPTION:Held on the 1st and 3rd Wednesdays of the month \nFacilitators: Samantha Krezinski and Judith Blanchard \n90 minutes \n4pm PT / 5pm MT / 6pm CT / 7pm ET \nContact chariscircles@charisinterspirituality.org for more information
URL:https://charisinterspirituality.org/event/charis-circle-online-1st-and-3rd-wednesdays/2025-11-05/
LOCATION:Online | Zoom
CATEGORIES:Charis Circle,Online
ORGANIZER;CN="Samantha Krezinski and Judith Blanchard":MAILTO:chariscircles@charisinterspirituality.org
END:VEVENT
BEGIN:VEVENT
DTSTART;TZID=America/Denver:20251116T170000
DTEND;TZID=America/Denver:20251116T183000
DTSTAMP:20260423T041539
CREATED:20250409T191411Z
LAST-MODIFIED:20250409T192537Z
UID:10001737-1763312400-1763317800@charisinterspirituality.org
SUMMARY:Charis Circle | Online | 1st and 3rd Sundays
DESCRIPTION:Offered on the 1st and 3rd Sundays of the month \nFacilitators: Ron Barnett and Deb Quinn \n4pm PT / 5pm MT / 6pm CT / 7pm ET \nDuration: 90 minutes
URL:https://charisinterspirituality.org/event/charis-circle-online-1st-and-3rd-sundays/2025-11-16/
LOCATION:Online | Zoom
CATEGORIES:Charis Circle,Online
ORGANIZER;CN="Ron Barnett and Deb Quinn":MAILTO:chariscircles@charisinterspirituality.org
END:VEVENT
BEGIN:VEVENT
DTSTART;TZID=America/Denver:20251119T170000
DTEND;TZID=America/Denver:20251119T183000
DTSTAMP:20260423T041539
CREATED:20250409T184901Z
LAST-MODIFIED:20250409T192537Z
UID:10000121-1763571600-1763577000@charisinterspirituality.org
SUMMARY:Charis Circle | Online | 1st and 3rd Wednesdays 
DESCRIPTION:Held on the 1st and 3rd Wednesdays of the month \nFacilitators: Samantha Krezinski and Judith Blanchard \n90 minutes \n4pm PT / 5pm MT / 6pm CT / 7pm ET \nContact chariscircles@charisinterspirituality.org for more information
URL:https://charisinterspirituality.org/event/charis-circle-online-1st-and-3rd-wednesdays/2025-11-19/
LOCATION:Online | Zoom
CATEGORIES:Charis Circle,Online
ORGANIZER;CN="Samantha Krezinski and Judith Blanchard":MAILTO:chariscircles@charisinterspirituality.org
END:VEVENT
BEGIN:VEVENT
DTSTART;TZID=America/Denver:20251201T180000
DTEND;TZID=America/Denver:20251201T200000
DTSTAMP:20260423T041539
CREATED:20250409T185920Z
LAST-MODIFIED:20250409T192537Z
UID:10001575-1764612000-1764619200@charisinterspirituality.org
SUMMARY:Charis Circle and Interspiritual Sacred Scripture Study | Online | 1st Monday of the month  
DESCRIPTION:Offered on the 1st Monday of the month \nFacilitator: Samantha Krezinski\, MA\, CYT \n5pm PT / 6pm MT / 7pm CT / 8pm ET \nDuratiion: 2 hours
URL:https://charisinterspirituality.org/event/charis-circle-and-interspiritual-sacred-scripture-study-online-1st-monday-of-the-month/2025-12-01/
LOCATION:Online | Zoom
CATEGORIES:Charis Circle,Online
ORGANIZER;CN="Samantha Krezinski":MAILTO:chariscircles@charisinterspirituality.org
END:VEVENT
BEGIN:VEVENT
DTSTART;TZID=America/Denver:20251203T170000
DTEND;TZID=America/Denver:20251203T183000
DTSTAMP:20260423T041539
CREATED:20250409T184901Z
LAST-MODIFIED:20250409T192537Z
UID:10000122-1764781200-1764786600@charisinterspirituality.org
SUMMARY:Charis Circle | Online | 1st and 3rd Wednesdays 
DESCRIPTION:Held on the 1st and 3rd Wednesdays of the month \nFacilitators: Samantha Krezinski and Judith Blanchard \n90 minutes \n4pm PT / 5pm MT / 6pm CT / 7pm ET \nContact chariscircles@charisinterspirituality.org for more information
URL:https://charisinterspirituality.org/event/charis-circle-online-1st-and-3rd-wednesdays/2025-12-03/
LOCATION:Online | Zoom
CATEGORIES:Charis Circle,Online
ORGANIZER;CN="Samantha Krezinski and Judith Blanchard":MAILTO:chariscircles@charisinterspirituality.org
END:VEVENT
BEGIN:VEVENT
DTSTART;TZID=America/Denver:20251207T170000
DTEND;TZID=America/Denver:20251207T183000
DTSTAMP:20260423T041539
CREATED:20250409T191411Z
LAST-MODIFIED:20250409T192537Z
UID:10001738-1765126800-1765132200@charisinterspirituality.org
SUMMARY:Charis Circle | Online | 1st and 3rd Sundays
DESCRIPTION:Offered on the 1st and 3rd Sundays of the month \nFacilitators: Ron Barnett and Deb Quinn \n4pm PT / 5pm MT / 6pm CT / 7pm ET \nDuration: 90 minutes
URL:https://charisinterspirituality.org/event/charis-circle-online-1st-and-3rd-sundays/2025-12-07/
LOCATION:Online | Zoom
CATEGORIES:Charis Circle,Online
ORGANIZER;CN="Ron Barnett and Deb Quinn":MAILTO:chariscircles@charisinterspirituality.org
END:VEVENT
BEGIN:VEVENT
DTSTART;TZID=America/Denver:20251217T170000
DTEND;TZID=America/Denver:20251217T183000
DTSTAMP:20260423T041539
CREATED:20250409T184901Z
LAST-MODIFIED:20250409T192537Z
UID:10000123-1765990800-1765996200@charisinterspirituality.org
SUMMARY:Charis Circle | Online | 1st and 3rd Wednesdays 
DESCRIPTION:Held on the 1st and 3rd Wednesdays of the month \nFacilitators: Samantha Krezinski and Judith Blanchard \n90 minutes \n4pm PT / 5pm MT / 6pm CT / 7pm ET \nContact chariscircles@charisinterspirituality.org for more information
URL:https://charisinterspirituality.org/event/charis-circle-online-1st-and-3rd-wednesdays/2025-12-17/
LOCATION:Online | Zoom
CATEGORIES:Charis Circle,Online
ORGANIZER;CN="Samantha Krezinski and Judith Blanchard":MAILTO:chariscircles@charisinterspirituality.org
END:VEVENT
BEGIN:VEVENT
DTSTART;TZID=America/Denver:20251221T170000
DTEND;TZID=America/Denver:20251221T183000
DTSTAMP:20260423T041539
CREATED:20250409T191411Z
LAST-MODIFIED:20250409T192537Z
UID:10001739-1766336400-1766341800@charisinterspirituality.org
SUMMARY:Charis Circle | Online | 1st and 3rd Sundays
DESCRIPTION:Offered on the 1st and 3rd Sundays of the month \nFacilitators: Ron Barnett and Deb Quinn \n4pm PT / 5pm MT / 6pm CT / 7pm ET \nDuration: 90 minutes
URL:https://charisinterspirituality.org/event/charis-circle-online-1st-and-3rd-sundays/2025-12-21/
LOCATION:Online | Zoom
CATEGORIES:Charis Circle,Online
ORGANIZER;CN="Ron Barnett and Deb Quinn":MAILTO:chariscircles@charisinterspirituality.org
END:VEVENT
BEGIN:VEVENT
DTSTART;TZID=America/Denver:20260104T170000
DTEND;TZID=America/Denver:20260104T183000
DTSTAMP:20260423T041539
CREATED:20250409T191411Z
LAST-MODIFIED:20250409T192537Z
UID:10001740-1767546000-1767551400@charisinterspirituality.org
SUMMARY:Charis Circle | Online | 1st and 3rd Sundays
DESCRIPTION:Offered on the 1st and 3rd Sundays of the month \nFacilitators: Ron Barnett and Deb Quinn \n4pm PT / 5pm MT / 6pm CT / 7pm ET \nDuration: 90 minutes
URL:https://charisinterspirituality.org/event/charis-circle-online-1st-and-3rd-sundays/2026-01-04/
LOCATION:Online | Zoom
CATEGORIES:Charis Circle,Online
ORGANIZER;CN="Ron Barnett and Deb Quinn":MAILTO:chariscircles@charisinterspirituality.org
END:VEVENT
BEGIN:VEVENT
DTSTART;TZID=America/Denver:20260105T180000
DTEND;TZID=America/Denver:20260105T200000
DTSTAMP:20260423T041539
CREATED:20250409T185920Z
LAST-MODIFIED:20250409T192537Z
UID:10001576-1767636000-1767643200@charisinterspirituality.org
SUMMARY:Charis Circle and Interspiritual Sacred Scripture Study | Online | 1st Monday of the month  
DESCRIPTION:Offered on the 1st Monday of the month \nFacilitator: Samantha Krezinski\, MA\, CYT \n5pm PT / 6pm MT / 7pm CT / 8pm ET \nDuratiion: 2 hours
URL:https://charisinterspirituality.org/event/charis-circle-and-interspiritual-sacred-scripture-study-online-1st-monday-of-the-month/2026-01-05/
LOCATION:Online | Zoom
CATEGORIES:Charis Circle,Online
ORGANIZER;CN="Samantha Krezinski":MAILTO:chariscircles@charisinterspirituality.org
END:VEVENT
BEGIN:VEVENT
DTSTART;TZID=America/Denver:20260107T170000
DTEND;TZID=America/Denver:20260107T183000
DTSTAMP:20260423T041539
CREATED:20250409T184901Z
LAST-MODIFIED:20250409T192537Z
UID:10000124-1767805200-1767810600@charisinterspirituality.org
SUMMARY:Charis Circle | Online | 1st and 3rd Wednesdays 
DESCRIPTION:Held on the 1st and 3rd Wednesdays of the month \nFacilitators: Samantha Krezinski and Judith Blanchard \n90 minutes \n4pm PT / 5pm MT / 6pm CT / 7pm ET \nContact chariscircles@charisinterspirituality.org for more information
URL:https://charisinterspirituality.org/event/charis-circle-online-1st-and-3rd-wednesdays/2026-01-07/
LOCATION:Online | Zoom
CATEGORIES:Charis Circle,Online
ORGANIZER;CN="Samantha Krezinski and Judith Blanchard":MAILTO:chariscircles@charisinterspirituality.org
END:VEVENT
BEGIN:VEVENT
DTSTART;TZID=America/Denver:20260201T170000
DTEND;TZID=America/Denver:20260201T183000
DTSTAMP:20260423T041539
CREATED:20250409T191411Z
LAST-MODIFIED:20250409T192537Z
UID:10001741-1769965200-1769970600@charisinterspirituality.org
SUMMARY:Charis Circle | Online | 1st and 3rd Sundays
DESCRIPTION:Offered on the 1st and 3rd Sundays of the month \nFacilitators: Ron Barnett and Deb Quinn \n4pm PT / 5pm MT / 6pm CT / 7pm ET \nDuration: 90 minutes
URL:https://charisinterspirituality.org/event/charis-circle-online-1st-and-3rd-sundays/2026-02-01/
LOCATION:Online | Zoom
CATEGORIES:Charis Circle,Online
ORGANIZER;CN="Ron Barnett and Deb Quinn":MAILTO:chariscircles@charisinterspirituality.org
END:VEVENT
BEGIN:VEVENT
DTSTART;TZID=America/Denver:20260202T180000
DTEND;TZID=America/Denver:20260202T200000
DTSTAMP:20260423T041539
CREATED:20250409T185920Z
LAST-MODIFIED:20250409T192537Z
UID:10001577-1770055200-1770062400@charisinterspirituality.org
SUMMARY:Charis Circle and Interspiritual Sacred Scripture Study | Online | 1st Monday of the month  
DESCRIPTION:Offered on the 1st Monday of the month \nFacilitator: Samantha Krezinski\, MA\, CYT \n5pm PT / 6pm MT / 7pm CT / 8pm ET \nDuratiion: 2 hours
URL:https://charisinterspirituality.org/event/charis-circle-and-interspiritual-sacred-scripture-study-online-1st-monday-of-the-month/2026-02-02/
LOCATION:Online | Zoom
CATEGORIES:Charis Circle,Online
ORGANIZER;CN="Samantha Krezinski":MAILTO:chariscircles@charisinterspirituality.org
END:VEVENT
BEGIN:VEVENT
DTSTART;TZID=America/Denver:20260204T170000
DTEND;TZID=America/Denver:20260204T183000
DTSTAMP:20260423T041539
CREATED:20250409T184901Z
LAST-MODIFIED:20250409T192537Z
UID:10000125-1770224400-1770229800@charisinterspirituality.org
SUMMARY:Charis Circle | Online | 1st and 3rd Wednesdays 
DESCRIPTION:Held on the 1st and 3rd Wednesdays of the month \nFacilitators: Samantha Krezinski and Judith Blanchard \n90 minutes \n4pm PT / 5pm MT / 6pm CT / 7pm ET \nContact chariscircles@charisinterspirituality.org for more information
URL:https://charisinterspirituality.org/event/charis-circle-online-1st-and-3rd-wednesdays/2026-02-04/
LOCATION:Online | Zoom
CATEGORIES:Charis Circle,Online
ORGANIZER;CN="Samantha Krezinski and Judith Blanchard":MAILTO:chariscircles@charisinterspirituality.org
END:VEVENT
BEGIN:VEVENT
DTSTART;TZID=America/Denver:20260301T170000
DTEND;TZID=America/Denver:20260301T183000
DTSTAMP:20260423T041539
CREATED:20250409T191411Z
LAST-MODIFIED:20250409T192537Z
UID:10001742-1772384400-1772389800@charisinterspirituality.org
SUMMARY:Charis Circle | Online | 1st and 3rd Sundays
DESCRIPTION:Offered on the 1st and 3rd Sundays of the month \nFacilitators: Ron Barnett and Deb Quinn \n4pm PT / 5pm MT / 6pm CT / 7pm ET \nDuration: 90 minutes
URL:https://charisinterspirituality.org/event/charis-circle-online-1st-and-3rd-sundays/2026-03-01/
LOCATION:Online | Zoom
CATEGORIES:Charis Circle,Online
ORGANIZER;CN="Ron Barnett and Deb Quinn":MAILTO:chariscircles@charisinterspirituality.org
END:VEVENT
BEGIN:VEVENT
DTSTART;TZID=America/Denver:20260302T180000
DTEND;TZID=America/Denver:20260302T200000
DTSTAMP:20260423T041539
CREATED:20250409T185920Z
LAST-MODIFIED:20250409T192537Z
UID:10001578-1772474400-1772481600@charisinterspirituality.org
SUMMARY:Charis Circle and Interspiritual Sacred Scripture Study | Online | 1st Monday of the month  
DESCRIPTION:Offered on the 1st Monday of the month \nFacilitator: Samantha Krezinski\, MA\, CYT \n5pm PT / 6pm MT / 7pm CT / 8pm ET \nDuratiion: 2 hours
URL:https://charisinterspirituality.org/event/charis-circle-and-interspiritual-sacred-scripture-study-online-1st-monday-of-the-month/2026-03-02/
LOCATION:Online | Zoom
CATEGORIES:Charis Circle,Online
ORGANIZER;CN="Samantha Krezinski":MAILTO:chariscircles@charisinterspirituality.org
END:VEVENT
BEGIN:VEVENT
DTSTART;TZID=America/Denver:20260304T170000
DTEND;TZID=America/Denver:20260304T183000
DTSTAMP:20260423T041539
CREATED:20250409T184901Z
LAST-MODIFIED:20250409T192537Z
UID:10000126-1772643600-1772649000@charisinterspirituality.org
SUMMARY:Charis Circle | Online | 1st and 3rd Wednesdays 
DESCRIPTION:Held on the 1st and 3rd Wednesdays of the month \nFacilitators: Samantha Krezinski and Judith Blanchard \n90 minutes \n4pm PT / 5pm MT / 6pm CT / 7pm ET \nContact chariscircles@charisinterspirituality.org for more information
URL:https://charisinterspirituality.org/event/charis-circle-online-1st-and-3rd-wednesdays/2026-03-04/
LOCATION:Online | Zoom
CATEGORIES:Charis Circle,Online
ORGANIZER;CN="Samantha Krezinski and Judith Blanchard":MAILTO:chariscircles@charisinterspirituality.org
END:VEVENT
BEGIN:VEVENT
DTSTART;TZID=America/Denver:20260401T170000
DTEND;TZID=America/Denver:20260401T183000
DTSTAMP:20260423T041539
CREATED:20250409T184901Z
LAST-MODIFIED:20250409T192537Z
UID:10000127-1775062800-1775068200@charisinterspirituality.org
SUMMARY:Charis Circle | Online | 1st and 3rd Wednesdays 
DESCRIPTION:Held on the 1st and 3rd Wednesdays of the month \nFacilitators: Samantha Krezinski and Judith Blanchard \n90 minutes \n4pm PT / 5pm MT / 6pm CT / 7pm ET \nContact chariscircles@charisinterspirituality.org for more information
URL:https://charisinterspirituality.org/event/charis-circle-online-1st-and-3rd-wednesdays/2026-04-01/
LOCATION:Online | Zoom
CATEGORIES:Charis Circle,Online
ORGANIZER;CN="Samantha Krezinski and Judith Blanchard":MAILTO:chariscircles@charisinterspirituality.org
END:VEVENT
BEGIN:VEVENT
DTSTART;TZID=America/Denver:20260405T170000
DTEND;TZID=America/Denver:20260405T183000
DTSTAMP:20260423T041539
CREATED:20250409T191411Z
LAST-MODIFIED:20250409T192537Z
UID:10001743-1775408400-1775413800@charisinterspirituality.org
SUMMARY:Charis Circle | Online | 1st and 3rd Sundays
DESCRIPTION:Offered on the 1st and 3rd Sundays of the month \nFacilitators: Ron Barnett and Deb Quinn \n4pm PT / 5pm MT / 6pm CT / 7pm ET \nDuration: 90 minutes
URL:https://charisinterspirituality.org/event/charis-circle-online-1st-and-3rd-sundays/2026-04-05/
LOCATION:Online | Zoom
CATEGORIES:Charis Circle,Online
ORGANIZER;CN="Ron Barnett and Deb Quinn":MAILTO:chariscircles@charisinterspirituality.org
END:VEVENT
BEGIN:VEVENT
DTSTART;TZID=America/Denver:20260406T180000
DTEND;TZID=America/Denver:20260406T200000
DTSTAMP:20260423T041539
CREATED:20250409T185920Z
LAST-MODIFIED:20250409T192537Z
UID:10001579-1775498400-1775505600@charisinterspirituality.org
SUMMARY:Charis Circle and Interspiritual Sacred Scripture Study | Online | 1st Monday of the month  
DESCRIPTION:Offered on the 1st Monday of the month \nFacilitator: Samantha Krezinski\, MA\, CYT \n5pm PT / 6pm MT / 7pm CT / 8pm ET \nDuratiion: 2 hours
URL:https://charisinterspirituality.org/event/charis-circle-and-interspiritual-sacred-scripture-study-online-1st-monday-of-the-month/2026-04-06/
LOCATION:Online | Zoom
CATEGORIES:Charis Circle,Online
ORGANIZER;CN="Samantha Krezinski":MAILTO:chariscircles@charisinterspirituality.org
END:VEVENT
BEGIN:VEVENT
DTSTART;TZID=America/Denver:20260503T170000
DTEND;TZID=America/Denver:20260503T183000
DTSTAMP:20260423T041539
CREATED:20250409T191411Z
LAST-MODIFIED:20250409T192537Z
UID:10001744-1777827600-1777833000@charisinterspirituality.org
SUMMARY:Charis Circle | Online | 1st and 3rd Sundays
DESCRIPTION:Offered on the 1st and 3rd Sundays of the month \nFacilitators: Ron Barnett and Deb Quinn \n4pm PT / 5pm MT / 6pm CT / 7pm ET \nDuration: 90 minutes
URL:https://charisinterspirituality.org/event/charis-circle-online-1st-and-3rd-sundays/2026-05-03/
LOCATION:Online | Zoom
CATEGORIES:Charis Circle,Online
ORGANIZER;CN="Ron Barnett and Deb Quinn":MAILTO:chariscircles@charisinterspirituality.org
END:VEVENT
BEGIN:VEVENT
DTSTART;TZID=America/Denver:20260504T180000
DTEND;TZID=America/Denver:20260504T200000
DTSTAMP:20260423T041539
CREATED:20250409T185920Z
LAST-MODIFIED:20250409T192537Z
UID:10001580-1777917600-1777924800@charisinterspirituality.org
SUMMARY:Charis Circle and Interspiritual Sacred Scripture Study | Online | 1st Monday of the month  
DESCRIPTION:Offered on the 1st Monday of the month \nFacilitator: Samantha Krezinski\, MA\, CYT \n5pm PT / 6pm MT / 7pm CT / 8pm ET \nDuratiion: 2 hours
URL:https://charisinterspirituality.org/event/charis-circle-and-interspiritual-sacred-scripture-study-online-1st-monday-of-the-month/2026-05-04/
LOCATION:Online | Zoom
CATEGORIES:Charis Circle,Online
ORGANIZER;CN="Samantha Krezinski":MAILTO:chariscircles@charisinterspirituality.org
END:VEVENT
BEGIN:VEVENT
DTSTART;TZID=America/Denver:20260506T170000
DTEND;TZID=America/Denver:20260506T183000
DTSTAMP:20260423T041539
CREATED:20250409T184901Z
LAST-MODIFIED:20250409T192537Z
UID:10000128-1778086800-1778092200@charisinterspirituality.org
SUMMARY:Charis Circle | Online | 1st and 3rd Wednesdays 
DESCRIPTION:Held on the 1st and 3rd Wednesdays of the month \nFacilitators: Samantha Krezinski and Judith Blanchard \n90 minutes \n4pm PT / 5pm MT / 6pm CT / 7pm ET \nContact chariscircles@charisinterspirituality.org for more information
URL:https://charisinterspirituality.org/event/charis-circle-online-1st-and-3rd-wednesdays/2026-05-06/
LOCATION:Online | Zoom
CATEGORIES:Charis Circle,Online
ORGANIZER;CN="Samantha Krezinski and Judith Blanchard":MAILTO:chariscircles@charisinterspirituality.org
END:VEVENT
BEGIN:VEVENT
DTSTART;TZID=America/Denver:20260601T180000
DTEND;TZID=America/Denver:20260601T200000
DTSTAMP:20260423T041539
CREATED:20250409T185920Z
LAST-MODIFIED:20250409T192537Z
UID:10001581-1780336800-1780344000@charisinterspirituality.org
SUMMARY:Charis Circle and Interspiritual Sacred Scripture Study | Online | 1st Monday of the month  
DESCRIPTION:Offered on the 1st Monday of the month \nFacilitator: Samantha Krezinski\, MA\, CYT \n5pm PT / 6pm MT / 7pm CT / 8pm ET \nDuratiion: 2 hours
URL:https://charisinterspirituality.org/event/charis-circle-and-interspiritual-sacred-scripture-study-online-1st-monday-of-the-month/2026-06-01/
LOCATION:Online | Zoom
CATEGORIES:Charis Circle,Online
ORGANIZER;CN="Samantha Krezinski":MAILTO:chariscircles@charisinterspirituality.org
END:VEVENT
BEGIN:VEVENT
DTSTART;TZID=America/Denver:20260603T170000
DTEND;TZID=America/Denver:20260603T183000
DTSTAMP:20260423T041539
CREATED:20250409T184901Z
LAST-MODIFIED:20250409T192537Z
UID:10000129-1780506000-1780511400@charisinterspirituality.org
SUMMARY:Charis Circle | Online | 1st and 3rd Wednesdays 
DESCRIPTION:Held on the 1st and 3rd Wednesdays of the month \nFacilitators: Samantha Krezinski and Judith Blanchard \n90 minutes \n4pm PT / 5pm MT / 6pm CT / 7pm ET \nContact chariscircles@charisinterspirituality.org for more information
URL:https://charisinterspirituality.org/event/charis-circle-online-1st-and-3rd-wednesdays/2026-06-03/
LOCATION:Online | Zoom
CATEGORIES:Charis Circle,Online
ORGANIZER;CN="Samantha Krezinski and Judith Blanchard":MAILTO:chariscircles@charisinterspirituality.org
END:VEVENT
END:VCALENDAR