BEGIN:VCALENDAR
VERSION:2.0
PRODID:-//Charis Foundation - ECPv6.15.20//NONSGML v1.0//EN
CALSCALE:GREGORIAN
METHOD:PUBLISH
X-ORIGINAL-URL:https://charisinterspirituality.org
X-WR-CALDESC:Events for Charis Foundation
REFRESH-INTERVAL;VALUE=DURATION:PT1H
X-Robots-Tag:noindex
X-PUBLISHED-TTL:PT1H
BEGIN:VTIMEZONE
TZID:America/Denver
BEGIN:DAYLIGHT
TZOFFSETFROM:-0700
TZOFFSETTO:-0600
TZNAME:MDT
DTSTART:20280312T090000
END:DAYLIGHT
BEGIN:STANDARD
TZOFFSETFROM:-0600
TZOFFSETTO:-0700
TZNAME:MST
DTSTART:20281105T080000
END:STANDARD
BEGIN:DAYLIGHT
TZOFFSETFROM:-0700
TZOFFSETTO:-0600
TZNAME:MDT
DTSTART:20290311T090000
END:DAYLIGHT
BEGIN:STANDARD
TZOFFSETFROM:-0600
TZOFFSETTO:-0700
TZNAME:MST
DTSTART:20291104T080000
END:STANDARD
BEGIN:DAYLIGHT
TZOFFSETFROM:-0700
TZOFFSETTO:-0600
TZNAME:MDT
DTSTART:20300310T090000
END:DAYLIGHT
BEGIN:STANDARD
TZOFFSETFROM:-0600
TZOFFSETTO:-0700
TZNAME:MST
DTSTART:20301103T080000
END:STANDARD
END:VTIMEZONE
BEGIN:VEVENT
DTSTART;TZID=America/Denver:20291101T090000
DTEND;TZID=America/Denver:20291101T100000
DTSTAMP:20260419T225012
CREATED:20250409T185335Z
LAST-MODIFIED:20250409T192537Z
UID:10001433-1888218000-1888221600@charisinterspirituality.org
SUMMARY:Charis Circles | In Person | Closed circles for inmates at a Colorado Jail 
DESCRIPTION:Closed circles offered for inmates at a Colorado Jail \n60-minute facilitation offered 5-6 times each week \nFacilitator: Lasette Brown\, MDiv \nTuesday through Saturday
URL:https://charisinterspirituality.org/event/charis-circles-in-person-closed-circles-for-inmates-at-a-colorado-jail/2029-11-01/
CATEGORIES:Charis Circle,In Person
ORGANIZER;CN="Lasette Brown":MAILTO:chariscircles@charisinterspirituality.org
END:VEVENT
BEGIN:VEVENT
DTSTART;TZID=America/Denver:20291102T090000
DTEND;TZID=America/Denver:20291102T100000
DTSTAMP:20260419T225012
CREATED:20250409T185335Z
LAST-MODIFIED:20250409T192537Z
UID:10001434-1888304400-1888308000@charisinterspirituality.org
SUMMARY:Charis Circles | In Person | Closed circles for inmates at a Colorado Jail 
DESCRIPTION:Closed circles offered for inmates at a Colorado Jail \n60-minute facilitation offered 5-6 times each week \nFacilitator: Lasette Brown\, MDiv \nTuesday through Saturday
URL:https://charisinterspirituality.org/event/charis-circles-in-person-closed-circles-for-inmates-at-a-colorado-jail/2029-11-02/
CATEGORIES:Charis Circle,In Person
ORGANIZER;CN="Lasette Brown":MAILTO:chariscircles@charisinterspirituality.org
END:VEVENT
BEGIN:VEVENT
DTSTART;TZID=America/Denver:20291103T090000
DTEND;TZID=America/Denver:20291103T100000
DTSTAMP:20260419T225012
CREATED:20250409T185335Z
LAST-MODIFIED:20250409T192537Z
UID:10001435-1888390800-1888394400@charisinterspirituality.org
SUMMARY:Charis Circles | In Person | Closed circles for inmates at a Colorado Jail 
DESCRIPTION:Closed circles offered for inmates at a Colorado Jail \n60-minute facilitation offered 5-6 times each week \nFacilitator: Lasette Brown\, MDiv \nTuesday through Saturday
URL:https://charisinterspirituality.org/event/charis-circles-in-person-closed-circles-for-inmates-at-a-colorado-jail/2029-11-03/
CATEGORIES:Charis Circle,In Person
ORGANIZER;CN="Lasette Brown":MAILTO:chariscircles@charisinterspirituality.org
END:VEVENT
BEGIN:VEVENT
DTSTART;TZID=America/Denver:20291103T090000
DTEND;TZID=America/Denver:20291103T100000
DTSTAMP:20260419T225012
CREATED:20250409T192222Z
LAST-MODIFIED:20250409T192537Z
UID:10001858-1888390800-1888394400@charisinterspirituality.org
SUMMARY:Charis Circle | In Person | Spring Branch\, Texas | 1st Saturday of the month
DESCRIPTION:Offered on the 1st Saturday of the month \nFacilitator: Sara Socha Berry \n10am – 11:30am CT \nDuration: 90 minutes \nLocation: Sophia’s Grove\, Spring Branch\, Texas
URL:https://charisinterspirituality.org/event/charis-circle-in-person-spring-branch-texas-1st-saturday-of-the-month/2029-11-03/
LOCATION:Sophia’s Grove\, Spring Branch\, Texas\, Spring Branch\, Texas\, United States
CATEGORIES:Charis Circle,In Person
ORGANIZER;CN="Sara Socha Berry":MAILTO:sara@sophiasgrove.org
END:VEVENT
BEGIN:VEVENT
DTSTART;TZID=America/Denver:20291104T170000
DTEND;TZID=America/Denver:20291104T183000
DTSTAMP:20260419T225012
CREATED:20250409T191411Z
LAST-MODIFIED:20250409T192537Z
UID:10001786-1888506000-1888511400@charisinterspirituality.org
SUMMARY:Charis Circle | Online | 1st and 3rd Sundays
DESCRIPTION:Offered on the 1st and 3rd Sundays of the month \nFacilitators: Ron Barnett and Deb Quinn \n4pm PT / 5pm MT / 6pm CT / 7pm ET \nDuration: 90 minutes
URL:https://charisinterspirituality.org/event/charis-circle-online-1st-and-3rd-sundays/2029-11-04/
LOCATION:Online | Zoom
CATEGORIES:Charis Circle,Online
ORGANIZER;CN="Ron Barnett and Deb Quinn":MAILTO:chariscircles@charisinterspirituality.org
END:VEVENT
BEGIN:VEVENT
DTSTART;TZID=America/Denver:20291105T073000
DTEND;TZID=America/Denver:20291105T090000
DTSTAMP:20260419T225012
CREATED:20250409T190813Z
LAST-MODIFIED:20250409T192537Z
UID:10001714-1888558200-1888563600@charisinterspirituality.org
SUMMARY:Charis Circle | In Person | Carbondale\, Colorado | 1st and 3rd Mondays
DESCRIPTION:Offered on the 1st and 3rd Mondays \nFacilitators: Judith Blanchard\, Deb Quinn\, and Jenny Adamson \n90 minutes \n7:30 – 9am MT
URL:https://charisinterspirituality.org/event/charis-circle-in-person-carbondale-colorado-1st-and-3rd-mondays/2029-11-05/
LOCATION:Carbondale\, Colorado\, Carbondale\, CO\, United States
CATEGORIES:Charis Circle,In Person
ORGANIZER;CN="Judith Blanchard%2C Deb Quinn%2C and Jenny Adamson":MAILTO:chariscircles@charisinterspirituality.org
END:VEVENT
BEGIN:VEVENT
DTSTART;TZID=America/Denver:20291105T180000
DTEND;TZID=America/Denver:20291105T200000
DTSTAMP:20260419T225012
CREATED:20250409T185920Z
LAST-MODIFIED:20250409T192537Z
UID:10001622-1888596000-1888603200@charisinterspirituality.org
SUMMARY:Charis Circle and Interspiritual Sacred Scripture Study | Online | 1st Monday of the month  
DESCRIPTION:Offered on the 1st Monday of the month \nFacilitator: Samantha Krezinski\, MA\, CYT \n5pm PT / 6pm MT / 7pm CT / 8pm ET \nDuratiion: 2 hours
URL:https://charisinterspirituality.org/event/charis-circle-and-interspiritual-sacred-scripture-study-online-1st-monday-of-the-month/2029-11-05/
LOCATION:Online | Zoom
CATEGORIES:Charis Circle,Online
ORGANIZER;CN="Samantha Krezinski":MAILTO:chariscircles@charisinterspirituality.org
END:VEVENT
BEGIN:VEVENT
DTSTART;TZID=America/Denver:20291106T090000
DTEND;TZID=America/Denver:20291106T100000
DTSTAMP:20260419T225012
CREATED:20250409T185335Z
LAST-MODIFIED:20250409T192537Z
UID:10001436-1888650000-1888653600@charisinterspirituality.org
SUMMARY:Charis Circles | In Person | Closed circles for inmates at a Colorado Jail 
DESCRIPTION:Closed circles offered for inmates at a Colorado Jail \n60-minute facilitation offered 5-6 times each week \nFacilitator: Lasette Brown\, MDiv \nTuesday through Saturday
URL:https://charisinterspirituality.org/event/charis-circles-in-person-closed-circles-for-inmates-at-a-colorado-jail/2029-11-06/
CATEGORIES:Charis Circle,In Person
ORGANIZER;CN="Lasette Brown":MAILTO:chariscircles@charisinterspirituality.org
END:VEVENT
BEGIN:VEVENT
DTSTART;TZID=America/Denver:20291107T090000
DTEND;TZID=America/Denver:20291107T100000
DTSTAMP:20260419T225012
CREATED:20250409T185335Z
LAST-MODIFIED:20250409T192537Z
UID:10001437-1888736400-1888740000@charisinterspirituality.org
SUMMARY:Charis Circles | In Person | Closed circles for inmates at a Colorado Jail 
DESCRIPTION:Closed circles offered for inmates at a Colorado Jail \n60-minute facilitation offered 5-6 times each week \nFacilitator: Lasette Brown\, MDiv \nTuesday through Saturday
URL:https://charisinterspirituality.org/event/charis-circles-in-person-closed-circles-for-inmates-at-a-colorado-jail/2029-11-07/
CATEGORIES:Charis Circle,In Person
ORGANIZER;CN="Lasette Brown":MAILTO:chariscircles@charisinterspirituality.org
END:VEVENT
BEGIN:VEVENT
DTSTART;TZID=America/Denver:20291107T170000
DTEND;TZID=America/Denver:20291107T183000
DTSTAMP:20260419T225012
CREATED:20250409T184901Z
LAST-MODIFIED:20250409T192537Z
UID:10000170-1888765200-1888770600@charisinterspirituality.org
SUMMARY:Charis Circle | Online | 1st and 3rd Wednesdays 
DESCRIPTION:Held on the 1st and 3rd Wednesdays of the month \nFacilitators: Samantha Krezinski and Judith Blanchard \n90 minutes \n4pm PT / 5pm MT / 6pm CT / 7pm ET \nContact chariscircles@charisinterspirituality.org for more information
URL:https://charisinterspirituality.org/event/charis-circle-online-1st-and-3rd-wednesdays/2029-11-07/
LOCATION:Online | Zoom
CATEGORIES:Charis Circle,Online
ORGANIZER;CN="Samantha Krezinski and Judith Blanchard":MAILTO:chariscircles@charisinterspirituality.org
END:VEVENT
BEGIN:VEVENT
DTSTART;TZID=America/Denver:20291108T090000
DTEND;TZID=America/Denver:20291108T100000
DTSTAMP:20260419T225012
CREATED:20250409T185335Z
LAST-MODIFIED:20250409T192537Z
UID:10001438-1888822800-1888826400@charisinterspirituality.org
SUMMARY:Charis Circles | In Person | Closed circles for inmates at a Colorado Jail 
DESCRIPTION:Closed circles offered for inmates at a Colorado Jail \n60-minute facilitation offered 5-6 times each week \nFacilitator: Lasette Brown\, MDiv \nTuesday through Saturday
URL:https://charisinterspirituality.org/event/charis-circles-in-person-closed-circles-for-inmates-at-a-colorado-jail/2029-11-08/
CATEGORIES:Charis Circle,In Person
ORGANIZER;CN="Lasette Brown":MAILTO:chariscircles@charisinterspirituality.org
END:VEVENT
BEGIN:VEVENT
DTSTART;TZID=America/Denver:20291109T090000
DTEND;TZID=America/Denver:20291109T100000
DTSTAMP:20260419T225012
CREATED:20250409T185335Z
LAST-MODIFIED:20250409T192537Z
UID:10001439-1888909200-1888912800@charisinterspirituality.org
SUMMARY:Charis Circles | In Person | Closed circles for inmates at a Colorado Jail 
DESCRIPTION:Closed circles offered for inmates at a Colorado Jail \n60-minute facilitation offered 5-6 times each week \nFacilitator: Lasette Brown\, MDiv \nTuesday through Saturday
URL:https://charisinterspirituality.org/event/charis-circles-in-person-closed-circles-for-inmates-at-a-colorado-jail/2029-11-09/
CATEGORIES:Charis Circle,In Person
ORGANIZER;CN="Lasette Brown":MAILTO:chariscircles@charisinterspirituality.org
END:VEVENT
BEGIN:VEVENT
DTSTART;TZID=America/Denver:20291110T090000
DTEND;TZID=America/Denver:20291110T100000
DTSTAMP:20260419T225012
CREATED:20250409T185335Z
LAST-MODIFIED:20250409T192537Z
UID:10001440-1888995600-1888999200@charisinterspirituality.org
SUMMARY:Charis Circles | In Person | Closed circles for inmates at a Colorado Jail 
DESCRIPTION:Closed circles offered for inmates at a Colorado Jail \n60-minute facilitation offered 5-6 times each week \nFacilitator: Lasette Brown\, MDiv \nTuesday through Saturday
URL:https://charisinterspirituality.org/event/charis-circles-in-person-closed-circles-for-inmates-at-a-colorado-jail/2029-11-10/
CATEGORIES:Charis Circle,In Person
ORGANIZER;CN="Lasette Brown":MAILTO:chariscircles@charisinterspirituality.org
END:VEVENT
BEGIN:VEVENT
DTSTART;TZID=America/Denver:20291113T090000
DTEND;TZID=America/Denver:20291113T100000
DTSTAMP:20260419T225012
CREATED:20250409T185335Z
LAST-MODIFIED:20250409T192537Z
UID:10001441-1889254800-1889258400@charisinterspirituality.org
SUMMARY:Charis Circles | In Person | Closed circles for inmates at a Colorado Jail 
DESCRIPTION:Closed circles offered for inmates at a Colorado Jail \n60-minute facilitation offered 5-6 times each week \nFacilitator: Lasette Brown\, MDiv \nTuesday through Saturday
URL:https://charisinterspirituality.org/event/charis-circles-in-person-closed-circles-for-inmates-at-a-colorado-jail/2029-11-13/
CATEGORIES:Charis Circle,In Person
ORGANIZER;CN="Lasette Brown":MAILTO:chariscircles@charisinterspirituality.org
END:VEVENT
BEGIN:VEVENT
DTSTART;TZID=America/Denver:20291114T090000
DTEND;TZID=America/Denver:20291114T100000
DTSTAMP:20260419T225012
CREATED:20250409T185335Z
LAST-MODIFIED:20250409T192537Z
UID:10001442-1889341200-1889344800@charisinterspirituality.org
SUMMARY:Charis Circles | In Person | Closed circles for inmates at a Colorado Jail 
DESCRIPTION:Closed circles offered for inmates at a Colorado Jail \n60-minute facilitation offered 5-6 times each week \nFacilitator: Lasette Brown\, MDiv \nTuesday through Saturday
URL:https://charisinterspirituality.org/event/charis-circles-in-person-closed-circles-for-inmates-at-a-colorado-jail/2029-11-14/
CATEGORIES:Charis Circle,In Person
ORGANIZER;CN="Lasette Brown":MAILTO:chariscircles@charisinterspirituality.org
END:VEVENT
BEGIN:VEVENT
DTSTART;TZID=America/Denver:20291115T090000
DTEND;TZID=America/Denver:20291115T100000
DTSTAMP:20260419T225012
CREATED:20250409T185335Z
LAST-MODIFIED:20250409T192537Z
UID:10001443-1889427600-1889431200@charisinterspirituality.org
SUMMARY:Charis Circles | In Person | Closed circles for inmates at a Colorado Jail 
DESCRIPTION:Closed circles offered for inmates at a Colorado Jail \n60-minute facilitation offered 5-6 times each week \nFacilitator: Lasette Brown\, MDiv \nTuesday through Saturday
URL:https://charisinterspirituality.org/event/charis-circles-in-person-closed-circles-for-inmates-at-a-colorado-jail/2029-11-15/
CATEGORIES:Charis Circle,In Person
ORGANIZER;CN="Lasette Brown":MAILTO:chariscircles@charisinterspirituality.org
END:VEVENT
BEGIN:VEVENT
DTSTART;TZID=America/Denver:20291116T090000
DTEND;TZID=America/Denver:20291116T100000
DTSTAMP:20260419T225012
CREATED:20250409T185335Z
LAST-MODIFIED:20250409T192537Z
UID:10001444-1889514000-1889517600@charisinterspirituality.org
SUMMARY:Charis Circles | In Person | Closed circles for inmates at a Colorado Jail 
DESCRIPTION:Closed circles offered for inmates at a Colorado Jail \n60-minute facilitation offered 5-6 times each week \nFacilitator: Lasette Brown\, MDiv \nTuesday through Saturday
URL:https://charisinterspirituality.org/event/charis-circles-in-person-closed-circles-for-inmates-at-a-colorado-jail/2029-11-16/
CATEGORIES:Charis Circle,In Person
ORGANIZER;CN="Lasette Brown":MAILTO:chariscircles@charisinterspirituality.org
END:VEVENT
BEGIN:VEVENT
DTSTART;TZID=America/Denver:20291117T090000
DTEND;TZID=America/Denver:20291117T100000
DTSTAMP:20260419T225012
CREATED:20250409T185335Z
LAST-MODIFIED:20250409T192537Z
UID:10001445-1889600400-1889604000@charisinterspirituality.org
SUMMARY:Charis Circles | In Person | Closed circles for inmates at a Colorado Jail 
DESCRIPTION:Closed circles offered for inmates at a Colorado Jail \n60-minute facilitation offered 5-6 times each week \nFacilitator: Lasette Brown\, MDiv \nTuesday through Saturday
URL:https://charisinterspirituality.org/event/charis-circles-in-person-closed-circles-for-inmates-at-a-colorado-jail/2029-11-17/
CATEGORIES:Charis Circle,In Person
ORGANIZER;CN="Lasette Brown":MAILTO:chariscircles@charisinterspirituality.org
END:VEVENT
BEGIN:VEVENT
DTSTART;TZID=America/Denver:20291120T090000
DTEND;TZID=America/Denver:20291120T100000
DTSTAMP:20260419T225012
CREATED:20250409T185335Z
LAST-MODIFIED:20250409T192537Z
UID:10001446-1889859600-1889863200@charisinterspirituality.org
SUMMARY:Charis Circles | In Person | Closed circles for inmates at a Colorado Jail 
DESCRIPTION:Closed circles offered for inmates at a Colorado Jail \n60-minute facilitation offered 5-6 times each week \nFacilitator: Lasette Brown\, MDiv \nTuesday through Saturday
URL:https://charisinterspirituality.org/event/charis-circles-in-person-closed-circles-for-inmates-at-a-colorado-jail/2029-11-20/
CATEGORIES:Charis Circle,In Person
ORGANIZER;CN="Lasette Brown":MAILTO:chariscircles@charisinterspirituality.org
END:VEVENT
BEGIN:VEVENT
DTSTART;TZID=America/Denver:20291121T090000
DTEND;TZID=America/Denver:20291121T100000
DTSTAMP:20260419T225012
CREATED:20250409T185335Z
LAST-MODIFIED:20250409T192537Z
UID:10001447-1889946000-1889949600@charisinterspirituality.org
SUMMARY:Charis Circles | In Person | Closed circles for inmates at a Colorado Jail 
DESCRIPTION:Closed circles offered for inmates at a Colorado Jail \n60-minute facilitation offered 5-6 times each week \nFacilitator: Lasette Brown\, MDiv \nTuesday through Saturday
URL:https://charisinterspirituality.org/event/charis-circles-in-person-closed-circles-for-inmates-at-a-colorado-jail/2029-11-21/
CATEGORIES:Charis Circle,In Person
ORGANIZER;CN="Lasette Brown":MAILTO:chariscircles@charisinterspirituality.org
END:VEVENT
BEGIN:VEVENT
DTSTART;TZID=America/Denver:20291122T090000
DTEND;TZID=America/Denver:20291122T100000
DTSTAMP:20260419T225012
CREATED:20250409T185335Z
LAST-MODIFIED:20250409T192537Z
UID:10001448-1890032400-1890036000@charisinterspirituality.org
SUMMARY:Charis Circles | In Person | Closed circles for inmates at a Colorado Jail 
DESCRIPTION:Closed circles offered for inmates at a Colorado Jail \n60-minute facilitation offered 5-6 times each week \nFacilitator: Lasette Brown\, MDiv \nTuesday through Saturday
URL:https://charisinterspirituality.org/event/charis-circles-in-person-closed-circles-for-inmates-at-a-colorado-jail/2029-11-22/
CATEGORIES:Charis Circle,In Person
ORGANIZER;CN="Lasette Brown":MAILTO:chariscircles@charisinterspirituality.org
END:VEVENT
BEGIN:VEVENT
DTSTART;TZID=America/Denver:20291123T090000
DTEND;TZID=America/Denver:20291123T100000
DTSTAMP:20260419T225012
CREATED:20250409T185335Z
LAST-MODIFIED:20250409T192537Z
UID:10001449-1890118800-1890122400@charisinterspirituality.org
SUMMARY:Charis Circles | In Person | Closed circles for inmates at a Colorado Jail 
DESCRIPTION:Closed circles offered for inmates at a Colorado Jail \n60-minute facilitation offered 5-6 times each week \nFacilitator: Lasette Brown\, MDiv \nTuesday through Saturday
URL:https://charisinterspirituality.org/event/charis-circles-in-person-closed-circles-for-inmates-at-a-colorado-jail/2029-11-23/
CATEGORIES:Charis Circle,In Person
ORGANIZER;CN="Lasette Brown":MAILTO:chariscircles@charisinterspirituality.org
END:VEVENT
BEGIN:VEVENT
DTSTART;TZID=America/Denver:20291124T090000
DTEND;TZID=America/Denver:20291124T100000
DTSTAMP:20260419T225012
CREATED:20250409T185335Z
LAST-MODIFIED:20250409T192537Z
UID:10001450-1890205200-1890208800@charisinterspirituality.org
SUMMARY:Charis Circles | In Person | Closed circles for inmates at a Colorado Jail 
DESCRIPTION:Closed circles offered for inmates at a Colorado Jail \n60-minute facilitation offered 5-6 times each week \nFacilitator: Lasette Brown\, MDiv \nTuesday through Saturday
URL:https://charisinterspirituality.org/event/charis-circles-in-person-closed-circles-for-inmates-at-a-colorado-jail/2029-11-24/
CATEGORIES:Charis Circle,In Person
ORGANIZER;CN="Lasette Brown":MAILTO:chariscircles@charisinterspirituality.org
END:VEVENT
BEGIN:VEVENT
DTSTART;TZID=America/Denver:20291127T090000
DTEND;TZID=America/Denver:20291127T100000
DTSTAMP:20260419T225012
CREATED:20250409T185335Z
LAST-MODIFIED:20250409T192537Z
UID:10001451-1890464400-1890468000@charisinterspirituality.org
SUMMARY:Charis Circles | In Person | Closed circles for inmates at a Colorado Jail 
DESCRIPTION:Closed circles offered for inmates at a Colorado Jail \n60-minute facilitation offered 5-6 times each week \nFacilitator: Lasette Brown\, MDiv \nTuesday through Saturday
URL:https://charisinterspirituality.org/event/charis-circles-in-person-closed-circles-for-inmates-at-a-colorado-jail/2029-11-27/
CATEGORIES:Charis Circle,In Person
ORGANIZER;CN="Lasette Brown":MAILTO:chariscircles@charisinterspirituality.org
END:VEVENT
BEGIN:VEVENT
DTSTART;TZID=America/Denver:20291128T090000
DTEND;TZID=America/Denver:20291128T100000
DTSTAMP:20260419T225012
CREATED:20250409T185335Z
LAST-MODIFIED:20250409T192537Z
UID:10001452-1890550800-1890554400@charisinterspirituality.org
SUMMARY:Charis Circles | In Person | Closed circles for inmates at a Colorado Jail 
DESCRIPTION:Closed circles offered for inmates at a Colorado Jail \n60-minute facilitation offered 5-6 times each week \nFacilitator: Lasette Brown\, MDiv \nTuesday through Saturday
URL:https://charisinterspirituality.org/event/charis-circles-in-person-closed-circles-for-inmates-at-a-colorado-jail/2029-11-28/
CATEGORIES:Charis Circle,In Person
ORGANIZER;CN="Lasette Brown":MAILTO:chariscircles@charisinterspirituality.org
END:VEVENT
BEGIN:VEVENT
DTSTART;TZID=America/Denver:20291129T090000
DTEND;TZID=America/Denver:20291129T100000
DTSTAMP:20260419T225012
CREATED:20250409T185335Z
LAST-MODIFIED:20250409T192537Z
UID:10001453-1890637200-1890640800@charisinterspirituality.org
SUMMARY:Charis Circles | In Person | Closed circles for inmates at a Colorado Jail 
DESCRIPTION:Closed circles offered for inmates at a Colorado Jail \n60-minute facilitation offered 5-6 times each week \nFacilitator: Lasette Brown\, MDiv \nTuesday through Saturday
URL:https://charisinterspirituality.org/event/charis-circles-in-person-closed-circles-for-inmates-at-a-colorado-jail/2029-11-29/
CATEGORIES:Charis Circle,In Person
ORGANIZER;CN="Lasette Brown":MAILTO:chariscircles@charisinterspirituality.org
END:VEVENT
BEGIN:VEVENT
DTSTART;TZID=America/Denver:20291130T090000
DTEND;TZID=America/Denver:20291130T100000
DTSTAMP:20260419T225012
CREATED:20250409T185335Z
LAST-MODIFIED:20250409T192537Z
UID:10001454-1890723600-1890727200@charisinterspirituality.org
SUMMARY:Charis Circles | In Person | Closed circles for inmates at a Colorado Jail 
DESCRIPTION:Closed circles offered for inmates at a Colorado Jail \n60-minute facilitation offered 5-6 times each week \nFacilitator: Lasette Brown\, MDiv \nTuesday through Saturday
URL:https://charisinterspirituality.org/event/charis-circles-in-person-closed-circles-for-inmates-at-a-colorado-jail/2029-11-30/
CATEGORIES:Charis Circle,In Person
ORGANIZER;CN="Lasette Brown":MAILTO:chariscircles@charisinterspirituality.org
END:VEVENT
BEGIN:VEVENT
DTSTART;TZID=America/Denver:20291201T090000
DTEND;TZID=America/Denver:20291201T100000
DTSTAMP:20260419T225012
CREATED:20250409T185335Z
LAST-MODIFIED:20250409T192537Z
UID:10001455-1890810000-1890813600@charisinterspirituality.org
SUMMARY:Charis Circles | In Person | Closed circles for inmates at a Colorado Jail 
DESCRIPTION:Closed circles offered for inmates at a Colorado Jail \n60-minute facilitation offered 5-6 times each week \nFacilitator: Lasette Brown\, MDiv \nTuesday through Saturday
URL:https://charisinterspirituality.org/event/charis-circles-in-person-closed-circles-for-inmates-at-a-colorado-jail/2029-12-01/
CATEGORIES:Charis Circle,In Person
ORGANIZER;CN="Lasette Brown":MAILTO:chariscircles@charisinterspirituality.org
END:VEVENT
BEGIN:VEVENT
DTSTART;TZID=America/Denver:20291201T090000
DTEND;TZID=America/Denver:20291201T100000
DTSTAMP:20260419T225012
CREATED:20250409T192222Z
LAST-MODIFIED:20250409T192537Z
UID:10001859-1890810000-1890813600@charisinterspirituality.org
SUMMARY:Charis Circle | In Person | Spring Branch\, Texas | 1st Saturday of the month
DESCRIPTION:Offered on the 1st Saturday of the month \nFacilitator: Sara Socha Berry \n10am – 11:30am CT \nDuration: 90 minutes \nLocation: Sophia’s Grove\, Spring Branch\, Texas
URL:https://charisinterspirituality.org/event/charis-circle-in-person-spring-branch-texas-1st-saturday-of-the-month/2029-12-01/
LOCATION:Sophia’s Grove\, Spring Branch\, Texas\, Spring Branch\, Texas\, United States
CATEGORIES:Charis Circle,In Person
ORGANIZER;CN="Sara Socha Berry":MAILTO:sara@sophiasgrove.org
END:VEVENT
BEGIN:VEVENT
DTSTART;TZID=America/Denver:20291202T170000
DTEND;TZID=America/Denver:20291202T183000
DTSTAMP:20260419T225012
CREATED:20250409T191411Z
LAST-MODIFIED:20250409T192537Z
UID:10001787-1890925200-1890930600@charisinterspirituality.org
SUMMARY:Charis Circle | Online | 1st and 3rd Sundays
DESCRIPTION:Offered on the 1st and 3rd Sundays of the month \nFacilitators: Ron Barnett and Deb Quinn \n4pm PT / 5pm MT / 6pm CT / 7pm ET \nDuration: 90 minutes
URL:https://charisinterspirituality.org/event/charis-circle-online-1st-and-3rd-sundays/2029-12-02/
LOCATION:Online | Zoom
CATEGORIES:Charis Circle,Online
ORGANIZER;CN="Ron Barnett and Deb Quinn":MAILTO:chariscircles@charisinterspirituality.org
END:VEVENT
END:VCALENDAR