BEGIN:VCALENDAR
VERSION:2.0
PRODID:-//Charis Foundation - ECPv6.15.20//NONSGML v1.0//EN
CALSCALE:GREGORIAN
METHOD:PUBLISH
X-ORIGINAL-URL:https://charisinterspirituality.org
X-WR-CALDESC:Events for Charis Foundation
REFRESH-INTERVAL;VALUE=DURATION:PT1H
X-Robots-Tag:noindex
X-PUBLISHED-TTL:PT1H
BEGIN:VTIMEZONE
TZID:America/Denver
BEGIN:DAYLIGHT
TZOFFSETFROM:-0700
TZOFFSETTO:-0600
TZNAME:MDT
DTSTART:20250309T090000
END:DAYLIGHT
BEGIN:STANDARD
TZOFFSETFROM:-0600
TZOFFSETTO:-0700
TZNAME:MST
DTSTART:20251102T080000
END:STANDARD
BEGIN:DAYLIGHT
TZOFFSETFROM:-0700
TZOFFSETTO:-0600
TZNAME:MDT
DTSTART:20260308T090000
END:DAYLIGHT
BEGIN:STANDARD
TZOFFSETFROM:-0600
TZOFFSETTO:-0700
TZNAME:MST
DTSTART:20261101T080000
END:STANDARD
BEGIN:DAYLIGHT
TZOFFSETFROM:-0700
TZOFFSETTO:-0600
TZNAME:MDT
DTSTART:20270314T090000
END:DAYLIGHT
BEGIN:STANDARD
TZOFFSETFROM:-0600
TZOFFSETTO:-0700
TZNAME:MST
DTSTART:20271107T080000
END:STANDARD
BEGIN:DAYLIGHT
TZOFFSETFROM:-0700
TZOFFSETTO:-0600
TZNAME:MDT
DTSTART:20280312T090000
END:DAYLIGHT
BEGIN:STANDARD
TZOFFSETFROM:-0600
TZOFFSETTO:-0700
TZNAME:MST
DTSTART:20281105T080000
END:STANDARD
END:VTIMEZONE
BEGIN:VEVENT
DTSTART;TZID=America/Denver:20260504T073000
DTEND;TZID=America/Denver:20260504T090000
DTSTAMP:20260424T050944
CREATED:20250409T190813Z
LAST-MODIFIED:20250409T192537Z
UID:10001672-1777879800-1777885200@charisinterspirituality.org
SUMMARY:Charis Circle | In Person | Carbondale\, Colorado | 1st and 3rd Mondays
DESCRIPTION:Offered on the 1st and 3rd Mondays \nFacilitators: Judith Blanchard\, Deb Quinn\, and Jenny Adamson \n90 minutes \n7:30 – 9am MT
URL:https://charisinterspirituality.org/event/charis-circle-in-person-carbondale-colorado-1st-and-3rd-mondays/2026-05-04/
LOCATION:Carbondale\, Colorado\, Carbondale\, CO\, United States
CATEGORIES:Charis Circle,In Person
ORGANIZER;CN="Judith Blanchard%2C Deb Quinn%2C and Jenny Adamson":MAILTO:chariscircles@charisinterspirituality.org
END:VEVENT
BEGIN:VEVENT
DTSTART;TZID=America/Denver:20260506T170000
DTEND;TZID=America/Denver:20260506T183000
DTSTAMP:20260424T050944
CREATED:20250409T184901Z
LAST-MODIFIED:20250409T192537Z
UID:10000128-1778086800-1778092200@charisinterspirituality.org
SUMMARY:Charis Circle | Online | 1st and 3rd Wednesdays 
DESCRIPTION:Held on the 1st and 3rd Wednesdays of the month \nFacilitators: Samantha Krezinski and Judith Blanchard \n90 minutes \n4pm PT / 5pm MT / 6pm CT / 7pm ET \nContact chariscircles@charisinterspirituality.org for more information
URL:https://charisinterspirituality.org/event/charis-circle-online-1st-and-3rd-wednesdays/2026-05-06/
LOCATION:Online | Zoom
CATEGORIES:Charis Circle,Online
ORGANIZER;CN="Samantha Krezinski and Judith Blanchard":MAILTO:chariscircles@charisinterspirituality.org
END:VEVENT
BEGIN:VEVENT
DTSTART;TZID=America/Denver:20260601T073000
DTEND;TZID=America/Denver:20260601T090000
DTSTAMP:20260424T050944
CREATED:20250409T190813Z
LAST-MODIFIED:20250409T192537Z
UID:10001673-1780299000-1780304400@charisinterspirituality.org
SUMMARY:Charis Circle | In Person | Carbondale\, Colorado | 1st and 3rd Mondays
DESCRIPTION:Offered on the 1st and 3rd Mondays \nFacilitators: Judith Blanchard\, Deb Quinn\, and Jenny Adamson \n90 minutes \n7:30 – 9am MT
URL:https://charisinterspirituality.org/event/charis-circle-in-person-carbondale-colorado-1st-and-3rd-mondays/2026-06-01/
LOCATION:Carbondale\, Colorado\, Carbondale\, CO\, United States
CATEGORIES:Charis Circle,In Person
ORGANIZER;CN="Judith Blanchard%2C Deb Quinn%2C and Jenny Adamson":MAILTO:chariscircles@charisinterspirituality.org
END:VEVENT
BEGIN:VEVENT
DTSTART;TZID=America/Denver:20260603T170000
DTEND;TZID=America/Denver:20260603T183000
DTSTAMP:20260424T050944
CREATED:20250409T184901Z
LAST-MODIFIED:20250409T192537Z
UID:10000129-1780506000-1780511400@charisinterspirituality.org
SUMMARY:Charis Circle | Online | 1st and 3rd Wednesdays 
DESCRIPTION:Held on the 1st and 3rd Wednesdays of the month \nFacilitators: Samantha Krezinski and Judith Blanchard \n90 minutes \n4pm PT / 5pm MT / 6pm CT / 7pm ET \nContact chariscircles@charisinterspirituality.org for more information
URL:https://charisinterspirituality.org/event/charis-circle-online-1st-and-3rd-wednesdays/2026-06-03/
LOCATION:Online | Zoom
CATEGORIES:Charis Circle,Online
ORGANIZER;CN="Samantha Krezinski and Judith Blanchard":MAILTO:chariscircles@charisinterspirituality.org
END:VEVENT
BEGIN:VEVENT
DTSTART;TZID=America/Denver:20260701T170000
DTEND;TZID=America/Denver:20260701T183000
DTSTAMP:20260424T050944
CREATED:20250409T184901Z
LAST-MODIFIED:20250409T192537Z
UID:10000130-1782925200-1782930600@charisinterspirituality.org
SUMMARY:Charis Circle | Online | 1st and 3rd Wednesdays 
DESCRIPTION:Held on the 1st and 3rd Wednesdays of the month \nFacilitators: Samantha Krezinski and Judith Blanchard \n90 minutes \n4pm PT / 5pm MT / 6pm CT / 7pm ET \nContact chariscircles@charisinterspirituality.org for more information
URL:https://charisinterspirituality.org/event/charis-circle-online-1st-and-3rd-wednesdays/2026-07-01/
LOCATION:Online | Zoom
CATEGORIES:Charis Circle,Online
ORGANIZER;CN="Samantha Krezinski and Judith Blanchard":MAILTO:chariscircles@charisinterspirituality.org
END:VEVENT
BEGIN:VEVENT
DTSTART;TZID=America/Denver:20260706T073000
DTEND;TZID=America/Denver:20260706T090000
DTSTAMP:20260424T050944
CREATED:20250409T190813Z
LAST-MODIFIED:20250409T192537Z
UID:10001674-1783323000-1783328400@charisinterspirituality.org
SUMMARY:Charis Circle | In Person | Carbondale\, Colorado | 1st and 3rd Mondays
DESCRIPTION:Offered on the 1st and 3rd Mondays \nFacilitators: Judith Blanchard\, Deb Quinn\, and Jenny Adamson \n90 minutes \n7:30 – 9am MT
URL:https://charisinterspirituality.org/event/charis-circle-in-person-carbondale-colorado-1st-and-3rd-mondays/2026-07-06/
LOCATION:Carbondale\, Colorado\, Carbondale\, CO\, United States
CATEGORIES:Charis Circle,In Person
ORGANIZER;CN="Judith Blanchard%2C Deb Quinn%2C and Jenny Adamson":MAILTO:chariscircles@charisinterspirituality.org
END:VEVENT
BEGIN:VEVENT
DTSTART;TZID=America/Denver:20260803T073000
DTEND;TZID=America/Denver:20260803T090000
DTSTAMP:20260424T050944
CREATED:20250409T190813Z
LAST-MODIFIED:20250409T192537Z
UID:10001675-1785742200-1785747600@charisinterspirituality.org
SUMMARY:Charis Circle | In Person | Carbondale\, Colorado | 1st and 3rd Mondays
DESCRIPTION:Offered on the 1st and 3rd Mondays \nFacilitators: Judith Blanchard\, Deb Quinn\, and Jenny Adamson \n90 minutes \n7:30 – 9am MT
URL:https://charisinterspirituality.org/event/charis-circle-in-person-carbondale-colorado-1st-and-3rd-mondays/2026-08-03/
LOCATION:Carbondale\, Colorado\, Carbondale\, CO\, United States
CATEGORIES:Charis Circle,In Person
ORGANIZER;CN="Judith Blanchard%2C Deb Quinn%2C and Jenny Adamson":MAILTO:chariscircles@charisinterspirituality.org
END:VEVENT
BEGIN:VEVENT
DTSTART;TZID=America/Denver:20260805T170000
DTEND;TZID=America/Denver:20260805T183000
DTSTAMP:20260424T050944
CREATED:20250409T184901Z
LAST-MODIFIED:20250409T192537Z
UID:10000131-1785949200-1785954600@charisinterspirituality.org
SUMMARY:Charis Circle | Online | 1st and 3rd Wednesdays 
DESCRIPTION:Held on the 1st and 3rd Wednesdays of the month \nFacilitators: Samantha Krezinski and Judith Blanchard \n90 minutes \n4pm PT / 5pm MT / 6pm CT / 7pm ET \nContact chariscircles@charisinterspirituality.org for more information
URL:https://charisinterspirituality.org/event/charis-circle-online-1st-and-3rd-wednesdays/2026-08-05/
LOCATION:Online | Zoom
CATEGORIES:Charis Circle,Online
ORGANIZER;CN="Samantha Krezinski and Judith Blanchard":MAILTO:chariscircles@charisinterspirituality.org
END:VEVENT
BEGIN:VEVENT
DTSTART;TZID=America/Denver:20260902T170000
DTEND;TZID=America/Denver:20260902T183000
DTSTAMP:20260424T050944
CREATED:20250409T184901Z
LAST-MODIFIED:20250409T192537Z
UID:10000132-1788368400-1788373800@charisinterspirituality.org
SUMMARY:Charis Circle | Online | 1st and 3rd Wednesdays 
DESCRIPTION:Held on the 1st and 3rd Wednesdays of the month \nFacilitators: Samantha Krezinski and Judith Blanchard \n90 minutes \n4pm PT / 5pm MT / 6pm CT / 7pm ET \nContact chariscircles@charisinterspirituality.org for more information
URL:https://charisinterspirituality.org/event/charis-circle-online-1st-and-3rd-wednesdays/2026-09-02/
LOCATION:Online | Zoom
CATEGORIES:Charis Circle,Online
ORGANIZER;CN="Samantha Krezinski and Judith Blanchard":MAILTO:chariscircles@charisinterspirituality.org
END:VEVENT
BEGIN:VEVENT
DTSTART;TZID=America/Denver:20260907T073000
DTEND;TZID=America/Denver:20260907T090000
DTSTAMP:20260424T050944
CREATED:20250409T190813Z
LAST-MODIFIED:20250409T192537Z
UID:10001676-1788766200-1788771600@charisinterspirituality.org
SUMMARY:Charis Circle | In Person | Carbondale\, Colorado | 1st and 3rd Mondays
DESCRIPTION:Offered on the 1st and 3rd Mondays \nFacilitators: Judith Blanchard\, Deb Quinn\, and Jenny Adamson \n90 minutes \n7:30 – 9am MT
URL:https://charisinterspirituality.org/event/charis-circle-in-person-carbondale-colorado-1st-and-3rd-mondays/2026-09-07/
LOCATION:Carbondale\, Colorado\, Carbondale\, CO\, United States
CATEGORIES:Charis Circle,In Person
ORGANIZER;CN="Judith Blanchard%2C Deb Quinn%2C and Jenny Adamson":MAILTO:chariscircles@charisinterspirituality.org
END:VEVENT
BEGIN:VEVENT
DTSTART;TZID=America/Denver:20261005T073000
DTEND;TZID=America/Denver:20261005T090000
DTSTAMP:20260424T050944
CREATED:20250409T190813Z
LAST-MODIFIED:20250409T192537Z
UID:10001677-1791185400-1791190800@charisinterspirituality.org
SUMMARY:Charis Circle | In Person | Carbondale\, Colorado | 1st and 3rd Mondays
DESCRIPTION:Offered on the 1st and 3rd Mondays \nFacilitators: Judith Blanchard\, Deb Quinn\, and Jenny Adamson \n90 minutes \n7:30 – 9am MT
URL:https://charisinterspirituality.org/event/charis-circle-in-person-carbondale-colorado-1st-and-3rd-mondays/2026-10-05/
LOCATION:Carbondale\, Colorado\, Carbondale\, CO\, United States
CATEGORIES:Charis Circle,In Person
ORGANIZER;CN="Judith Blanchard%2C Deb Quinn%2C and Jenny Adamson":MAILTO:chariscircles@charisinterspirituality.org
END:VEVENT
BEGIN:VEVENT
DTSTART;TZID=America/Denver:20261007T170000
DTEND;TZID=America/Denver:20261007T183000
DTSTAMP:20260424T050944
CREATED:20250409T184901Z
LAST-MODIFIED:20250409T192537Z
UID:10000133-1791392400-1791397800@charisinterspirituality.org
SUMMARY:Charis Circle | Online | 1st and 3rd Wednesdays 
DESCRIPTION:Held on the 1st and 3rd Wednesdays of the month \nFacilitators: Samantha Krezinski and Judith Blanchard \n90 minutes \n4pm PT / 5pm MT / 6pm CT / 7pm ET \nContact chariscircles@charisinterspirituality.org for more information
URL:https://charisinterspirituality.org/event/charis-circle-online-1st-and-3rd-wednesdays/2026-10-07/
LOCATION:Online | Zoom
CATEGORIES:Charis Circle,Online
ORGANIZER;CN="Samantha Krezinski and Judith Blanchard":MAILTO:chariscircles@charisinterspirituality.org
END:VEVENT
BEGIN:VEVENT
DTSTART;TZID=America/Denver:20261102T073000
DTEND;TZID=America/Denver:20261102T090000
DTSTAMP:20260424T050944
CREATED:20250409T190813Z
LAST-MODIFIED:20250409T192537Z
UID:10001678-1793604600-1793610000@charisinterspirituality.org
SUMMARY:Charis Circle | In Person | Carbondale\, Colorado | 1st and 3rd Mondays
DESCRIPTION:Offered on the 1st and 3rd Mondays \nFacilitators: Judith Blanchard\, Deb Quinn\, and Jenny Adamson \n90 minutes \n7:30 – 9am MT
URL:https://charisinterspirituality.org/event/charis-circle-in-person-carbondale-colorado-1st-and-3rd-mondays/2026-11-02/
LOCATION:Carbondale\, Colorado\, Carbondale\, CO\, United States
CATEGORIES:Charis Circle,In Person
ORGANIZER;CN="Judith Blanchard%2C Deb Quinn%2C and Jenny Adamson":MAILTO:chariscircles@charisinterspirituality.org
END:VEVENT
BEGIN:VEVENT
DTSTART;TZID=America/Denver:20261104T170000
DTEND;TZID=America/Denver:20261104T183000
DTSTAMP:20260424T050944
CREATED:20250409T184901Z
LAST-MODIFIED:20250409T192537Z
UID:10000134-1793811600-1793817000@charisinterspirituality.org
SUMMARY:Charis Circle | Online | 1st and 3rd Wednesdays 
DESCRIPTION:Held on the 1st and 3rd Wednesdays of the month \nFacilitators: Samantha Krezinski and Judith Blanchard \n90 minutes \n4pm PT / 5pm MT / 6pm CT / 7pm ET \nContact chariscircles@charisinterspirituality.org for more information
URL:https://charisinterspirituality.org/event/charis-circle-online-1st-and-3rd-wednesdays/2026-11-04/
LOCATION:Online | Zoom
CATEGORIES:Charis Circle,Online
ORGANIZER;CN="Samantha Krezinski and Judith Blanchard":MAILTO:chariscircles@charisinterspirituality.org
END:VEVENT
BEGIN:VEVENT
DTSTART;TZID=America/Denver:20261202T170000
DTEND;TZID=America/Denver:20261202T183000
DTSTAMP:20260424T050944
CREATED:20250409T184901Z
LAST-MODIFIED:20250409T192537Z
UID:10000135-1796230800-1796236200@charisinterspirituality.org
SUMMARY:Charis Circle | Online | 1st and 3rd Wednesdays 
DESCRIPTION:Held on the 1st and 3rd Wednesdays of the month \nFacilitators: Samantha Krezinski and Judith Blanchard \n90 minutes \n4pm PT / 5pm MT / 6pm CT / 7pm ET \nContact chariscircles@charisinterspirituality.org for more information
URL:https://charisinterspirituality.org/event/charis-circle-online-1st-and-3rd-wednesdays/2026-12-02/
LOCATION:Online | Zoom
CATEGORIES:Charis Circle,Online
ORGANIZER;CN="Samantha Krezinski and Judith Blanchard":MAILTO:chariscircles@charisinterspirituality.org
END:VEVENT
BEGIN:VEVENT
DTSTART;TZID=America/Denver:20261207T073000
DTEND;TZID=America/Denver:20261207T090000
DTSTAMP:20260424T050944
CREATED:20250409T190813Z
LAST-MODIFIED:20250409T192537Z
UID:10001679-1796628600-1796634000@charisinterspirituality.org
SUMMARY:Charis Circle | In Person | Carbondale\, Colorado | 1st and 3rd Mondays
DESCRIPTION:Offered on the 1st and 3rd Mondays \nFacilitators: Judith Blanchard\, Deb Quinn\, and Jenny Adamson \n90 minutes \n7:30 – 9am MT
URL:https://charisinterspirituality.org/event/charis-circle-in-person-carbondale-colorado-1st-and-3rd-mondays/2026-12-07/
LOCATION:Carbondale\, Colorado\, Carbondale\, CO\, United States
CATEGORIES:Charis Circle,In Person
ORGANIZER;CN="Judith Blanchard%2C Deb Quinn%2C and Jenny Adamson":MAILTO:chariscircles@charisinterspirituality.org
END:VEVENT
BEGIN:VEVENT
DTSTART;TZID=America/Denver:20270104T073000
DTEND;TZID=America/Denver:20270104T090000
DTSTAMP:20260424T050944
CREATED:20250409T190813Z
LAST-MODIFIED:20250409T192537Z
UID:10001680-1799047800-1799053200@charisinterspirituality.org
SUMMARY:Charis Circle | In Person | Carbondale\, Colorado | 1st and 3rd Mondays
DESCRIPTION:Offered on the 1st and 3rd Mondays \nFacilitators: Judith Blanchard\, Deb Quinn\, and Jenny Adamson \n90 minutes \n7:30 – 9am MT
URL:https://charisinterspirituality.org/event/charis-circle-in-person-carbondale-colorado-1st-and-3rd-mondays/2027-01-04/
LOCATION:Carbondale\, Colorado\, Carbondale\, CO\, United States
CATEGORIES:Charis Circle,In Person
ORGANIZER;CN="Judith Blanchard%2C Deb Quinn%2C and Jenny Adamson":MAILTO:chariscircles@charisinterspirituality.org
END:VEVENT
BEGIN:VEVENT
DTSTART;TZID=America/Denver:20270106T170000
DTEND;TZID=America/Denver:20270106T183000
DTSTAMP:20260424T050944
CREATED:20250409T184901Z
LAST-MODIFIED:20250409T192537Z
UID:10000136-1799254800-1799260200@charisinterspirituality.org
SUMMARY:Charis Circle | Online | 1st and 3rd Wednesdays 
DESCRIPTION:Held on the 1st and 3rd Wednesdays of the month \nFacilitators: Samantha Krezinski and Judith Blanchard \n90 minutes \n4pm PT / 5pm MT / 6pm CT / 7pm ET \nContact chariscircles@charisinterspirituality.org for more information
URL:https://charisinterspirituality.org/event/charis-circle-online-1st-and-3rd-wednesdays/2027-01-06/
LOCATION:Online | Zoom
CATEGORIES:Charis Circle,Online
ORGANIZER;CN="Samantha Krezinski and Judith Blanchard":MAILTO:chariscircles@charisinterspirituality.org
END:VEVENT
BEGIN:VEVENT
DTSTART;TZID=America/Denver:20270201T073000
DTEND;TZID=America/Denver:20270201T090000
DTSTAMP:20260424T050944
CREATED:20250409T190813Z
LAST-MODIFIED:20250409T192537Z
UID:10001681-1801467000-1801472400@charisinterspirituality.org
SUMMARY:Charis Circle | In Person | Carbondale\, Colorado | 1st and 3rd Mondays
DESCRIPTION:Offered on the 1st and 3rd Mondays \nFacilitators: Judith Blanchard\, Deb Quinn\, and Jenny Adamson \n90 minutes \n7:30 – 9am MT
URL:https://charisinterspirituality.org/event/charis-circle-in-person-carbondale-colorado-1st-and-3rd-mondays/2027-02-01/
LOCATION:Carbondale\, Colorado\, Carbondale\, CO\, United States
CATEGORIES:Charis Circle,In Person
ORGANIZER;CN="Judith Blanchard%2C Deb Quinn%2C and Jenny Adamson":MAILTO:chariscircles@charisinterspirituality.org
END:VEVENT
BEGIN:VEVENT
DTSTART;TZID=America/Denver:20270203T170000
DTEND;TZID=America/Denver:20270203T183000
DTSTAMP:20260424T050944
CREATED:20250409T184901Z
LAST-MODIFIED:20250409T192537Z
UID:10000137-1801674000-1801679400@charisinterspirituality.org
SUMMARY:Charis Circle | Online | 1st and 3rd Wednesdays 
DESCRIPTION:Held on the 1st and 3rd Wednesdays of the month \nFacilitators: Samantha Krezinski and Judith Blanchard \n90 minutes \n4pm PT / 5pm MT / 6pm CT / 7pm ET \nContact chariscircles@charisinterspirituality.org for more information
URL:https://charisinterspirituality.org/event/charis-circle-online-1st-and-3rd-wednesdays/2027-02-03/
LOCATION:Online | Zoom
CATEGORIES:Charis Circle,Online
ORGANIZER;CN="Samantha Krezinski and Judith Blanchard":MAILTO:chariscircles@charisinterspirituality.org
END:VEVENT
BEGIN:VEVENT
DTSTART;TZID=America/Denver:20270301T073000
DTEND;TZID=America/Denver:20270301T090000
DTSTAMP:20260424T050944
CREATED:20250409T190813Z
LAST-MODIFIED:20250409T192537Z
UID:10001682-1803886200-1803891600@charisinterspirituality.org
SUMMARY:Charis Circle | In Person | Carbondale\, Colorado | 1st and 3rd Mondays
DESCRIPTION:Offered on the 1st and 3rd Mondays \nFacilitators: Judith Blanchard\, Deb Quinn\, and Jenny Adamson \n90 minutes \n7:30 – 9am MT
URL:https://charisinterspirituality.org/event/charis-circle-in-person-carbondale-colorado-1st-and-3rd-mondays/2027-03-01/
LOCATION:Carbondale\, Colorado\, Carbondale\, CO\, United States
CATEGORIES:Charis Circle,In Person
ORGANIZER;CN="Judith Blanchard%2C Deb Quinn%2C and Jenny Adamson":MAILTO:chariscircles@charisinterspirituality.org
END:VEVENT
BEGIN:VEVENT
DTSTART;TZID=America/Denver:20270303T170000
DTEND;TZID=America/Denver:20270303T183000
DTSTAMP:20260424T050944
CREATED:20250409T184901Z
LAST-MODIFIED:20250409T192537Z
UID:10000138-1804093200-1804098600@charisinterspirituality.org
SUMMARY:Charis Circle | Online | 1st and 3rd Wednesdays 
DESCRIPTION:Held on the 1st and 3rd Wednesdays of the month \nFacilitators: Samantha Krezinski and Judith Blanchard \n90 minutes \n4pm PT / 5pm MT / 6pm CT / 7pm ET \nContact chariscircles@charisinterspirituality.org for more information
URL:https://charisinterspirituality.org/event/charis-circle-online-1st-and-3rd-wednesdays/2027-03-03/
LOCATION:Online | Zoom
CATEGORIES:Charis Circle,Online
ORGANIZER;CN="Samantha Krezinski and Judith Blanchard":MAILTO:chariscircles@charisinterspirituality.org
END:VEVENT
BEGIN:VEVENT
DTSTART;TZID=America/Denver:20270405T073000
DTEND;TZID=America/Denver:20270405T090000
DTSTAMP:20260424T050944
CREATED:20250409T190813Z
LAST-MODIFIED:20250409T192537Z
UID:10001683-1806910200-1806915600@charisinterspirituality.org
SUMMARY:Charis Circle | In Person | Carbondale\, Colorado | 1st and 3rd Mondays
DESCRIPTION:Offered on the 1st and 3rd Mondays \nFacilitators: Judith Blanchard\, Deb Quinn\, and Jenny Adamson \n90 minutes \n7:30 – 9am MT
URL:https://charisinterspirituality.org/event/charis-circle-in-person-carbondale-colorado-1st-and-3rd-mondays/2027-04-05/
LOCATION:Carbondale\, Colorado\, Carbondale\, CO\, United States
CATEGORIES:Charis Circle,In Person
ORGANIZER;CN="Judith Blanchard%2C Deb Quinn%2C and Jenny Adamson":MAILTO:chariscircles@charisinterspirituality.org
END:VEVENT
BEGIN:VEVENT
DTSTART;TZID=America/Denver:20270407T170000
DTEND;TZID=America/Denver:20270407T183000
DTSTAMP:20260424T050944
CREATED:20250409T184901Z
LAST-MODIFIED:20250409T192537Z
UID:10000139-1807117200-1807122600@charisinterspirituality.org
SUMMARY:Charis Circle | Online | 1st and 3rd Wednesdays 
DESCRIPTION:Held on the 1st and 3rd Wednesdays of the month \nFacilitators: Samantha Krezinski and Judith Blanchard \n90 minutes \n4pm PT / 5pm MT / 6pm CT / 7pm ET \nContact chariscircles@charisinterspirituality.org for more information
URL:https://charisinterspirituality.org/event/charis-circle-online-1st-and-3rd-wednesdays/2027-04-07/
LOCATION:Online | Zoom
CATEGORIES:Charis Circle,Online
ORGANIZER;CN="Samantha Krezinski and Judith Blanchard":MAILTO:chariscircles@charisinterspirituality.org
END:VEVENT
BEGIN:VEVENT
DTSTART;TZID=America/Denver:20270503T073000
DTEND;TZID=America/Denver:20270503T090000
DTSTAMP:20260424T050944
CREATED:20250409T190813Z
LAST-MODIFIED:20250409T192537Z
UID:10001684-1809329400-1809334800@charisinterspirituality.org
SUMMARY:Charis Circle | In Person | Carbondale\, Colorado | 1st and 3rd Mondays
DESCRIPTION:Offered on the 1st and 3rd Mondays \nFacilitators: Judith Blanchard\, Deb Quinn\, and Jenny Adamson \n90 minutes \n7:30 – 9am MT
URL:https://charisinterspirituality.org/event/charis-circle-in-person-carbondale-colorado-1st-and-3rd-mondays/2027-05-03/
LOCATION:Carbondale\, Colorado\, Carbondale\, CO\, United States
CATEGORIES:Charis Circle,In Person
ORGANIZER;CN="Judith Blanchard%2C Deb Quinn%2C and Jenny Adamson":MAILTO:chariscircles@charisinterspirituality.org
END:VEVENT
BEGIN:VEVENT
DTSTART;TZID=America/Denver:20270505T170000
DTEND;TZID=America/Denver:20270505T183000
DTSTAMP:20260424T050944
CREATED:20250409T184901Z
LAST-MODIFIED:20250409T192537Z
UID:10000140-1809536400-1809541800@charisinterspirituality.org
SUMMARY:Charis Circle | Online | 1st and 3rd Wednesdays 
DESCRIPTION:Held on the 1st and 3rd Wednesdays of the month \nFacilitators: Samantha Krezinski and Judith Blanchard \n90 minutes \n4pm PT / 5pm MT / 6pm CT / 7pm ET \nContact chariscircles@charisinterspirituality.org for more information
URL:https://charisinterspirituality.org/event/charis-circle-online-1st-and-3rd-wednesdays/2027-05-05/
LOCATION:Online | Zoom
CATEGORIES:Charis Circle,Online
ORGANIZER;CN="Samantha Krezinski and Judith Blanchard":MAILTO:chariscircles@charisinterspirituality.org
END:VEVENT
BEGIN:VEVENT
DTSTART;TZID=America/Denver:20270602T170000
DTEND;TZID=America/Denver:20270602T183000
DTSTAMP:20260424T050944
CREATED:20250409T184901Z
LAST-MODIFIED:20250409T192537Z
UID:10000141-1811955600-1811961000@charisinterspirituality.org
SUMMARY:Charis Circle | Online | 1st and 3rd Wednesdays 
DESCRIPTION:Held on the 1st and 3rd Wednesdays of the month \nFacilitators: Samantha Krezinski and Judith Blanchard \n90 minutes \n4pm PT / 5pm MT / 6pm CT / 7pm ET \nContact chariscircles@charisinterspirituality.org for more information
URL:https://charisinterspirituality.org/event/charis-circle-online-1st-and-3rd-wednesdays/2027-06-02/
LOCATION:Online | Zoom
CATEGORIES:Charis Circle,Online
ORGANIZER;CN="Samantha Krezinski and Judith Blanchard":MAILTO:chariscircles@charisinterspirituality.org
END:VEVENT
BEGIN:VEVENT
DTSTART;TZID=America/Denver:20270607T073000
DTEND;TZID=America/Denver:20270607T090000
DTSTAMP:20260424T050944
CREATED:20250409T190813Z
LAST-MODIFIED:20250409T192537Z
UID:10001685-1812353400-1812358800@charisinterspirituality.org
SUMMARY:Charis Circle | In Person | Carbondale\, Colorado | 1st and 3rd Mondays
DESCRIPTION:Offered on the 1st and 3rd Mondays \nFacilitators: Judith Blanchard\, Deb Quinn\, and Jenny Adamson \n90 minutes \n7:30 – 9am MT
URL:https://charisinterspirituality.org/event/charis-circle-in-person-carbondale-colorado-1st-and-3rd-mondays/2027-06-07/
LOCATION:Carbondale\, Colorado\, Carbondale\, CO\, United States
CATEGORIES:Charis Circle,In Person
ORGANIZER;CN="Judith Blanchard%2C Deb Quinn%2C and Jenny Adamson":MAILTO:chariscircles@charisinterspirituality.org
END:VEVENT
BEGIN:VEVENT
DTSTART;TZID=America/Denver:20270705T073000
DTEND;TZID=America/Denver:20270705T090000
DTSTAMP:20260424T050944
CREATED:20250409T190813Z
LAST-MODIFIED:20250409T192537Z
UID:10001686-1814772600-1814778000@charisinterspirituality.org
SUMMARY:Charis Circle | In Person | Carbondale\, Colorado | 1st and 3rd Mondays
DESCRIPTION:Offered on the 1st and 3rd Mondays \nFacilitators: Judith Blanchard\, Deb Quinn\, and Jenny Adamson \n90 minutes \n7:30 – 9am MT
URL:https://charisinterspirituality.org/event/charis-circle-in-person-carbondale-colorado-1st-and-3rd-mondays/2027-07-05/
LOCATION:Carbondale\, Colorado\, Carbondale\, CO\, United States
CATEGORIES:Charis Circle,In Person
ORGANIZER;CN="Judith Blanchard%2C Deb Quinn%2C and Jenny Adamson":MAILTO:chariscircles@charisinterspirituality.org
END:VEVENT
BEGIN:VEVENT
DTSTART;TZID=America/Denver:20270707T170000
DTEND;TZID=America/Denver:20270707T183000
DTSTAMP:20260424T050944
CREATED:20250409T184901Z
LAST-MODIFIED:20250409T192537Z
UID:10000142-1814979600-1814985000@charisinterspirituality.org
SUMMARY:Charis Circle | Online | 1st and 3rd Wednesdays 
DESCRIPTION:Held on the 1st and 3rd Wednesdays of the month \nFacilitators: Samantha Krezinski and Judith Blanchard \n90 minutes \n4pm PT / 5pm MT / 6pm CT / 7pm ET \nContact chariscircles@charisinterspirituality.org for more information
URL:https://charisinterspirituality.org/event/charis-circle-online-1st-and-3rd-wednesdays/2027-07-07/
LOCATION:Online | Zoom
CATEGORIES:Charis Circle,Online
ORGANIZER;CN="Samantha Krezinski and Judith Blanchard":MAILTO:chariscircles@charisinterspirituality.org
END:VEVENT
END:VCALENDAR