BEGIN:VCALENDAR
VERSION:2.0
PRODID:-//Charis Foundation - ECPv6.15.20//NONSGML v1.0//EN
CALSCALE:GREGORIAN
METHOD:PUBLISH
X-WR-CALNAME:Charis Foundation
X-ORIGINAL-URL:https://charisinterspirituality.org
X-WR-CALDESC:Events for Charis Foundation
REFRESH-INTERVAL;VALUE=DURATION:PT1H
X-Robots-Tag:noindex
X-PUBLISHED-TTL:PT1H
BEGIN:VTIMEZONE
TZID:America/Denver
BEGIN:DAYLIGHT
TZOFFSETFROM:-0700
TZOFFSETTO:-0600
TZNAME:MDT
DTSTART:20260308T090000
END:DAYLIGHT
BEGIN:STANDARD
TZOFFSETFROM:-0600
TZOFFSETTO:-0700
TZNAME:MST
DTSTART:20261101T080000
END:STANDARD
BEGIN:DAYLIGHT
TZOFFSETFROM:-0700
TZOFFSETTO:-0600
TZNAME:MDT
DTSTART:20270314T090000
END:DAYLIGHT
BEGIN:STANDARD
TZOFFSETFROM:-0600
TZOFFSETTO:-0700
TZNAME:MST
DTSTART:20271107T080000
END:STANDARD
BEGIN:DAYLIGHT
TZOFFSETFROM:-0700
TZOFFSETTO:-0600
TZNAME:MDT
DTSTART:20280312T090000
END:DAYLIGHT
BEGIN:STANDARD
TZOFFSETFROM:-0600
TZOFFSETTO:-0700
TZNAME:MST
DTSTART:20281105T080000
END:STANDARD
BEGIN:DAYLIGHT
TZOFFSETFROM:-0700
TZOFFSETTO:-0600
TZNAME:MDT
DTSTART:20290311T090000
END:DAYLIGHT
BEGIN:STANDARD
TZOFFSETFROM:-0600
TZOFFSETTO:-0700
TZNAME:MST
DTSTART:20291104T080000
END:STANDARD
END:VTIMEZONE
BEGIN:VEVENT
DTSTART;TZID=America/Denver:20270503T073000
DTEND;TZID=America/Denver:20270503T090000
DTSTAMP:20260424T173833
CREATED:20250409T190813Z
LAST-MODIFIED:20250409T192537Z
UID:10001684-1809329400-1809334800@charisinterspirituality.org
SUMMARY:Charis Circle | In Person | Carbondale\, Colorado | 1st and 3rd Mondays
DESCRIPTION:Offered on the 1st and 3rd Mondays \nFacilitators: Judith Blanchard\, Deb Quinn\, and Jenny Adamson \n90 minutes \n7:30 – 9am MT
URL:https://charisinterspirituality.org/event/charis-circle-in-person-carbondale-colorado-1st-and-3rd-mondays/2027-05-03/
LOCATION:Carbondale\, Colorado\, Carbondale\, CO\, United States
CATEGORIES:Charis Circle,In Person
ORGANIZER;CN="Judith Blanchard%2C Deb Quinn%2C and Jenny Adamson":MAILTO:chariscircles@charisinterspirituality.org
END:VEVENT
BEGIN:VEVENT
DTSTART;TZID=America/Denver:20270505T170000
DTEND;TZID=America/Denver:20270505T183000
DTSTAMP:20260424T173833
CREATED:20250409T184901Z
LAST-MODIFIED:20250409T192537Z
UID:10000140-1809536400-1809541800@charisinterspirituality.org
SUMMARY:Charis Circle | Online | 1st and 3rd Wednesdays 
DESCRIPTION:Held on the 1st and 3rd Wednesdays of the month \nFacilitators: Samantha Krezinski and Judith Blanchard \n90 minutes \n4pm PT / 5pm MT / 6pm CT / 7pm ET \nContact chariscircles@charisinterspirituality.org for more information
URL:https://charisinterspirituality.org/event/charis-circle-online-1st-and-3rd-wednesdays/2027-05-05/
LOCATION:Online | Zoom
CATEGORIES:Charis Circle,Online
ORGANIZER;CN="Samantha Krezinski and Judith Blanchard":MAILTO:chariscircles@charisinterspirituality.org
END:VEVENT
BEGIN:VEVENT
DTSTART;TZID=America/Denver:20270602T170000
DTEND;TZID=America/Denver:20270602T183000
DTSTAMP:20260424T173833
CREATED:20250409T184901Z
LAST-MODIFIED:20250409T192537Z
UID:10000141-1811955600-1811961000@charisinterspirituality.org
SUMMARY:Charis Circle | Online | 1st and 3rd Wednesdays 
DESCRIPTION:Held on the 1st and 3rd Wednesdays of the month \nFacilitators: Samantha Krezinski and Judith Blanchard \n90 minutes \n4pm PT / 5pm MT / 6pm CT / 7pm ET \nContact chariscircles@charisinterspirituality.org for more information
URL:https://charisinterspirituality.org/event/charis-circle-online-1st-and-3rd-wednesdays/2027-06-02/
LOCATION:Online | Zoom
CATEGORIES:Charis Circle,Online
ORGANIZER;CN="Samantha Krezinski and Judith Blanchard":MAILTO:chariscircles@charisinterspirituality.org
END:VEVENT
BEGIN:VEVENT
DTSTART;TZID=America/Denver:20270607T073000
DTEND;TZID=America/Denver:20270607T090000
DTSTAMP:20260424T173833
CREATED:20250409T190813Z
LAST-MODIFIED:20250409T192537Z
UID:10001685-1812353400-1812358800@charisinterspirituality.org
SUMMARY:Charis Circle | In Person | Carbondale\, Colorado | 1st and 3rd Mondays
DESCRIPTION:Offered on the 1st and 3rd Mondays \nFacilitators: Judith Blanchard\, Deb Quinn\, and Jenny Adamson \n90 minutes \n7:30 – 9am MT
URL:https://charisinterspirituality.org/event/charis-circle-in-person-carbondale-colorado-1st-and-3rd-mondays/2027-06-07/
LOCATION:Carbondale\, Colorado\, Carbondale\, CO\, United States
CATEGORIES:Charis Circle,In Person
ORGANIZER;CN="Judith Blanchard%2C Deb Quinn%2C and Jenny Adamson":MAILTO:chariscircles@charisinterspirituality.org
END:VEVENT
BEGIN:VEVENT
DTSTART;TZID=America/Denver:20270705T073000
DTEND;TZID=America/Denver:20270705T090000
DTSTAMP:20260424T173833
CREATED:20250409T190813Z
LAST-MODIFIED:20250409T192537Z
UID:10001686-1814772600-1814778000@charisinterspirituality.org
SUMMARY:Charis Circle | In Person | Carbondale\, Colorado | 1st and 3rd Mondays
DESCRIPTION:Offered on the 1st and 3rd Mondays \nFacilitators: Judith Blanchard\, Deb Quinn\, and Jenny Adamson \n90 minutes \n7:30 – 9am MT
URL:https://charisinterspirituality.org/event/charis-circle-in-person-carbondale-colorado-1st-and-3rd-mondays/2027-07-05/
LOCATION:Carbondale\, Colorado\, Carbondale\, CO\, United States
CATEGORIES:Charis Circle,In Person
ORGANIZER;CN="Judith Blanchard%2C Deb Quinn%2C and Jenny Adamson":MAILTO:chariscircles@charisinterspirituality.org
END:VEVENT
BEGIN:VEVENT
DTSTART;TZID=America/Denver:20270707T170000
DTEND;TZID=America/Denver:20270707T183000
DTSTAMP:20260424T173833
CREATED:20250409T184901Z
LAST-MODIFIED:20250409T192537Z
UID:10000142-1814979600-1814985000@charisinterspirituality.org
SUMMARY:Charis Circle | Online | 1st and 3rd Wednesdays 
DESCRIPTION:Held on the 1st and 3rd Wednesdays of the month \nFacilitators: Samantha Krezinski and Judith Blanchard \n90 minutes \n4pm PT / 5pm MT / 6pm CT / 7pm ET \nContact chariscircles@charisinterspirituality.org for more information
URL:https://charisinterspirituality.org/event/charis-circle-online-1st-and-3rd-wednesdays/2027-07-07/
LOCATION:Online | Zoom
CATEGORIES:Charis Circle,Online
ORGANIZER;CN="Samantha Krezinski and Judith Blanchard":MAILTO:chariscircles@charisinterspirituality.org
END:VEVENT
BEGIN:VEVENT
DTSTART;TZID=America/Denver:20270802T073000
DTEND;TZID=America/Denver:20270802T090000
DTSTAMP:20260424T173833
CREATED:20250409T190813Z
LAST-MODIFIED:20250409T192537Z
UID:10001687-1817191800-1817197200@charisinterspirituality.org
SUMMARY:Charis Circle | In Person | Carbondale\, Colorado | 1st and 3rd Mondays
DESCRIPTION:Offered on the 1st and 3rd Mondays \nFacilitators: Judith Blanchard\, Deb Quinn\, and Jenny Adamson \n90 minutes \n7:30 – 9am MT
URL:https://charisinterspirituality.org/event/charis-circle-in-person-carbondale-colorado-1st-and-3rd-mondays/2027-08-02/
LOCATION:Carbondale\, Colorado\, Carbondale\, CO\, United States
CATEGORIES:Charis Circle,In Person
ORGANIZER;CN="Judith Blanchard%2C Deb Quinn%2C and Jenny Adamson":MAILTO:chariscircles@charisinterspirituality.org
END:VEVENT
BEGIN:VEVENT
DTSTART;TZID=America/Denver:20270804T170000
DTEND;TZID=America/Denver:20270804T183000
DTSTAMP:20260424T173833
CREATED:20250409T184901Z
LAST-MODIFIED:20250409T192537Z
UID:10000143-1817398800-1817404200@charisinterspirituality.org
SUMMARY:Charis Circle | Online | 1st and 3rd Wednesdays 
DESCRIPTION:Held on the 1st and 3rd Wednesdays of the month \nFacilitators: Samantha Krezinski and Judith Blanchard \n90 minutes \n4pm PT / 5pm MT / 6pm CT / 7pm ET \nContact chariscircles@charisinterspirituality.org for more information
URL:https://charisinterspirituality.org/event/charis-circle-online-1st-and-3rd-wednesdays/2027-08-04/
LOCATION:Online | Zoom
CATEGORIES:Charis Circle,Online
ORGANIZER;CN="Samantha Krezinski and Judith Blanchard":MAILTO:chariscircles@charisinterspirituality.org
END:VEVENT
BEGIN:VEVENT
DTSTART;TZID=America/Denver:20270901T170000
DTEND;TZID=America/Denver:20270901T183000
DTSTAMP:20260424T173833
CREATED:20250409T184901Z
LAST-MODIFIED:20250409T192537Z
UID:10000144-1819818000-1819823400@charisinterspirituality.org
SUMMARY:Charis Circle | Online | 1st and 3rd Wednesdays 
DESCRIPTION:Held on the 1st and 3rd Wednesdays of the month \nFacilitators: Samantha Krezinski and Judith Blanchard \n90 minutes \n4pm PT / 5pm MT / 6pm CT / 7pm ET \nContact chariscircles@charisinterspirituality.org for more information
URL:https://charisinterspirituality.org/event/charis-circle-online-1st-and-3rd-wednesdays/2027-09-01/
LOCATION:Online | Zoom
CATEGORIES:Charis Circle,Online
ORGANIZER;CN="Samantha Krezinski and Judith Blanchard":MAILTO:chariscircles@charisinterspirituality.org
END:VEVENT
BEGIN:VEVENT
DTSTART;TZID=America/Denver:20270906T073000
DTEND;TZID=America/Denver:20270906T090000
DTSTAMP:20260424T173833
CREATED:20250409T190813Z
LAST-MODIFIED:20250409T192537Z
UID:10001688-1820215800-1820221200@charisinterspirituality.org
SUMMARY:Charis Circle | In Person | Carbondale\, Colorado | 1st and 3rd Mondays
DESCRIPTION:Offered on the 1st and 3rd Mondays \nFacilitators: Judith Blanchard\, Deb Quinn\, and Jenny Adamson \n90 minutes \n7:30 – 9am MT
URL:https://charisinterspirituality.org/event/charis-circle-in-person-carbondale-colorado-1st-and-3rd-mondays/2027-09-06/
LOCATION:Carbondale\, Colorado\, Carbondale\, CO\, United States
CATEGORIES:Charis Circle,In Person
ORGANIZER;CN="Judith Blanchard%2C Deb Quinn%2C and Jenny Adamson":MAILTO:chariscircles@charisinterspirituality.org
END:VEVENT
BEGIN:VEVENT
DTSTART;TZID=America/Denver:20271004T073000
DTEND;TZID=America/Denver:20271004T090000
DTSTAMP:20260424T173833
CREATED:20250409T190813Z
LAST-MODIFIED:20250409T192537Z
UID:10001689-1822635000-1822640400@charisinterspirituality.org
SUMMARY:Charis Circle | In Person | Carbondale\, Colorado | 1st and 3rd Mondays
DESCRIPTION:Offered on the 1st and 3rd Mondays \nFacilitators: Judith Blanchard\, Deb Quinn\, and Jenny Adamson \n90 minutes \n7:30 – 9am MT
URL:https://charisinterspirituality.org/event/charis-circle-in-person-carbondale-colorado-1st-and-3rd-mondays/2027-10-04/
LOCATION:Carbondale\, Colorado\, Carbondale\, CO\, United States
CATEGORIES:Charis Circle,In Person
ORGANIZER;CN="Judith Blanchard%2C Deb Quinn%2C and Jenny Adamson":MAILTO:chariscircles@charisinterspirituality.org
END:VEVENT
BEGIN:VEVENT
DTSTART;TZID=America/Denver:20271006T170000
DTEND;TZID=America/Denver:20271006T183000
DTSTAMP:20260424T173833
CREATED:20250409T184901Z
LAST-MODIFIED:20250409T192537Z
UID:10000145-1822842000-1822847400@charisinterspirituality.org
SUMMARY:Charis Circle | Online | 1st and 3rd Wednesdays 
DESCRIPTION:Held on the 1st and 3rd Wednesdays of the month \nFacilitators: Samantha Krezinski and Judith Blanchard \n90 minutes \n4pm PT / 5pm MT / 6pm CT / 7pm ET \nContact chariscircles@charisinterspirituality.org for more information
URL:https://charisinterspirituality.org/event/charis-circle-online-1st-and-3rd-wednesdays/2027-10-06/
LOCATION:Online | Zoom
CATEGORIES:Charis Circle,Online
ORGANIZER;CN="Samantha Krezinski and Judith Blanchard":MAILTO:chariscircles@charisinterspirituality.org
END:VEVENT
BEGIN:VEVENT
DTSTART;TZID=America/Denver:20271101T073000
DTEND;TZID=America/Denver:20271101T090000
DTSTAMP:20260424T173833
CREATED:20250409T190813Z
LAST-MODIFIED:20250409T192537Z
UID:10001690-1825054200-1825059600@charisinterspirituality.org
SUMMARY:Charis Circle | In Person | Carbondale\, Colorado | 1st and 3rd Mondays
DESCRIPTION:Offered on the 1st and 3rd Mondays \nFacilitators: Judith Blanchard\, Deb Quinn\, and Jenny Adamson \n90 minutes \n7:30 – 9am MT
URL:https://charisinterspirituality.org/event/charis-circle-in-person-carbondale-colorado-1st-and-3rd-mondays/2027-11-01/
LOCATION:Carbondale\, Colorado\, Carbondale\, CO\, United States
CATEGORIES:Charis Circle,In Person
ORGANIZER;CN="Judith Blanchard%2C Deb Quinn%2C and Jenny Adamson":MAILTO:chariscircles@charisinterspirituality.org
END:VEVENT
BEGIN:VEVENT
DTSTART;TZID=America/Denver:20271103T170000
DTEND;TZID=America/Denver:20271103T183000
DTSTAMP:20260424T173833
CREATED:20250409T184901Z
LAST-MODIFIED:20250409T192537Z
UID:10000146-1825261200-1825266600@charisinterspirituality.org
SUMMARY:Charis Circle | Online | 1st and 3rd Wednesdays 
DESCRIPTION:Held on the 1st and 3rd Wednesdays of the month \nFacilitators: Samantha Krezinski and Judith Blanchard \n90 minutes \n4pm PT / 5pm MT / 6pm CT / 7pm ET \nContact chariscircles@charisinterspirituality.org for more information
URL:https://charisinterspirituality.org/event/charis-circle-online-1st-and-3rd-wednesdays/2027-11-03/
LOCATION:Online | Zoom
CATEGORIES:Charis Circle,Online
ORGANIZER;CN="Samantha Krezinski and Judith Blanchard":MAILTO:chariscircles@charisinterspirituality.org
END:VEVENT
BEGIN:VEVENT
DTSTART;TZID=America/Denver:20271201T170000
DTEND;TZID=America/Denver:20271201T183000
DTSTAMP:20260424T173833
CREATED:20250409T184901Z
LAST-MODIFIED:20250409T192537Z
UID:10000147-1827680400-1827685800@charisinterspirituality.org
SUMMARY:Charis Circle | Online | 1st and 3rd Wednesdays 
DESCRIPTION:Held on the 1st and 3rd Wednesdays of the month \nFacilitators: Samantha Krezinski and Judith Blanchard \n90 minutes \n4pm PT / 5pm MT / 6pm CT / 7pm ET \nContact chariscircles@charisinterspirituality.org for more information
URL:https://charisinterspirituality.org/event/charis-circle-online-1st-and-3rd-wednesdays/2027-12-01/
LOCATION:Online | Zoom
CATEGORIES:Charis Circle,Online
ORGANIZER;CN="Samantha Krezinski and Judith Blanchard":MAILTO:chariscircles@charisinterspirituality.org
END:VEVENT
BEGIN:VEVENT
DTSTART;TZID=America/Denver:20271206T073000
DTEND;TZID=America/Denver:20271206T090000
DTSTAMP:20260424T173833
CREATED:20250409T190813Z
LAST-MODIFIED:20250409T192537Z
UID:10001691-1828078200-1828083600@charisinterspirituality.org
SUMMARY:Charis Circle | In Person | Carbondale\, Colorado | 1st and 3rd Mondays
DESCRIPTION:Offered on the 1st and 3rd Mondays \nFacilitators: Judith Blanchard\, Deb Quinn\, and Jenny Adamson \n90 minutes \n7:30 – 9am MT
URL:https://charisinterspirituality.org/event/charis-circle-in-person-carbondale-colorado-1st-and-3rd-mondays/2027-12-06/
LOCATION:Carbondale\, Colorado\, Carbondale\, CO\, United States
CATEGORIES:Charis Circle,In Person
ORGANIZER;CN="Judith Blanchard%2C Deb Quinn%2C and Jenny Adamson":MAILTO:chariscircles@charisinterspirituality.org
END:VEVENT
BEGIN:VEVENT
DTSTART;TZID=America/Denver:20280103T073000
DTEND;TZID=America/Denver:20280103T090000
DTSTAMP:20260424T173833
CREATED:20250409T190813Z
LAST-MODIFIED:20250409T192537Z
UID:10001692-1830497400-1830502800@charisinterspirituality.org
SUMMARY:Charis Circle | In Person | Carbondale\, Colorado | 1st and 3rd Mondays
DESCRIPTION:Offered on the 1st and 3rd Mondays \nFacilitators: Judith Blanchard\, Deb Quinn\, and Jenny Adamson \n90 minutes \n7:30 – 9am MT
URL:https://charisinterspirituality.org/event/charis-circle-in-person-carbondale-colorado-1st-and-3rd-mondays/2028-01-03/
LOCATION:Carbondale\, Colorado\, Carbondale\, CO\, United States
CATEGORIES:Charis Circle,In Person
ORGANIZER;CN="Judith Blanchard%2C Deb Quinn%2C and Jenny Adamson":MAILTO:chariscircles@charisinterspirituality.org
END:VEVENT
BEGIN:VEVENT
DTSTART;TZID=America/Denver:20280105T170000
DTEND;TZID=America/Denver:20280105T183000
DTSTAMP:20260424T173833
CREATED:20250409T184901Z
LAST-MODIFIED:20250409T192537Z
UID:10000148-1830704400-1830709800@charisinterspirituality.org
SUMMARY:Charis Circle | Online | 1st and 3rd Wednesdays 
DESCRIPTION:Held on the 1st and 3rd Wednesdays of the month \nFacilitators: Samantha Krezinski and Judith Blanchard \n90 minutes \n4pm PT / 5pm MT / 6pm CT / 7pm ET \nContact chariscircles@charisinterspirituality.org for more information
URL:https://charisinterspirituality.org/event/charis-circle-online-1st-and-3rd-wednesdays/2028-01-05/
LOCATION:Online | Zoom
CATEGORIES:Charis Circle,Online
ORGANIZER;CN="Samantha Krezinski and Judith Blanchard":MAILTO:chariscircles@charisinterspirituality.org
END:VEVENT
BEGIN:VEVENT
DTSTART;TZID=America/Denver:20280202T170000
DTEND;TZID=America/Denver:20280202T183000
DTSTAMP:20260424T173833
CREATED:20250409T184901Z
LAST-MODIFIED:20250409T192537Z
UID:10000149-1833123600-1833129000@charisinterspirituality.org
SUMMARY:Charis Circle | Online | 1st and 3rd Wednesdays 
DESCRIPTION:Held on the 1st and 3rd Wednesdays of the month \nFacilitators: Samantha Krezinski and Judith Blanchard \n90 minutes \n4pm PT / 5pm MT / 6pm CT / 7pm ET \nContact chariscircles@charisinterspirituality.org for more information
URL:https://charisinterspirituality.org/event/charis-circle-online-1st-and-3rd-wednesdays/2028-02-02/
LOCATION:Online | Zoom
CATEGORIES:Charis Circle,Online
ORGANIZER;CN="Samantha Krezinski and Judith Blanchard":MAILTO:chariscircles@charisinterspirituality.org
END:VEVENT
BEGIN:VEVENT
DTSTART;TZID=America/Denver:20280207T073000
DTEND;TZID=America/Denver:20280207T090000
DTSTAMP:20260424T173833
CREATED:20250409T190813Z
LAST-MODIFIED:20250409T192537Z
UID:10001693-1833521400-1833526800@charisinterspirituality.org
SUMMARY:Charis Circle | In Person | Carbondale\, Colorado | 1st and 3rd Mondays
DESCRIPTION:Offered on the 1st and 3rd Mondays \nFacilitators: Judith Blanchard\, Deb Quinn\, and Jenny Adamson \n90 minutes \n7:30 – 9am MT
URL:https://charisinterspirituality.org/event/charis-circle-in-person-carbondale-colorado-1st-and-3rd-mondays/2028-02-07/
LOCATION:Carbondale\, Colorado\, Carbondale\, CO\, United States
CATEGORIES:Charis Circle,In Person
ORGANIZER;CN="Judith Blanchard%2C Deb Quinn%2C and Jenny Adamson":MAILTO:chariscircles@charisinterspirituality.org
END:VEVENT
BEGIN:VEVENT
DTSTART;TZID=America/Denver:20280301T170000
DTEND;TZID=America/Denver:20280301T183000
DTSTAMP:20260424T173833
CREATED:20250409T184901Z
LAST-MODIFIED:20250409T192537Z
UID:10000150-1835542800-1835548200@charisinterspirituality.org
SUMMARY:Charis Circle | Online | 1st and 3rd Wednesdays 
DESCRIPTION:Held on the 1st and 3rd Wednesdays of the month \nFacilitators: Samantha Krezinski and Judith Blanchard \n90 minutes \n4pm PT / 5pm MT / 6pm CT / 7pm ET \nContact chariscircles@charisinterspirituality.org for more information
URL:https://charisinterspirituality.org/event/charis-circle-online-1st-and-3rd-wednesdays/2028-03-01/
LOCATION:Online | Zoom
CATEGORIES:Charis Circle,Online
ORGANIZER;CN="Samantha Krezinski and Judith Blanchard":MAILTO:chariscircles@charisinterspirituality.org
END:VEVENT
BEGIN:VEVENT
DTSTART;TZID=America/Denver:20280306T073000
DTEND;TZID=America/Denver:20280306T090000
DTSTAMP:20260424T173833
CREATED:20250409T190813Z
LAST-MODIFIED:20250409T192537Z
UID:10001694-1835940600-1835946000@charisinterspirituality.org
SUMMARY:Charis Circle | In Person | Carbondale\, Colorado | 1st and 3rd Mondays
DESCRIPTION:Offered on the 1st and 3rd Mondays \nFacilitators: Judith Blanchard\, Deb Quinn\, and Jenny Adamson \n90 minutes \n7:30 – 9am MT
URL:https://charisinterspirituality.org/event/charis-circle-in-person-carbondale-colorado-1st-and-3rd-mondays/2028-03-06/
LOCATION:Carbondale\, Colorado\, Carbondale\, CO\, United States
CATEGORIES:Charis Circle,In Person
ORGANIZER;CN="Judith Blanchard%2C Deb Quinn%2C and Jenny Adamson":MAILTO:chariscircles@charisinterspirituality.org
END:VEVENT
BEGIN:VEVENT
DTSTART;TZID=America/Denver:20280403T073000
DTEND;TZID=America/Denver:20280403T090000
DTSTAMP:20260424T173833
CREATED:20250409T190813Z
LAST-MODIFIED:20250409T192537Z
UID:10001695-1838359800-1838365200@charisinterspirituality.org
SUMMARY:Charis Circle | In Person | Carbondale\, Colorado | 1st and 3rd Mondays
DESCRIPTION:Offered on the 1st and 3rd Mondays \nFacilitators: Judith Blanchard\, Deb Quinn\, and Jenny Adamson \n90 minutes \n7:30 – 9am MT
URL:https://charisinterspirituality.org/event/charis-circle-in-person-carbondale-colorado-1st-and-3rd-mondays/2028-04-03/
LOCATION:Carbondale\, Colorado\, Carbondale\, CO\, United States
CATEGORIES:Charis Circle,In Person
ORGANIZER;CN="Judith Blanchard%2C Deb Quinn%2C and Jenny Adamson":MAILTO:chariscircles@charisinterspirituality.org
END:VEVENT
BEGIN:VEVENT
DTSTART;TZID=America/Denver:20280405T170000
DTEND;TZID=America/Denver:20280405T183000
DTSTAMP:20260424T173833
CREATED:20250409T184901Z
LAST-MODIFIED:20250409T192537Z
UID:10000151-1838566800-1838572200@charisinterspirituality.org
SUMMARY:Charis Circle | Online | 1st and 3rd Wednesdays 
DESCRIPTION:Held on the 1st and 3rd Wednesdays of the month \nFacilitators: Samantha Krezinski and Judith Blanchard \n90 minutes \n4pm PT / 5pm MT / 6pm CT / 7pm ET \nContact chariscircles@charisinterspirituality.org for more information
URL:https://charisinterspirituality.org/event/charis-circle-online-1st-and-3rd-wednesdays/2028-04-05/
LOCATION:Online | Zoom
CATEGORIES:Charis Circle,Online
ORGANIZER;CN="Samantha Krezinski and Judith Blanchard":MAILTO:chariscircles@charisinterspirituality.org
END:VEVENT
BEGIN:VEVENT
DTSTART;TZID=America/Denver:20280501T073000
DTEND;TZID=America/Denver:20280501T090000
DTSTAMP:20260424T173833
CREATED:20250409T190813Z
LAST-MODIFIED:20250409T192537Z
UID:10001696-1840779000-1840784400@charisinterspirituality.org
SUMMARY:Charis Circle | In Person | Carbondale\, Colorado | 1st and 3rd Mondays
DESCRIPTION:Offered on the 1st and 3rd Mondays \nFacilitators: Judith Blanchard\, Deb Quinn\, and Jenny Adamson \n90 minutes \n7:30 – 9am MT
URL:https://charisinterspirituality.org/event/charis-circle-in-person-carbondale-colorado-1st-and-3rd-mondays/2028-05-01/
LOCATION:Carbondale\, Colorado\, Carbondale\, CO\, United States
CATEGORIES:Charis Circle,In Person
ORGANIZER;CN="Judith Blanchard%2C Deb Quinn%2C and Jenny Adamson":MAILTO:chariscircles@charisinterspirituality.org
END:VEVENT
BEGIN:VEVENT
DTSTART;TZID=America/Denver:20280503T170000
DTEND;TZID=America/Denver:20280503T183000
DTSTAMP:20260424T173833
CREATED:20250409T184901Z
LAST-MODIFIED:20250409T192537Z
UID:10000152-1840986000-1840991400@charisinterspirituality.org
SUMMARY:Charis Circle | Online | 1st and 3rd Wednesdays 
DESCRIPTION:Held on the 1st and 3rd Wednesdays of the month \nFacilitators: Samantha Krezinski and Judith Blanchard \n90 minutes \n4pm PT / 5pm MT / 6pm CT / 7pm ET \nContact chariscircles@charisinterspirituality.org for more information
URL:https://charisinterspirituality.org/event/charis-circle-online-1st-and-3rd-wednesdays/2028-05-03/
LOCATION:Online | Zoom
CATEGORIES:Charis Circle,Online
ORGANIZER;CN="Samantha Krezinski and Judith Blanchard":MAILTO:chariscircles@charisinterspirituality.org
END:VEVENT
BEGIN:VEVENT
DTSTART;TZID=America/Denver:20280605T073000
DTEND;TZID=America/Denver:20280605T090000
DTSTAMP:20260424T173833
CREATED:20250409T190813Z
LAST-MODIFIED:20250409T192537Z
UID:10001697-1843803000-1843808400@charisinterspirituality.org
SUMMARY:Charis Circle | In Person | Carbondale\, Colorado | 1st and 3rd Mondays
DESCRIPTION:Offered on the 1st and 3rd Mondays \nFacilitators: Judith Blanchard\, Deb Quinn\, and Jenny Adamson \n90 minutes \n7:30 – 9am MT
URL:https://charisinterspirituality.org/event/charis-circle-in-person-carbondale-colorado-1st-and-3rd-mondays/2028-06-05/
LOCATION:Carbondale\, Colorado\, Carbondale\, CO\, United States
CATEGORIES:Charis Circle,In Person
ORGANIZER;CN="Judith Blanchard%2C Deb Quinn%2C and Jenny Adamson":MAILTO:chariscircles@charisinterspirituality.org
END:VEVENT
BEGIN:VEVENT
DTSTART;TZID=America/Denver:20280607T170000
DTEND;TZID=America/Denver:20280607T183000
DTSTAMP:20260424T173833
CREATED:20250409T184901Z
LAST-MODIFIED:20250409T192537Z
UID:10000153-1844010000-1844015400@charisinterspirituality.org
SUMMARY:Charis Circle | Online | 1st and 3rd Wednesdays 
DESCRIPTION:Held on the 1st and 3rd Wednesdays of the month \nFacilitators: Samantha Krezinski and Judith Blanchard \n90 minutes \n4pm PT / 5pm MT / 6pm CT / 7pm ET \nContact chariscircles@charisinterspirituality.org for more information
URL:https://charisinterspirituality.org/event/charis-circle-online-1st-and-3rd-wednesdays/2028-06-07/
LOCATION:Online | Zoom
CATEGORIES:Charis Circle,Online
ORGANIZER;CN="Samantha Krezinski and Judith Blanchard":MAILTO:chariscircles@charisinterspirituality.org
END:VEVENT
BEGIN:VEVENT
DTSTART;TZID=America/Denver:20280703T073000
DTEND;TZID=America/Denver:20280703T090000
DTSTAMP:20260424T173833
CREATED:20250409T190813Z
LAST-MODIFIED:20250409T192537Z
UID:10001698-1846222200-1846227600@charisinterspirituality.org
SUMMARY:Charis Circle | In Person | Carbondale\, Colorado | 1st and 3rd Mondays
DESCRIPTION:Offered on the 1st and 3rd Mondays \nFacilitators: Judith Blanchard\, Deb Quinn\, and Jenny Adamson \n90 minutes \n7:30 – 9am MT
URL:https://charisinterspirituality.org/event/charis-circle-in-person-carbondale-colorado-1st-and-3rd-mondays/2028-07-03/
LOCATION:Carbondale\, Colorado\, Carbondale\, CO\, United States
CATEGORIES:Charis Circle,In Person
ORGANIZER;CN="Judith Blanchard%2C Deb Quinn%2C and Jenny Adamson":MAILTO:chariscircles@charisinterspirituality.org
END:VEVENT
BEGIN:VEVENT
DTSTART;TZID=America/Denver:20280705T170000
DTEND;TZID=America/Denver:20280705T183000
DTSTAMP:20260424T173833
CREATED:20250409T184901Z
LAST-MODIFIED:20250409T192537Z
UID:10000154-1846429200-1846434600@charisinterspirituality.org
SUMMARY:Charis Circle | Online | 1st and 3rd Wednesdays 
DESCRIPTION:Held on the 1st and 3rd Wednesdays of the month \nFacilitators: Samantha Krezinski and Judith Blanchard \n90 minutes \n4pm PT / 5pm MT / 6pm CT / 7pm ET \nContact chariscircles@charisinterspirituality.org for more information
URL:https://charisinterspirituality.org/event/charis-circle-online-1st-and-3rd-wednesdays/2028-07-05/
LOCATION:Online | Zoom
CATEGORIES:Charis Circle,Online
ORGANIZER;CN="Samantha Krezinski and Judith Blanchard":MAILTO:chariscircles@charisinterspirituality.org
END:VEVENT
END:VCALENDAR