BEGIN:VCALENDAR
VERSION:2.0
PRODID:-//Charis Foundation - ECPv6.15.20//NONSGML v1.0//EN
CALSCALE:GREGORIAN
METHOD:PUBLISH
X-ORIGINAL-URL:https://charisinterspirituality.org
X-WR-CALDESC:Events for Charis Foundation
REFRESH-INTERVAL;VALUE=DURATION:PT1H
X-Robots-Tag:noindex
X-PUBLISHED-TTL:PT1H
BEGIN:VTIMEZONE
TZID:America/Denver
BEGIN:DAYLIGHT
TZOFFSETFROM:-0700
TZOFFSETTO:-0600
TZNAME:MDT
DTSTART:20270314T090000
END:DAYLIGHT
BEGIN:STANDARD
TZOFFSETFROM:-0600
TZOFFSETTO:-0700
TZNAME:MST
DTSTART:20271107T080000
END:STANDARD
BEGIN:DAYLIGHT
TZOFFSETFROM:-0700
TZOFFSETTO:-0600
TZNAME:MDT
DTSTART:20280312T090000
END:DAYLIGHT
BEGIN:STANDARD
TZOFFSETFROM:-0600
TZOFFSETTO:-0700
TZNAME:MST
DTSTART:20281105T080000
END:STANDARD
BEGIN:DAYLIGHT
TZOFFSETFROM:-0700
TZOFFSETTO:-0600
TZNAME:MDT
DTSTART:20290311T090000
END:DAYLIGHT
BEGIN:STANDARD
TZOFFSETFROM:-0600
TZOFFSETTO:-0700
TZNAME:MST
DTSTART:20291104T080000
END:STANDARD
BEGIN:DAYLIGHT
TZOFFSETFROM:-0700
TZOFFSETTO:-0600
TZNAME:MDT
DTSTART:20300310T090000
END:DAYLIGHT
BEGIN:STANDARD
TZOFFSETFROM:-0600
TZOFFSETTO:-0700
TZNAME:MST
DTSTART:20301103T080000
END:STANDARD
END:VTIMEZONE
BEGIN:VEVENT
DTSTART;TZID=America/Denver:20280501T073000
DTEND;TZID=America/Denver:20280501T090000
DTSTAMP:20260425T042726
CREATED:20250409T190813Z
LAST-MODIFIED:20250409T192537Z
UID:10001696-1840779000-1840784400@charisinterspirituality.org
SUMMARY:Charis Circle | In Person | Carbondale\, Colorado | 1st and 3rd Mondays
DESCRIPTION:Offered on the 1st and 3rd Mondays \nFacilitators: Judith Blanchard\, Deb Quinn\, and Jenny Adamson \n90 minutes \n7:30 – 9am MT
URL:https://charisinterspirituality.org/event/charis-circle-in-person-carbondale-colorado-1st-and-3rd-mondays/2028-05-01/
LOCATION:Carbondale\, Colorado\, Carbondale\, CO\, United States
CATEGORIES:Charis Circle,In Person
ORGANIZER;CN="Judith Blanchard%2C Deb Quinn%2C and Jenny Adamson":MAILTO:chariscircles@charisinterspirituality.org
END:VEVENT
BEGIN:VEVENT
DTSTART;TZID=America/Denver:20280503T170000
DTEND;TZID=America/Denver:20280503T183000
DTSTAMP:20260425T042726
CREATED:20250409T184901Z
LAST-MODIFIED:20250409T192537Z
UID:10000152-1840986000-1840991400@charisinterspirituality.org
SUMMARY:Charis Circle | Online | 1st and 3rd Wednesdays 
DESCRIPTION:Held on the 1st and 3rd Wednesdays of the month \nFacilitators: Samantha Krezinski and Judith Blanchard \n90 minutes \n4pm PT / 5pm MT / 6pm CT / 7pm ET \nContact chariscircles@charisinterspirituality.org for more information
URL:https://charisinterspirituality.org/event/charis-circle-online-1st-and-3rd-wednesdays/2028-05-03/
LOCATION:Online | Zoom
CATEGORIES:Charis Circle,Online
ORGANIZER;CN="Samantha Krezinski and Judith Blanchard":MAILTO:chariscircles@charisinterspirituality.org
END:VEVENT
BEGIN:VEVENT
DTSTART;TZID=America/Denver:20280605T073000
DTEND;TZID=America/Denver:20280605T090000
DTSTAMP:20260425T042726
CREATED:20250409T190813Z
LAST-MODIFIED:20250409T192537Z
UID:10001697-1843803000-1843808400@charisinterspirituality.org
SUMMARY:Charis Circle | In Person | Carbondale\, Colorado | 1st and 3rd Mondays
DESCRIPTION:Offered on the 1st and 3rd Mondays \nFacilitators: Judith Blanchard\, Deb Quinn\, and Jenny Adamson \n90 minutes \n7:30 – 9am MT
URL:https://charisinterspirituality.org/event/charis-circle-in-person-carbondale-colorado-1st-and-3rd-mondays/2028-06-05/
LOCATION:Carbondale\, Colorado\, Carbondale\, CO\, United States
CATEGORIES:Charis Circle,In Person
ORGANIZER;CN="Judith Blanchard%2C Deb Quinn%2C and Jenny Adamson":MAILTO:chariscircles@charisinterspirituality.org
END:VEVENT
BEGIN:VEVENT
DTSTART;TZID=America/Denver:20280607T170000
DTEND;TZID=America/Denver:20280607T183000
DTSTAMP:20260425T042726
CREATED:20250409T184901Z
LAST-MODIFIED:20250409T192537Z
UID:10000153-1844010000-1844015400@charisinterspirituality.org
SUMMARY:Charis Circle | Online | 1st and 3rd Wednesdays 
DESCRIPTION:Held on the 1st and 3rd Wednesdays of the month \nFacilitators: Samantha Krezinski and Judith Blanchard \n90 minutes \n4pm PT / 5pm MT / 6pm CT / 7pm ET \nContact chariscircles@charisinterspirituality.org for more information
URL:https://charisinterspirituality.org/event/charis-circle-online-1st-and-3rd-wednesdays/2028-06-07/
LOCATION:Online | Zoom
CATEGORIES:Charis Circle,Online
ORGANIZER;CN="Samantha Krezinski and Judith Blanchard":MAILTO:chariscircles@charisinterspirituality.org
END:VEVENT
BEGIN:VEVENT
DTSTART;TZID=America/Denver:20280703T073000
DTEND;TZID=America/Denver:20280703T090000
DTSTAMP:20260425T042726
CREATED:20250409T190813Z
LAST-MODIFIED:20250409T192537Z
UID:10001698-1846222200-1846227600@charisinterspirituality.org
SUMMARY:Charis Circle | In Person | Carbondale\, Colorado | 1st and 3rd Mondays
DESCRIPTION:Offered on the 1st and 3rd Mondays \nFacilitators: Judith Blanchard\, Deb Quinn\, and Jenny Adamson \n90 minutes \n7:30 – 9am MT
URL:https://charisinterspirituality.org/event/charis-circle-in-person-carbondale-colorado-1st-and-3rd-mondays/2028-07-03/
LOCATION:Carbondale\, Colorado\, Carbondale\, CO\, United States
CATEGORIES:Charis Circle,In Person
ORGANIZER;CN="Judith Blanchard%2C Deb Quinn%2C and Jenny Adamson":MAILTO:chariscircles@charisinterspirituality.org
END:VEVENT
BEGIN:VEVENT
DTSTART;TZID=America/Denver:20280705T170000
DTEND;TZID=America/Denver:20280705T183000
DTSTAMP:20260425T042726
CREATED:20250409T184901Z
LAST-MODIFIED:20250409T192537Z
UID:10000154-1846429200-1846434600@charisinterspirituality.org
SUMMARY:Charis Circle | Online | 1st and 3rd Wednesdays 
DESCRIPTION:Held on the 1st and 3rd Wednesdays of the month \nFacilitators: Samantha Krezinski and Judith Blanchard \n90 minutes \n4pm PT / 5pm MT / 6pm CT / 7pm ET \nContact chariscircles@charisinterspirituality.org for more information
URL:https://charisinterspirituality.org/event/charis-circle-online-1st-and-3rd-wednesdays/2028-07-05/
LOCATION:Online | Zoom
CATEGORIES:Charis Circle,Online
ORGANIZER;CN="Samantha Krezinski and Judith Blanchard":MAILTO:chariscircles@charisinterspirituality.org
END:VEVENT
BEGIN:VEVENT
DTSTART;TZID=America/Denver:20280802T170000
DTEND;TZID=America/Denver:20280802T183000
DTSTAMP:20260425T042726
CREATED:20250409T184901Z
LAST-MODIFIED:20250409T192537Z
UID:10000155-1848848400-1848853800@charisinterspirituality.org
SUMMARY:Charis Circle | Online | 1st and 3rd Wednesdays 
DESCRIPTION:Held on the 1st and 3rd Wednesdays of the month \nFacilitators: Samantha Krezinski and Judith Blanchard \n90 minutes \n4pm PT / 5pm MT / 6pm CT / 7pm ET \nContact chariscircles@charisinterspirituality.org for more information
URL:https://charisinterspirituality.org/event/charis-circle-online-1st-and-3rd-wednesdays/2028-08-02/
LOCATION:Online | Zoom
CATEGORIES:Charis Circle,Online
ORGANIZER;CN="Samantha Krezinski and Judith Blanchard":MAILTO:chariscircles@charisinterspirituality.org
END:VEVENT
BEGIN:VEVENT
DTSTART;TZID=America/Denver:20280807T073000
DTEND;TZID=America/Denver:20280807T090000
DTSTAMP:20260425T042726
CREATED:20250409T190813Z
LAST-MODIFIED:20250409T192537Z
UID:10001699-1849246200-1849251600@charisinterspirituality.org
SUMMARY:Charis Circle | In Person | Carbondale\, Colorado | 1st and 3rd Mondays
DESCRIPTION:Offered on the 1st and 3rd Mondays \nFacilitators: Judith Blanchard\, Deb Quinn\, and Jenny Adamson \n90 minutes \n7:30 – 9am MT
URL:https://charisinterspirituality.org/event/charis-circle-in-person-carbondale-colorado-1st-and-3rd-mondays/2028-08-07/
LOCATION:Carbondale\, Colorado\, Carbondale\, CO\, United States
CATEGORIES:Charis Circle,In Person
ORGANIZER;CN="Judith Blanchard%2C Deb Quinn%2C and Jenny Adamson":MAILTO:chariscircles@charisinterspirituality.org
END:VEVENT
BEGIN:VEVENT
DTSTART;TZID=America/Denver:20280904T073000
DTEND;TZID=America/Denver:20280904T090000
DTSTAMP:20260425T042726
CREATED:20250409T190813Z
LAST-MODIFIED:20250409T192537Z
UID:10001700-1851665400-1851670800@charisinterspirituality.org
SUMMARY:Charis Circle | In Person | Carbondale\, Colorado | 1st and 3rd Mondays
DESCRIPTION:Offered on the 1st and 3rd Mondays \nFacilitators: Judith Blanchard\, Deb Quinn\, and Jenny Adamson \n90 minutes \n7:30 – 9am MT
URL:https://charisinterspirituality.org/event/charis-circle-in-person-carbondale-colorado-1st-and-3rd-mondays/2028-09-04/
LOCATION:Carbondale\, Colorado\, Carbondale\, CO\, United States
CATEGORIES:Charis Circle,In Person
ORGANIZER;CN="Judith Blanchard%2C Deb Quinn%2C and Jenny Adamson":MAILTO:chariscircles@charisinterspirituality.org
END:VEVENT
BEGIN:VEVENT
DTSTART;TZID=America/Denver:20280906T170000
DTEND;TZID=America/Denver:20280906T183000
DTSTAMP:20260425T042726
CREATED:20250409T184901Z
LAST-MODIFIED:20250409T192537Z
UID:10000156-1851872400-1851877800@charisinterspirituality.org
SUMMARY:Charis Circle | Online | 1st and 3rd Wednesdays 
DESCRIPTION:Held on the 1st and 3rd Wednesdays of the month \nFacilitators: Samantha Krezinski and Judith Blanchard \n90 minutes \n4pm PT / 5pm MT / 6pm CT / 7pm ET \nContact chariscircles@charisinterspirituality.org for more information
URL:https://charisinterspirituality.org/event/charis-circle-online-1st-and-3rd-wednesdays/2028-09-06/
LOCATION:Online | Zoom
CATEGORIES:Charis Circle,Online
ORGANIZER;CN="Samantha Krezinski and Judith Blanchard":MAILTO:chariscircles@charisinterspirituality.org
END:VEVENT
BEGIN:VEVENT
DTSTART;TZID=America/Denver:20281002T073000
DTEND;TZID=America/Denver:20281002T090000
DTSTAMP:20260425T042726
CREATED:20250409T190813Z
LAST-MODIFIED:20250409T192537Z
UID:10001701-1854084600-1854090000@charisinterspirituality.org
SUMMARY:Charis Circle | In Person | Carbondale\, Colorado | 1st and 3rd Mondays
DESCRIPTION:Offered on the 1st and 3rd Mondays \nFacilitators: Judith Blanchard\, Deb Quinn\, and Jenny Adamson \n90 minutes \n7:30 – 9am MT
URL:https://charisinterspirituality.org/event/charis-circle-in-person-carbondale-colorado-1st-and-3rd-mondays/2028-10-02/
LOCATION:Carbondale\, Colorado\, Carbondale\, CO\, United States
CATEGORIES:Charis Circle,In Person
ORGANIZER;CN="Judith Blanchard%2C Deb Quinn%2C and Jenny Adamson":MAILTO:chariscircles@charisinterspirituality.org
END:VEVENT
BEGIN:VEVENT
DTSTART;TZID=America/Denver:20281004T170000
DTEND;TZID=America/Denver:20281004T183000
DTSTAMP:20260425T042726
CREATED:20250409T184901Z
LAST-MODIFIED:20250409T192537Z
UID:10000157-1854291600-1854297000@charisinterspirituality.org
SUMMARY:Charis Circle | Online | 1st and 3rd Wednesdays 
DESCRIPTION:Held on the 1st and 3rd Wednesdays of the month \nFacilitators: Samantha Krezinski and Judith Blanchard \n90 minutes \n4pm PT / 5pm MT / 6pm CT / 7pm ET \nContact chariscircles@charisinterspirituality.org for more information
URL:https://charisinterspirituality.org/event/charis-circle-online-1st-and-3rd-wednesdays/2028-10-04/
LOCATION:Online | Zoom
CATEGORIES:Charis Circle,Online
ORGANIZER;CN="Samantha Krezinski and Judith Blanchard":MAILTO:chariscircles@charisinterspirituality.org
END:VEVENT
BEGIN:VEVENT
DTSTART;TZID=America/Denver:20281101T170000
DTEND;TZID=America/Denver:20281101T183000
DTSTAMP:20260425T042726
CREATED:20250409T184901Z
LAST-MODIFIED:20250409T192537Z
UID:10000158-1856710800-1856716200@charisinterspirituality.org
SUMMARY:Charis Circle | Online | 1st and 3rd Wednesdays 
DESCRIPTION:Held on the 1st and 3rd Wednesdays of the month \nFacilitators: Samantha Krezinski and Judith Blanchard \n90 minutes \n4pm PT / 5pm MT / 6pm CT / 7pm ET \nContact chariscircles@charisinterspirituality.org for more information
URL:https://charisinterspirituality.org/event/charis-circle-online-1st-and-3rd-wednesdays/2028-11-01/
LOCATION:Online | Zoom
CATEGORIES:Charis Circle,Online
ORGANIZER;CN="Samantha Krezinski and Judith Blanchard":MAILTO:chariscircles@charisinterspirituality.org
END:VEVENT
BEGIN:VEVENT
DTSTART;TZID=America/Denver:20281106T073000
DTEND;TZID=America/Denver:20281106T090000
DTSTAMP:20260425T042726
CREATED:20250409T190813Z
LAST-MODIFIED:20250409T192537Z
UID:10001702-1857108600-1857114000@charisinterspirituality.org
SUMMARY:Charis Circle | In Person | Carbondale\, Colorado | 1st and 3rd Mondays
DESCRIPTION:Offered on the 1st and 3rd Mondays \nFacilitators: Judith Blanchard\, Deb Quinn\, and Jenny Adamson \n90 minutes \n7:30 – 9am MT
URL:https://charisinterspirituality.org/event/charis-circle-in-person-carbondale-colorado-1st-and-3rd-mondays/2028-11-06/
LOCATION:Carbondale\, Colorado\, Carbondale\, CO\, United States
CATEGORIES:Charis Circle,In Person
ORGANIZER;CN="Judith Blanchard%2C Deb Quinn%2C and Jenny Adamson":MAILTO:chariscircles@charisinterspirituality.org
END:VEVENT
BEGIN:VEVENT
DTSTART;TZID=America/Denver:20281204T073000
DTEND;TZID=America/Denver:20281204T090000
DTSTAMP:20260425T042726
CREATED:20250409T190813Z
LAST-MODIFIED:20250409T192537Z
UID:10001703-1859527800-1859533200@charisinterspirituality.org
SUMMARY:Charis Circle | In Person | Carbondale\, Colorado | 1st and 3rd Mondays
DESCRIPTION:Offered on the 1st and 3rd Mondays \nFacilitators: Judith Blanchard\, Deb Quinn\, and Jenny Adamson \n90 minutes \n7:30 – 9am MT
URL:https://charisinterspirituality.org/event/charis-circle-in-person-carbondale-colorado-1st-and-3rd-mondays/2028-12-04/
LOCATION:Carbondale\, Colorado\, Carbondale\, CO\, United States
CATEGORIES:Charis Circle,In Person
ORGANIZER;CN="Judith Blanchard%2C Deb Quinn%2C and Jenny Adamson":MAILTO:chariscircles@charisinterspirituality.org
END:VEVENT
BEGIN:VEVENT
DTSTART;TZID=America/Denver:20281206T170000
DTEND;TZID=America/Denver:20281206T183000
DTSTAMP:20260425T042726
CREATED:20250409T184901Z
LAST-MODIFIED:20250409T192537Z
UID:10000159-1859734800-1859740200@charisinterspirituality.org
SUMMARY:Charis Circle | Online | 1st and 3rd Wednesdays 
DESCRIPTION:Held on the 1st and 3rd Wednesdays of the month \nFacilitators: Samantha Krezinski and Judith Blanchard \n90 minutes \n4pm PT / 5pm MT / 6pm CT / 7pm ET \nContact chariscircles@charisinterspirituality.org for more information
URL:https://charisinterspirituality.org/event/charis-circle-online-1st-and-3rd-wednesdays/2028-12-06/
LOCATION:Online | Zoom
CATEGORIES:Charis Circle,Online
ORGANIZER;CN="Samantha Krezinski and Judith Blanchard":MAILTO:chariscircles@charisinterspirituality.org
END:VEVENT
BEGIN:VEVENT
DTSTART;TZID=America/Denver:20290101T073000
DTEND;TZID=America/Denver:20290101T090000
DTSTAMP:20260425T042726
CREATED:20250409T190813Z
LAST-MODIFIED:20250409T192537Z
UID:10001704-1861947000-1861952400@charisinterspirituality.org
SUMMARY:Charis Circle | In Person | Carbondale\, Colorado | 1st and 3rd Mondays
DESCRIPTION:Offered on the 1st and 3rd Mondays \nFacilitators: Judith Blanchard\, Deb Quinn\, and Jenny Adamson \n90 minutes \n7:30 – 9am MT
URL:https://charisinterspirituality.org/event/charis-circle-in-person-carbondale-colorado-1st-and-3rd-mondays/2029-01-01/
LOCATION:Carbondale\, Colorado\, Carbondale\, CO\, United States
CATEGORIES:Charis Circle,In Person
ORGANIZER;CN="Judith Blanchard%2C Deb Quinn%2C and Jenny Adamson":MAILTO:chariscircles@charisinterspirituality.org
END:VEVENT
BEGIN:VEVENT
DTSTART;TZID=America/Denver:20290103T170000
DTEND;TZID=America/Denver:20290103T183000
DTSTAMP:20260425T042726
CREATED:20250409T184901Z
LAST-MODIFIED:20250409T192537Z
UID:10000160-1862154000-1862159400@charisinterspirituality.org
SUMMARY:Charis Circle | Online | 1st and 3rd Wednesdays 
DESCRIPTION:Held on the 1st and 3rd Wednesdays of the month \nFacilitators: Samantha Krezinski and Judith Blanchard \n90 minutes \n4pm PT / 5pm MT / 6pm CT / 7pm ET \nContact chariscircles@charisinterspirituality.org for more information
URL:https://charisinterspirituality.org/event/charis-circle-online-1st-and-3rd-wednesdays/2029-01-03/
LOCATION:Online | Zoom
CATEGORIES:Charis Circle,Online
ORGANIZER;CN="Samantha Krezinski and Judith Blanchard":MAILTO:chariscircles@charisinterspirituality.org
END:VEVENT
BEGIN:VEVENT
DTSTART;TZID=America/Denver:20290205T073000
DTEND;TZID=America/Denver:20290205T090000
DTSTAMP:20260425T042726
CREATED:20250409T190813Z
LAST-MODIFIED:20250409T192537Z
UID:10001705-1864971000-1864976400@charisinterspirituality.org
SUMMARY:Charis Circle | In Person | Carbondale\, Colorado | 1st and 3rd Mondays
DESCRIPTION:Offered on the 1st and 3rd Mondays \nFacilitators: Judith Blanchard\, Deb Quinn\, and Jenny Adamson \n90 minutes \n7:30 – 9am MT
URL:https://charisinterspirituality.org/event/charis-circle-in-person-carbondale-colorado-1st-and-3rd-mondays/2029-02-05/
LOCATION:Carbondale\, Colorado\, Carbondale\, CO\, United States
CATEGORIES:Charis Circle,In Person
ORGANIZER;CN="Judith Blanchard%2C Deb Quinn%2C and Jenny Adamson":MAILTO:chariscircles@charisinterspirituality.org
END:VEVENT
BEGIN:VEVENT
DTSTART;TZID=America/Denver:20290207T170000
DTEND;TZID=America/Denver:20290207T183000
DTSTAMP:20260425T042726
CREATED:20250409T184901Z
LAST-MODIFIED:20250409T192537Z
UID:10000161-1865178000-1865183400@charisinterspirituality.org
SUMMARY:Charis Circle | Online | 1st and 3rd Wednesdays 
DESCRIPTION:Held on the 1st and 3rd Wednesdays of the month \nFacilitators: Samantha Krezinski and Judith Blanchard \n90 minutes \n4pm PT / 5pm MT / 6pm CT / 7pm ET \nContact chariscircles@charisinterspirituality.org for more information
URL:https://charisinterspirituality.org/event/charis-circle-online-1st-and-3rd-wednesdays/2029-02-07/
LOCATION:Online | Zoom
CATEGORIES:Charis Circle,Online
ORGANIZER;CN="Samantha Krezinski and Judith Blanchard":MAILTO:chariscircles@charisinterspirituality.org
END:VEVENT
BEGIN:VEVENT
DTSTART;TZID=America/Denver:20290305T073000
DTEND;TZID=America/Denver:20290305T090000
DTSTAMP:20260425T042726
CREATED:20250409T190813Z
LAST-MODIFIED:20250409T192537Z
UID:10001706-1867390200-1867395600@charisinterspirituality.org
SUMMARY:Charis Circle | In Person | Carbondale\, Colorado | 1st and 3rd Mondays
DESCRIPTION:Offered on the 1st and 3rd Mondays \nFacilitators: Judith Blanchard\, Deb Quinn\, and Jenny Adamson \n90 minutes \n7:30 – 9am MT
URL:https://charisinterspirituality.org/event/charis-circle-in-person-carbondale-colorado-1st-and-3rd-mondays/2029-03-05/
LOCATION:Carbondale\, Colorado\, Carbondale\, CO\, United States
CATEGORIES:Charis Circle,In Person
ORGANIZER;CN="Judith Blanchard%2C Deb Quinn%2C and Jenny Adamson":MAILTO:chariscircles@charisinterspirituality.org
END:VEVENT
BEGIN:VEVENT
DTSTART;TZID=America/Denver:20290307T170000
DTEND;TZID=America/Denver:20290307T183000
DTSTAMP:20260425T042726
CREATED:20250409T184901Z
LAST-MODIFIED:20250409T192537Z
UID:10000162-1867597200-1867602600@charisinterspirituality.org
SUMMARY:Charis Circle | Online | 1st and 3rd Wednesdays 
DESCRIPTION:Held on the 1st and 3rd Wednesdays of the month \nFacilitators: Samantha Krezinski and Judith Blanchard \n90 minutes \n4pm PT / 5pm MT / 6pm CT / 7pm ET \nContact chariscircles@charisinterspirituality.org for more information
URL:https://charisinterspirituality.org/event/charis-circle-online-1st-and-3rd-wednesdays/2029-03-07/
LOCATION:Online | Zoom
CATEGORIES:Charis Circle,Online
ORGANIZER;CN="Samantha Krezinski and Judith Blanchard":MAILTO:chariscircles@charisinterspirituality.org
END:VEVENT
BEGIN:VEVENT
DTSTART;TZID=America/Denver:20290402T073000
DTEND;TZID=America/Denver:20290402T090000
DTSTAMP:20260425T042726
CREATED:20250409T190813Z
LAST-MODIFIED:20250409T192537Z
UID:10001707-1869809400-1869814800@charisinterspirituality.org
SUMMARY:Charis Circle | In Person | Carbondale\, Colorado | 1st and 3rd Mondays
DESCRIPTION:Offered on the 1st and 3rd Mondays \nFacilitators: Judith Blanchard\, Deb Quinn\, and Jenny Adamson \n90 minutes \n7:30 – 9am MT
URL:https://charisinterspirituality.org/event/charis-circle-in-person-carbondale-colorado-1st-and-3rd-mondays/2029-04-02/
LOCATION:Carbondale\, Colorado\, Carbondale\, CO\, United States
CATEGORIES:Charis Circle,In Person
ORGANIZER;CN="Judith Blanchard%2C Deb Quinn%2C and Jenny Adamson":MAILTO:chariscircles@charisinterspirituality.org
END:VEVENT
BEGIN:VEVENT
DTSTART;TZID=America/Denver:20290404T170000
DTEND;TZID=America/Denver:20290404T183000
DTSTAMP:20260425T042726
CREATED:20250409T184901Z
LAST-MODIFIED:20250409T192537Z
UID:10000163-1870016400-1870021800@charisinterspirituality.org
SUMMARY:Charis Circle | Online | 1st and 3rd Wednesdays 
DESCRIPTION:Held on the 1st and 3rd Wednesdays of the month \nFacilitators: Samantha Krezinski and Judith Blanchard \n90 minutes \n4pm PT / 5pm MT / 6pm CT / 7pm ET \nContact chariscircles@charisinterspirituality.org for more information
URL:https://charisinterspirituality.org/event/charis-circle-online-1st-and-3rd-wednesdays/2029-04-04/
LOCATION:Online | Zoom
CATEGORIES:Charis Circle,Online
ORGANIZER;CN="Samantha Krezinski and Judith Blanchard":MAILTO:chariscircles@charisinterspirituality.org
END:VEVENT
BEGIN:VEVENT
DTSTART;TZID=America/Denver:20290502T170000
DTEND;TZID=America/Denver:20290502T183000
DTSTAMP:20260425T042726
CREATED:20250409T184901Z
LAST-MODIFIED:20250409T192537Z
UID:10000164-1872435600-1872441000@charisinterspirituality.org
SUMMARY:Charis Circle | Online | 1st and 3rd Wednesdays 
DESCRIPTION:Held on the 1st and 3rd Wednesdays of the month \nFacilitators: Samantha Krezinski and Judith Blanchard \n90 minutes \n4pm PT / 5pm MT / 6pm CT / 7pm ET \nContact chariscircles@charisinterspirituality.org for more information
URL:https://charisinterspirituality.org/event/charis-circle-online-1st-and-3rd-wednesdays/2029-05-02/
LOCATION:Online | Zoom
CATEGORIES:Charis Circle,Online
ORGANIZER;CN="Samantha Krezinski and Judith Blanchard":MAILTO:chariscircles@charisinterspirituality.org
END:VEVENT
BEGIN:VEVENT
DTSTART;TZID=America/Denver:20290507T073000
DTEND;TZID=America/Denver:20290507T090000
DTSTAMP:20260425T042726
CREATED:20250409T190813Z
LAST-MODIFIED:20250409T192537Z
UID:10001708-1872833400-1872838800@charisinterspirituality.org
SUMMARY:Charis Circle | In Person | Carbondale\, Colorado | 1st and 3rd Mondays
DESCRIPTION:Offered on the 1st and 3rd Mondays \nFacilitators: Judith Blanchard\, Deb Quinn\, and Jenny Adamson \n90 minutes \n7:30 – 9am MT
URL:https://charisinterspirituality.org/event/charis-circle-in-person-carbondale-colorado-1st-and-3rd-mondays/2029-05-07/
LOCATION:Carbondale\, Colorado\, Carbondale\, CO\, United States
CATEGORIES:Charis Circle,In Person
ORGANIZER;CN="Judith Blanchard%2C Deb Quinn%2C and Jenny Adamson":MAILTO:chariscircles@charisinterspirituality.org
END:VEVENT
BEGIN:VEVENT
DTSTART;TZID=America/Denver:20290604T073000
DTEND;TZID=America/Denver:20290604T090000
DTSTAMP:20260425T042726
CREATED:20250409T190813Z
LAST-MODIFIED:20250409T192537Z
UID:10001709-1875252600-1875258000@charisinterspirituality.org
SUMMARY:Charis Circle | In Person | Carbondale\, Colorado | 1st and 3rd Mondays
DESCRIPTION:Offered on the 1st and 3rd Mondays \nFacilitators: Judith Blanchard\, Deb Quinn\, and Jenny Adamson \n90 minutes \n7:30 – 9am MT
URL:https://charisinterspirituality.org/event/charis-circle-in-person-carbondale-colorado-1st-and-3rd-mondays/2029-06-04/
LOCATION:Carbondale\, Colorado\, Carbondale\, CO\, United States
CATEGORIES:Charis Circle,In Person
ORGANIZER;CN="Judith Blanchard%2C Deb Quinn%2C and Jenny Adamson":MAILTO:chariscircles@charisinterspirituality.org
END:VEVENT
BEGIN:VEVENT
DTSTART;TZID=America/Denver:20290606T170000
DTEND;TZID=America/Denver:20290606T183000
DTSTAMP:20260425T042726
CREATED:20250409T184901Z
LAST-MODIFIED:20250409T192537Z
UID:10000165-1875459600-1875465000@charisinterspirituality.org
SUMMARY:Charis Circle | Online | 1st and 3rd Wednesdays 
DESCRIPTION:Held on the 1st and 3rd Wednesdays of the month \nFacilitators: Samantha Krezinski and Judith Blanchard \n90 minutes \n4pm PT / 5pm MT / 6pm CT / 7pm ET \nContact chariscircles@charisinterspirituality.org for more information
URL:https://charisinterspirituality.org/event/charis-circle-online-1st-and-3rd-wednesdays/2029-06-06/
LOCATION:Online | Zoom
CATEGORIES:Charis Circle,Online
ORGANIZER;CN="Samantha Krezinski and Judith Blanchard":MAILTO:chariscircles@charisinterspirituality.org
END:VEVENT
BEGIN:VEVENT
DTSTART;TZID=America/Denver:20290702T073000
DTEND;TZID=America/Denver:20290702T090000
DTSTAMP:20260425T042726
CREATED:20250409T190813Z
LAST-MODIFIED:20250409T192537Z
UID:10001710-1877671800-1877677200@charisinterspirituality.org
SUMMARY:Charis Circle | In Person | Carbondale\, Colorado | 1st and 3rd Mondays
DESCRIPTION:Offered on the 1st and 3rd Mondays \nFacilitators: Judith Blanchard\, Deb Quinn\, and Jenny Adamson \n90 minutes \n7:30 – 9am MT
URL:https://charisinterspirituality.org/event/charis-circle-in-person-carbondale-colorado-1st-and-3rd-mondays/2029-07-02/
LOCATION:Carbondale\, Colorado\, Carbondale\, CO\, United States
CATEGORIES:Charis Circle,In Person
ORGANIZER;CN="Judith Blanchard%2C Deb Quinn%2C and Jenny Adamson":MAILTO:chariscircles@charisinterspirituality.org
END:VEVENT
BEGIN:VEVENT
DTSTART;TZID=America/Denver:20290704T170000
DTEND;TZID=America/Denver:20290704T183000
DTSTAMP:20260425T042726
CREATED:20250409T184901Z
LAST-MODIFIED:20250409T192537Z
UID:10000166-1877878800-1877884200@charisinterspirituality.org
SUMMARY:Charis Circle | Online | 1st and 3rd Wednesdays 
DESCRIPTION:Held on the 1st and 3rd Wednesdays of the month \nFacilitators: Samantha Krezinski and Judith Blanchard \n90 minutes \n4pm PT / 5pm MT / 6pm CT / 7pm ET \nContact chariscircles@charisinterspirituality.org for more information
URL:https://charisinterspirituality.org/event/charis-circle-online-1st-and-3rd-wednesdays/2029-07-04/
LOCATION:Online | Zoom
CATEGORIES:Charis Circle,Online
ORGANIZER;CN="Samantha Krezinski and Judith Blanchard":MAILTO:chariscircles@charisinterspirituality.org
END:VEVENT
END:VCALENDAR