BEGIN:VCALENDAR
VERSION:2.0
PRODID:-//Charis Foundation - ECPv6.15.20//NONSGML v1.0//EN
CALSCALE:GREGORIAN
METHOD:PUBLISH
X-ORIGINAL-URL:https://charisinterspirituality.org
X-WR-CALDESC:Events for Charis Foundation
REFRESH-INTERVAL;VALUE=DURATION:PT1H
X-Robots-Tag:noindex
X-PUBLISHED-TTL:PT1H
BEGIN:VTIMEZONE
TZID:America/Denver
BEGIN:DAYLIGHT
TZOFFSETFROM:-0700
TZOFFSETTO:-0600
TZNAME:MDT
DTSTART:20260308T090000
END:DAYLIGHT
BEGIN:STANDARD
TZOFFSETFROM:-0600
TZOFFSETTO:-0700
TZNAME:MST
DTSTART:20261101T080000
END:STANDARD
BEGIN:DAYLIGHT
TZOFFSETFROM:-0700
TZOFFSETTO:-0600
TZNAME:MDT
DTSTART:20270314T090000
END:DAYLIGHT
BEGIN:STANDARD
TZOFFSETFROM:-0600
TZOFFSETTO:-0700
TZNAME:MST
DTSTART:20271107T080000
END:STANDARD
BEGIN:DAYLIGHT
TZOFFSETFROM:-0700
TZOFFSETTO:-0600
TZNAME:MDT
DTSTART:20280312T090000
END:DAYLIGHT
BEGIN:STANDARD
TZOFFSETFROM:-0600
TZOFFSETTO:-0700
TZNAME:MST
DTSTART:20281105T080000
END:STANDARD
BEGIN:DAYLIGHT
TZOFFSETFROM:-0700
TZOFFSETTO:-0600
TZNAME:MDT
DTSTART:20290311T090000
END:DAYLIGHT
BEGIN:STANDARD
TZOFFSETFROM:-0600
TZOFFSETTO:-0700
TZNAME:MST
DTSTART:20291104T080000
END:STANDARD
BEGIN:DAYLIGHT
TZOFFSETFROM:-0700
TZOFFSETTO:-0600
TZNAME:MDT
DTSTART:20300310T090000
END:DAYLIGHT
BEGIN:STANDARD
TZOFFSETFROM:-0600
TZOFFSETTO:-0700
TZNAME:MST
DTSTART:20301103T080000
END:STANDARD
END:VTIMEZONE
BEGIN:VEVENT
DTSTART;TZID=America/Denver:20270502T170000
DTEND;TZID=America/Denver:20270502T183000
DTSTAMP:20260422T193941
CREATED:20250409T191411Z
LAST-MODIFIED:20250409T192537Z
UID:10001756-1809277200-1809282600@charisinterspirituality.org
SUMMARY:Charis Circle | Online | 1st and 3rd Sundays
DESCRIPTION:Offered on the 1st and 3rd Sundays of the month \nFacilitators: Ron Barnett and Deb Quinn \n4pm PT / 5pm MT / 6pm CT / 7pm ET \nDuration: 90 minutes
URL:https://charisinterspirituality.org/event/charis-circle-online-1st-and-3rd-sundays/2027-05-02/
LOCATION:Online | Zoom
CATEGORIES:Charis Circle,Online
ORGANIZER;CN="Ron Barnett and Deb Quinn":MAILTO:chariscircles@charisinterspirituality.org
END:VEVENT
BEGIN:VEVENT
DTSTART;TZID=America/Denver:20270606T170000
DTEND;TZID=America/Denver:20270606T183000
DTSTAMP:20260422T193941
CREATED:20250409T191411Z
LAST-MODIFIED:20250409T192537Z
UID:10001757-1812301200-1812306600@charisinterspirituality.org
SUMMARY:Charis Circle | Online | 1st and 3rd Sundays
DESCRIPTION:Offered on the 1st and 3rd Sundays of the month \nFacilitators: Ron Barnett and Deb Quinn \n4pm PT / 5pm MT / 6pm CT / 7pm ET \nDuration: 90 minutes
URL:https://charisinterspirituality.org/event/charis-circle-online-1st-and-3rd-sundays/2027-06-06/
LOCATION:Online | Zoom
CATEGORIES:Charis Circle,Online
ORGANIZER;CN="Ron Barnett and Deb Quinn":MAILTO:chariscircles@charisinterspirituality.org
END:VEVENT
BEGIN:VEVENT
DTSTART;TZID=America/Denver:20270704T170000
DTEND;TZID=America/Denver:20270704T183000
DTSTAMP:20260422T193941
CREATED:20250409T191411Z
LAST-MODIFIED:20250409T192537Z
UID:10001758-1814720400-1814725800@charisinterspirituality.org
SUMMARY:Charis Circle | Online | 1st and 3rd Sundays
DESCRIPTION:Offered on the 1st and 3rd Sundays of the month \nFacilitators: Ron Barnett and Deb Quinn \n4pm PT / 5pm MT / 6pm CT / 7pm ET \nDuration: 90 minutes
URL:https://charisinterspirituality.org/event/charis-circle-online-1st-and-3rd-sundays/2027-07-04/
LOCATION:Online | Zoom
CATEGORIES:Charis Circle,Online
ORGANIZER;CN="Ron Barnett and Deb Quinn":MAILTO:chariscircles@charisinterspirituality.org
END:VEVENT
BEGIN:VEVENT
DTSTART;TZID=America/Denver:20270801T170000
DTEND;TZID=America/Denver:20270801T183000
DTSTAMP:20260422T193941
CREATED:20250409T191411Z
LAST-MODIFIED:20250409T192537Z
UID:10001759-1817139600-1817145000@charisinterspirituality.org
SUMMARY:Charis Circle | Online | 1st and 3rd Sundays
DESCRIPTION:Offered on the 1st and 3rd Sundays of the month \nFacilitators: Ron Barnett and Deb Quinn \n4pm PT / 5pm MT / 6pm CT / 7pm ET \nDuration: 90 minutes
URL:https://charisinterspirituality.org/event/charis-circle-online-1st-and-3rd-sundays/2027-08-01/
LOCATION:Online | Zoom
CATEGORIES:Charis Circle,Online
ORGANIZER;CN="Ron Barnett and Deb Quinn":MAILTO:chariscircles@charisinterspirituality.org
END:VEVENT
BEGIN:VEVENT
DTSTART;TZID=America/Denver:20270905T170000
DTEND;TZID=America/Denver:20270905T183000
DTSTAMP:20260422T193941
CREATED:20250409T191411Z
LAST-MODIFIED:20250409T192537Z
UID:10001760-1820163600-1820169000@charisinterspirituality.org
SUMMARY:Charis Circle | Online | 1st and 3rd Sundays
DESCRIPTION:Offered on the 1st and 3rd Sundays of the month \nFacilitators: Ron Barnett and Deb Quinn \n4pm PT / 5pm MT / 6pm CT / 7pm ET \nDuration: 90 minutes
URL:https://charisinterspirituality.org/event/charis-circle-online-1st-and-3rd-sundays/2027-09-05/
LOCATION:Online | Zoom
CATEGORIES:Charis Circle,Online
ORGANIZER;CN="Ron Barnett and Deb Quinn":MAILTO:chariscircles@charisinterspirituality.org
END:VEVENT
BEGIN:VEVENT
DTSTART;TZID=America/Denver:20271003T170000
DTEND;TZID=America/Denver:20271003T183000
DTSTAMP:20260422T193941
CREATED:20250409T191411Z
LAST-MODIFIED:20250409T192537Z
UID:10001761-1822582800-1822588200@charisinterspirituality.org
SUMMARY:Charis Circle | Online | 1st and 3rd Sundays
DESCRIPTION:Offered on the 1st and 3rd Sundays of the month \nFacilitators: Ron Barnett and Deb Quinn \n4pm PT / 5pm MT / 6pm CT / 7pm ET \nDuration: 90 minutes
URL:https://charisinterspirituality.org/event/charis-circle-online-1st-and-3rd-sundays/2027-10-03/
LOCATION:Online | Zoom
CATEGORIES:Charis Circle,Online
ORGANIZER;CN="Ron Barnett and Deb Quinn":MAILTO:chariscircles@charisinterspirituality.org
END:VEVENT
BEGIN:VEVENT
DTSTART;TZID=America/Denver:20271107T170000
DTEND;TZID=America/Denver:20271107T183000
DTSTAMP:20260422T193941
CREATED:20250409T191411Z
LAST-MODIFIED:20250409T192537Z
UID:10001762-1825606800-1825612200@charisinterspirituality.org
SUMMARY:Charis Circle | Online | 1st and 3rd Sundays
DESCRIPTION:Offered on the 1st and 3rd Sundays of the month \nFacilitators: Ron Barnett and Deb Quinn \n4pm PT / 5pm MT / 6pm CT / 7pm ET \nDuration: 90 minutes
URL:https://charisinterspirituality.org/event/charis-circle-online-1st-and-3rd-sundays/2027-11-07/
LOCATION:Online | Zoom
CATEGORIES:Charis Circle,Online
ORGANIZER;CN="Ron Barnett and Deb Quinn":MAILTO:chariscircles@charisinterspirituality.org
END:VEVENT
BEGIN:VEVENT
DTSTART;TZID=America/Denver:20271205T170000
DTEND;TZID=America/Denver:20271205T183000
DTSTAMP:20260422T193941
CREATED:20250409T191411Z
LAST-MODIFIED:20250409T192537Z
UID:10001763-1828026000-1828031400@charisinterspirituality.org
SUMMARY:Charis Circle | Online | 1st and 3rd Sundays
DESCRIPTION:Offered on the 1st and 3rd Sundays of the month \nFacilitators: Ron Barnett and Deb Quinn \n4pm PT / 5pm MT / 6pm CT / 7pm ET \nDuration: 90 minutes
URL:https://charisinterspirituality.org/event/charis-circle-online-1st-and-3rd-sundays/2027-12-05/
LOCATION:Online | Zoom
CATEGORIES:Charis Circle,Online
ORGANIZER;CN="Ron Barnett and Deb Quinn":MAILTO:chariscircles@charisinterspirituality.org
END:VEVENT
BEGIN:VEVENT
DTSTART;TZID=America/Denver:20280102T170000
DTEND;TZID=America/Denver:20280102T183000
DTSTAMP:20260422T193941
CREATED:20250409T191411Z
LAST-MODIFIED:20250409T192537Z
UID:10001764-1830445200-1830450600@charisinterspirituality.org
SUMMARY:Charis Circle | Online | 1st and 3rd Sundays
DESCRIPTION:Offered on the 1st and 3rd Sundays of the month \nFacilitators: Ron Barnett and Deb Quinn \n4pm PT / 5pm MT / 6pm CT / 7pm ET \nDuration: 90 minutes
URL:https://charisinterspirituality.org/event/charis-circle-online-1st-and-3rd-sundays/2028-01-02/
LOCATION:Online | Zoom
CATEGORIES:Charis Circle,Online
ORGANIZER;CN="Ron Barnett and Deb Quinn":MAILTO:chariscircles@charisinterspirituality.org
END:VEVENT
BEGIN:VEVENT
DTSTART;TZID=America/Denver:20280206T170000
DTEND;TZID=America/Denver:20280206T183000
DTSTAMP:20260422T193941
CREATED:20250409T191411Z
LAST-MODIFIED:20250409T192537Z
UID:10001765-1833469200-1833474600@charisinterspirituality.org
SUMMARY:Charis Circle | Online | 1st and 3rd Sundays
DESCRIPTION:Offered on the 1st and 3rd Sundays of the month \nFacilitators: Ron Barnett and Deb Quinn \n4pm PT / 5pm MT / 6pm CT / 7pm ET \nDuration: 90 minutes
URL:https://charisinterspirituality.org/event/charis-circle-online-1st-and-3rd-sundays/2028-02-06/
LOCATION:Online | Zoom
CATEGORIES:Charis Circle,Online
ORGANIZER;CN="Ron Barnett and Deb Quinn":MAILTO:chariscircles@charisinterspirituality.org
END:VEVENT
BEGIN:VEVENT
DTSTART;TZID=America/Denver:20280305T170000
DTEND;TZID=America/Denver:20280305T183000
DTSTAMP:20260422T193941
CREATED:20250409T191411Z
LAST-MODIFIED:20250409T192537Z
UID:10001766-1835888400-1835893800@charisinterspirituality.org
SUMMARY:Charis Circle | Online | 1st and 3rd Sundays
DESCRIPTION:Offered on the 1st and 3rd Sundays of the month \nFacilitators: Ron Barnett and Deb Quinn \n4pm PT / 5pm MT / 6pm CT / 7pm ET \nDuration: 90 minutes
URL:https://charisinterspirituality.org/event/charis-circle-online-1st-and-3rd-sundays/2028-03-05/
LOCATION:Online | Zoom
CATEGORIES:Charis Circle,Online
ORGANIZER;CN="Ron Barnett and Deb Quinn":MAILTO:chariscircles@charisinterspirituality.org
END:VEVENT
BEGIN:VEVENT
DTSTART;TZID=America/Denver:20280402T170000
DTEND;TZID=America/Denver:20280402T183000
DTSTAMP:20260422T193941
CREATED:20250409T191411Z
LAST-MODIFIED:20250409T192537Z
UID:10001767-1838307600-1838313000@charisinterspirituality.org
SUMMARY:Charis Circle | Online | 1st and 3rd Sundays
DESCRIPTION:Offered on the 1st and 3rd Sundays of the month \nFacilitators: Ron Barnett and Deb Quinn \n4pm PT / 5pm MT / 6pm CT / 7pm ET \nDuration: 90 minutes
URL:https://charisinterspirituality.org/event/charis-circle-online-1st-and-3rd-sundays/2028-04-02/
LOCATION:Online | Zoom
CATEGORIES:Charis Circle,Online
ORGANIZER;CN="Ron Barnett and Deb Quinn":MAILTO:chariscircles@charisinterspirituality.org
END:VEVENT
BEGIN:VEVENT
DTSTART;TZID=America/Denver:20280507T170000
DTEND;TZID=America/Denver:20280507T183000
DTSTAMP:20260422T193941
CREATED:20250409T191411Z
LAST-MODIFIED:20250409T192537Z
UID:10001768-1841331600-1841337000@charisinterspirituality.org
SUMMARY:Charis Circle | Online | 1st and 3rd Sundays
DESCRIPTION:Offered on the 1st and 3rd Sundays of the month \nFacilitators: Ron Barnett and Deb Quinn \n4pm PT / 5pm MT / 6pm CT / 7pm ET \nDuration: 90 minutes
URL:https://charisinterspirituality.org/event/charis-circle-online-1st-and-3rd-sundays/2028-05-07/
LOCATION:Online | Zoom
CATEGORIES:Charis Circle,Online
ORGANIZER;CN="Ron Barnett and Deb Quinn":MAILTO:chariscircles@charisinterspirituality.org
END:VEVENT
BEGIN:VEVENT
DTSTART;TZID=America/Denver:20280604T170000
DTEND;TZID=America/Denver:20280604T183000
DTSTAMP:20260422T193941
CREATED:20250409T191411Z
LAST-MODIFIED:20250409T192537Z
UID:10001769-1843750800-1843756200@charisinterspirituality.org
SUMMARY:Charis Circle | Online | 1st and 3rd Sundays
DESCRIPTION:Offered on the 1st and 3rd Sundays of the month \nFacilitators: Ron Barnett and Deb Quinn \n4pm PT / 5pm MT / 6pm CT / 7pm ET \nDuration: 90 minutes
URL:https://charisinterspirituality.org/event/charis-circle-online-1st-and-3rd-sundays/2028-06-04/
LOCATION:Online | Zoom
CATEGORIES:Charis Circle,Online
ORGANIZER;CN="Ron Barnett and Deb Quinn":MAILTO:chariscircles@charisinterspirituality.org
END:VEVENT
BEGIN:VEVENT
DTSTART;TZID=America/Denver:20280702T170000
DTEND;TZID=America/Denver:20280702T183000
DTSTAMP:20260422T193941
CREATED:20250409T191411Z
LAST-MODIFIED:20250409T192537Z
UID:10001770-1846170000-1846175400@charisinterspirituality.org
SUMMARY:Charis Circle | Online | 1st and 3rd Sundays
DESCRIPTION:Offered on the 1st and 3rd Sundays of the month \nFacilitators: Ron Barnett and Deb Quinn \n4pm PT / 5pm MT / 6pm CT / 7pm ET \nDuration: 90 minutes
URL:https://charisinterspirituality.org/event/charis-circle-online-1st-and-3rd-sundays/2028-07-02/
LOCATION:Online | Zoom
CATEGORIES:Charis Circle,Online
ORGANIZER;CN="Ron Barnett and Deb Quinn":MAILTO:chariscircles@charisinterspirituality.org
END:VEVENT
BEGIN:VEVENT
DTSTART;TZID=America/Denver:20280806T170000
DTEND;TZID=America/Denver:20280806T183000
DTSTAMP:20260422T193941
CREATED:20250409T191411Z
LAST-MODIFIED:20250409T192537Z
UID:10001771-1849194000-1849199400@charisinterspirituality.org
SUMMARY:Charis Circle | Online | 1st and 3rd Sundays
DESCRIPTION:Offered on the 1st and 3rd Sundays of the month \nFacilitators: Ron Barnett and Deb Quinn \n4pm PT / 5pm MT / 6pm CT / 7pm ET \nDuration: 90 minutes
URL:https://charisinterspirituality.org/event/charis-circle-online-1st-and-3rd-sundays/2028-08-06/
LOCATION:Online | Zoom
CATEGORIES:Charis Circle,Online
ORGANIZER;CN="Ron Barnett and Deb Quinn":MAILTO:chariscircles@charisinterspirituality.org
END:VEVENT
BEGIN:VEVENT
DTSTART;TZID=America/Denver:20280903T170000
DTEND;TZID=America/Denver:20280903T183000
DTSTAMP:20260422T193941
CREATED:20250409T191411Z
LAST-MODIFIED:20250409T192537Z
UID:10001772-1851613200-1851618600@charisinterspirituality.org
SUMMARY:Charis Circle | Online | 1st and 3rd Sundays
DESCRIPTION:Offered on the 1st and 3rd Sundays of the month \nFacilitators: Ron Barnett and Deb Quinn \n4pm PT / 5pm MT / 6pm CT / 7pm ET \nDuration: 90 minutes
URL:https://charisinterspirituality.org/event/charis-circle-online-1st-and-3rd-sundays/2028-09-03/
LOCATION:Online | Zoom
CATEGORIES:Charis Circle,Online
ORGANIZER;CN="Ron Barnett and Deb Quinn":MAILTO:chariscircles@charisinterspirituality.org
END:VEVENT
BEGIN:VEVENT
DTSTART;TZID=America/Denver:20281001T170000
DTEND;TZID=America/Denver:20281001T183000
DTSTAMP:20260422T193941
CREATED:20250409T191411Z
LAST-MODIFIED:20250409T192537Z
UID:10001773-1854032400-1854037800@charisinterspirituality.org
SUMMARY:Charis Circle | Online | 1st and 3rd Sundays
DESCRIPTION:Offered on the 1st and 3rd Sundays of the month \nFacilitators: Ron Barnett and Deb Quinn \n4pm PT / 5pm MT / 6pm CT / 7pm ET \nDuration: 90 minutes
URL:https://charisinterspirituality.org/event/charis-circle-online-1st-and-3rd-sundays/2028-10-01/
LOCATION:Online | Zoom
CATEGORIES:Charis Circle,Online
ORGANIZER;CN="Ron Barnett and Deb Quinn":MAILTO:chariscircles@charisinterspirituality.org
END:VEVENT
BEGIN:VEVENT
DTSTART;TZID=America/Denver:20281105T170000
DTEND;TZID=America/Denver:20281105T183000
DTSTAMP:20260422T193941
CREATED:20250409T191411Z
LAST-MODIFIED:20250409T192537Z
UID:10001774-1857056400-1857061800@charisinterspirituality.org
SUMMARY:Charis Circle | Online | 1st and 3rd Sundays
DESCRIPTION:Offered on the 1st and 3rd Sundays of the month \nFacilitators: Ron Barnett and Deb Quinn \n4pm PT / 5pm MT / 6pm CT / 7pm ET \nDuration: 90 minutes
URL:https://charisinterspirituality.org/event/charis-circle-online-1st-and-3rd-sundays/2028-11-05/
LOCATION:Online | Zoom
CATEGORIES:Charis Circle,Online
ORGANIZER;CN="Ron Barnett and Deb Quinn":MAILTO:chariscircles@charisinterspirituality.org
END:VEVENT
BEGIN:VEVENT
DTSTART;TZID=America/Denver:20281203T170000
DTEND;TZID=America/Denver:20281203T183000
DTSTAMP:20260422T193941
CREATED:20250409T191411Z
LAST-MODIFIED:20250409T192537Z
UID:10001775-1859475600-1859481000@charisinterspirituality.org
SUMMARY:Charis Circle | Online | 1st and 3rd Sundays
DESCRIPTION:Offered on the 1st and 3rd Sundays of the month \nFacilitators: Ron Barnett and Deb Quinn \n4pm PT / 5pm MT / 6pm CT / 7pm ET \nDuration: 90 minutes
URL:https://charisinterspirituality.org/event/charis-circle-online-1st-and-3rd-sundays/2028-12-03/
LOCATION:Online | Zoom
CATEGORIES:Charis Circle,Online
ORGANIZER;CN="Ron Barnett and Deb Quinn":MAILTO:chariscircles@charisinterspirituality.org
END:VEVENT
BEGIN:VEVENT
DTSTART;TZID=America/Denver:20290107T170000
DTEND;TZID=America/Denver:20290107T183000
DTSTAMP:20260422T193941
CREATED:20250409T191411Z
LAST-MODIFIED:20250409T192537Z
UID:10001776-1862499600-1862505000@charisinterspirituality.org
SUMMARY:Charis Circle | Online | 1st and 3rd Sundays
DESCRIPTION:Offered on the 1st and 3rd Sundays of the month \nFacilitators: Ron Barnett and Deb Quinn \n4pm PT / 5pm MT / 6pm CT / 7pm ET \nDuration: 90 minutes
URL:https://charisinterspirituality.org/event/charis-circle-online-1st-and-3rd-sundays/2029-01-07/
LOCATION:Online | Zoom
CATEGORIES:Charis Circle,Online
ORGANIZER;CN="Ron Barnett and Deb Quinn":MAILTO:chariscircles@charisinterspirituality.org
END:VEVENT
BEGIN:VEVENT
DTSTART;TZID=America/Denver:20290204T170000
DTEND;TZID=America/Denver:20290204T183000
DTSTAMP:20260422T193941
CREATED:20250409T191411Z
LAST-MODIFIED:20250409T192537Z
UID:10001777-1864918800-1864924200@charisinterspirituality.org
SUMMARY:Charis Circle | Online | 1st and 3rd Sundays
DESCRIPTION:Offered on the 1st and 3rd Sundays of the month \nFacilitators: Ron Barnett and Deb Quinn \n4pm PT / 5pm MT / 6pm CT / 7pm ET \nDuration: 90 minutes
URL:https://charisinterspirituality.org/event/charis-circle-online-1st-and-3rd-sundays/2029-02-04/
LOCATION:Online | Zoom
CATEGORIES:Charis Circle,Online
ORGANIZER;CN="Ron Barnett and Deb Quinn":MAILTO:chariscircles@charisinterspirituality.org
END:VEVENT
BEGIN:VEVENT
DTSTART;TZID=America/Denver:20290304T170000
DTEND;TZID=America/Denver:20290304T183000
DTSTAMP:20260422T193941
CREATED:20250409T191411Z
LAST-MODIFIED:20250409T192537Z
UID:10001778-1867338000-1867343400@charisinterspirituality.org
SUMMARY:Charis Circle | Online | 1st and 3rd Sundays
DESCRIPTION:Offered on the 1st and 3rd Sundays of the month \nFacilitators: Ron Barnett and Deb Quinn \n4pm PT / 5pm MT / 6pm CT / 7pm ET \nDuration: 90 minutes
URL:https://charisinterspirituality.org/event/charis-circle-online-1st-and-3rd-sundays/2029-03-04/
LOCATION:Online | Zoom
CATEGORIES:Charis Circle,Online
ORGANIZER;CN="Ron Barnett and Deb Quinn":MAILTO:chariscircles@charisinterspirituality.org
END:VEVENT
BEGIN:VEVENT
DTSTART;TZID=America/Denver:20290401T170000
DTEND;TZID=America/Denver:20290401T183000
DTSTAMP:20260422T193941
CREATED:20250409T191411Z
LAST-MODIFIED:20250409T192537Z
UID:10001779-1869757200-1869762600@charisinterspirituality.org
SUMMARY:Charis Circle | Online | 1st and 3rd Sundays
DESCRIPTION:Offered on the 1st and 3rd Sundays of the month \nFacilitators: Ron Barnett and Deb Quinn \n4pm PT / 5pm MT / 6pm CT / 7pm ET \nDuration: 90 minutes
URL:https://charisinterspirituality.org/event/charis-circle-online-1st-and-3rd-sundays/2029-04-01/
LOCATION:Online | Zoom
CATEGORIES:Charis Circle,Online
ORGANIZER;CN="Ron Barnett and Deb Quinn":MAILTO:chariscircles@charisinterspirituality.org
END:VEVENT
BEGIN:VEVENT
DTSTART;TZID=America/Denver:20290506T170000
DTEND;TZID=America/Denver:20290506T183000
DTSTAMP:20260422T193941
CREATED:20250409T191411Z
LAST-MODIFIED:20250409T192537Z
UID:10001780-1872781200-1872786600@charisinterspirituality.org
SUMMARY:Charis Circle | Online | 1st and 3rd Sundays
DESCRIPTION:Offered on the 1st and 3rd Sundays of the month \nFacilitators: Ron Barnett and Deb Quinn \n4pm PT / 5pm MT / 6pm CT / 7pm ET \nDuration: 90 minutes
URL:https://charisinterspirituality.org/event/charis-circle-online-1st-and-3rd-sundays/2029-05-06/
LOCATION:Online | Zoom
CATEGORIES:Charis Circle,Online
ORGANIZER;CN="Ron Barnett and Deb Quinn":MAILTO:chariscircles@charisinterspirituality.org
END:VEVENT
BEGIN:VEVENT
DTSTART;TZID=America/Denver:20290603T170000
DTEND;TZID=America/Denver:20290603T183000
DTSTAMP:20260422T193941
CREATED:20250409T191411Z
LAST-MODIFIED:20250409T192537Z
UID:10001781-1875200400-1875205800@charisinterspirituality.org
SUMMARY:Charis Circle | Online | 1st and 3rd Sundays
DESCRIPTION:Offered on the 1st and 3rd Sundays of the month \nFacilitators: Ron Barnett and Deb Quinn \n4pm PT / 5pm MT / 6pm CT / 7pm ET \nDuration: 90 minutes
URL:https://charisinterspirituality.org/event/charis-circle-online-1st-and-3rd-sundays/2029-06-03/
LOCATION:Online | Zoom
CATEGORIES:Charis Circle,Online
ORGANIZER;CN="Ron Barnett and Deb Quinn":MAILTO:chariscircles@charisinterspirituality.org
END:VEVENT
BEGIN:VEVENT
DTSTART;TZID=America/Denver:20290701T170000
DTEND;TZID=America/Denver:20290701T183000
DTSTAMP:20260422T193941
CREATED:20250409T191411Z
LAST-MODIFIED:20250409T192537Z
UID:10001782-1877619600-1877625000@charisinterspirituality.org
SUMMARY:Charis Circle | Online | 1st and 3rd Sundays
DESCRIPTION:Offered on the 1st and 3rd Sundays of the month \nFacilitators: Ron Barnett and Deb Quinn \n4pm PT / 5pm MT / 6pm CT / 7pm ET \nDuration: 90 minutes
URL:https://charisinterspirituality.org/event/charis-circle-online-1st-and-3rd-sundays/2029-07-01/
LOCATION:Online | Zoom
CATEGORIES:Charis Circle,Online
ORGANIZER;CN="Ron Barnett and Deb Quinn":MAILTO:chariscircles@charisinterspirituality.org
END:VEVENT
BEGIN:VEVENT
DTSTART;TZID=America/Denver:20290805T170000
DTEND;TZID=America/Denver:20290805T183000
DTSTAMP:20260422T193941
CREATED:20250409T191411Z
LAST-MODIFIED:20250409T192537Z
UID:10001783-1880643600-1880649000@charisinterspirituality.org
SUMMARY:Charis Circle | Online | 1st and 3rd Sundays
DESCRIPTION:Offered on the 1st and 3rd Sundays of the month \nFacilitators: Ron Barnett and Deb Quinn \n4pm PT / 5pm MT / 6pm CT / 7pm ET \nDuration: 90 minutes
URL:https://charisinterspirituality.org/event/charis-circle-online-1st-and-3rd-sundays/2029-08-05/
LOCATION:Online | Zoom
CATEGORIES:Charis Circle,Online
ORGANIZER;CN="Ron Barnett and Deb Quinn":MAILTO:chariscircles@charisinterspirituality.org
END:VEVENT
BEGIN:VEVENT
DTSTART;TZID=America/Denver:20290902T170000
DTEND;TZID=America/Denver:20290902T183000
DTSTAMP:20260422T193941
CREATED:20250409T191411Z
LAST-MODIFIED:20250409T192537Z
UID:10001784-1883062800-1883068200@charisinterspirituality.org
SUMMARY:Charis Circle | Online | 1st and 3rd Sundays
DESCRIPTION:Offered on the 1st and 3rd Sundays of the month \nFacilitators: Ron Barnett and Deb Quinn \n4pm PT / 5pm MT / 6pm CT / 7pm ET \nDuration: 90 minutes
URL:https://charisinterspirituality.org/event/charis-circle-online-1st-and-3rd-sundays/2029-09-02/
LOCATION:Online | Zoom
CATEGORIES:Charis Circle,Online
ORGANIZER;CN="Ron Barnett and Deb Quinn":MAILTO:chariscircles@charisinterspirituality.org
END:VEVENT
BEGIN:VEVENT
DTSTART;TZID=America/Denver:20291007T170000
DTEND;TZID=America/Denver:20291007T183000
DTSTAMP:20260422T193941
CREATED:20250409T191411Z
LAST-MODIFIED:20250409T192537Z
UID:10001785-1886086800-1886092200@charisinterspirituality.org
SUMMARY:Charis Circle | Online | 1st and 3rd Sundays
DESCRIPTION:Offered on the 1st and 3rd Sundays of the month \nFacilitators: Ron Barnett and Deb Quinn \n4pm PT / 5pm MT / 6pm CT / 7pm ET \nDuration: 90 minutes
URL:https://charisinterspirituality.org/event/charis-circle-online-1st-and-3rd-sundays/2029-10-07/
LOCATION:Online | Zoom
CATEGORIES:Charis Circle,Online
ORGANIZER;CN="Ron Barnett and Deb Quinn":MAILTO:chariscircles@charisinterspirituality.org
END:VEVENT
END:VCALENDAR