BEGIN:VCALENDAR
VERSION:2.0
PRODID:-//Charis Foundation - ECPv6.15.20//NONSGML v1.0//EN
CALSCALE:GREGORIAN
METHOD:PUBLISH
X-WR-CALNAME:Charis Foundation
X-ORIGINAL-URL:https://charisinterspirituality.org
X-WR-CALDESC:Events for Charis Foundation
REFRESH-INTERVAL;VALUE=DURATION:PT1H
X-Robots-Tag:noindex
X-PUBLISHED-TTL:PT1H
BEGIN:VTIMEZONE
TZID:America/Denver
BEGIN:DAYLIGHT
TZOFFSETFROM:-0700
TZOFFSETTO:-0600
TZNAME:MDT
DTSTART:20260308T090000
END:DAYLIGHT
BEGIN:STANDARD
TZOFFSETFROM:-0600
TZOFFSETTO:-0700
TZNAME:MST
DTSTART:20261101T080000
END:STANDARD
BEGIN:DAYLIGHT
TZOFFSETFROM:-0700
TZOFFSETTO:-0600
TZNAME:MDT
DTSTART:20270314T090000
END:DAYLIGHT
BEGIN:STANDARD
TZOFFSETFROM:-0600
TZOFFSETTO:-0700
TZNAME:MST
DTSTART:20271107T080000
END:STANDARD
BEGIN:DAYLIGHT
TZOFFSETFROM:-0700
TZOFFSETTO:-0600
TZNAME:MDT
DTSTART:20280312T090000
END:DAYLIGHT
BEGIN:STANDARD
TZOFFSETFROM:-0600
TZOFFSETTO:-0700
TZNAME:MST
DTSTART:20281105T080000
END:STANDARD
BEGIN:DAYLIGHT
TZOFFSETFROM:-0700
TZOFFSETTO:-0600
TZNAME:MDT
DTSTART:20290311T090000
END:DAYLIGHT
BEGIN:STANDARD
TZOFFSETFROM:-0600
TZOFFSETTO:-0700
TZNAME:MST
DTSTART:20291104T080000
END:STANDARD
BEGIN:DAYLIGHT
TZOFFSETFROM:-0700
TZOFFSETTO:-0600
TZNAME:MDT
DTSTART:20300310T090000
END:DAYLIGHT
BEGIN:STANDARD
TZOFFSETFROM:-0600
TZOFFSETTO:-0700
TZNAME:MST
DTSTART:20301103T080000
END:STANDARD
END:VTIMEZONE
BEGIN:VEVENT
DTSTART;TZID=America/Denver:20270501T090000
DTEND;TZID=America/Denver:20270501T100000
DTSTAMP:20260425T042544
CREATED:20250409T192222Z
LAST-MODIFIED:20250409T192537Z
UID:10001828-1809162000-1809165600@charisinterspirituality.org
SUMMARY:Charis Circle | In Person | Spring Branch\, Texas | 1st Saturday of the month
DESCRIPTION:Offered on the 1st Saturday of the month \nFacilitator: Sara Socha Berry \n10am – 11:30am CT \nDuration: 90 minutes \nLocation: Sophia’s Grove\, Spring Branch\, Texas
URL:https://charisinterspirituality.org/event/charis-circle-in-person-spring-branch-texas-1st-saturday-of-the-month/2027-05-01/
LOCATION:Sophia’s Grove\, Spring Branch\, Texas\, Spring Branch\, Texas\, United States
CATEGORIES:Charis Circle,In Person
ORGANIZER;CN="Sara Socha Berry":MAILTO:sara@sophiasgrove.org
END:VEVENT
BEGIN:VEVENT
DTSTART;TZID=America/Denver:20270605T090000
DTEND;TZID=America/Denver:20270605T100000
DTSTAMP:20260425T042544
CREATED:20250409T192222Z
LAST-MODIFIED:20250409T192537Z
UID:10001829-1812186000-1812189600@charisinterspirituality.org
SUMMARY:Charis Circle | In Person | Spring Branch\, Texas | 1st Saturday of the month
DESCRIPTION:Offered on the 1st Saturday of the month \nFacilitator: Sara Socha Berry \n10am – 11:30am CT \nDuration: 90 minutes \nLocation: Sophia’s Grove\, Spring Branch\, Texas
URL:https://charisinterspirituality.org/event/charis-circle-in-person-spring-branch-texas-1st-saturday-of-the-month/2027-06-05/
LOCATION:Sophia’s Grove\, Spring Branch\, Texas\, Spring Branch\, Texas\, United States
CATEGORIES:Charis Circle,In Person
ORGANIZER;CN="Sara Socha Berry":MAILTO:sara@sophiasgrove.org
END:VEVENT
BEGIN:VEVENT
DTSTART;TZID=America/Denver:20270703T090000
DTEND;TZID=America/Denver:20270703T100000
DTSTAMP:20260425T042544
CREATED:20250409T192222Z
LAST-MODIFIED:20250409T192537Z
UID:10001830-1814605200-1814608800@charisinterspirituality.org
SUMMARY:Charis Circle | In Person | Spring Branch\, Texas | 1st Saturday of the month
DESCRIPTION:Offered on the 1st Saturday of the month \nFacilitator: Sara Socha Berry \n10am – 11:30am CT \nDuration: 90 minutes \nLocation: Sophia’s Grove\, Spring Branch\, Texas
URL:https://charisinterspirituality.org/event/charis-circle-in-person-spring-branch-texas-1st-saturday-of-the-month/2027-07-03/
LOCATION:Sophia’s Grove\, Spring Branch\, Texas\, Spring Branch\, Texas\, United States
CATEGORIES:Charis Circle,In Person
ORGANIZER;CN="Sara Socha Berry":MAILTO:sara@sophiasgrove.org
END:VEVENT
BEGIN:VEVENT
DTSTART;TZID=America/Denver:20270807T090000
DTEND;TZID=America/Denver:20270807T100000
DTSTAMP:20260425T042544
CREATED:20250409T192222Z
LAST-MODIFIED:20250409T192537Z
UID:10001831-1817629200-1817632800@charisinterspirituality.org
SUMMARY:Charis Circle | In Person | Spring Branch\, Texas | 1st Saturday of the month
DESCRIPTION:Offered on the 1st Saturday of the month \nFacilitator: Sara Socha Berry \n10am – 11:30am CT \nDuration: 90 minutes \nLocation: Sophia’s Grove\, Spring Branch\, Texas
URL:https://charisinterspirituality.org/event/charis-circle-in-person-spring-branch-texas-1st-saturday-of-the-month/2027-08-07/
LOCATION:Sophia’s Grove\, Spring Branch\, Texas\, Spring Branch\, Texas\, United States
CATEGORIES:Charis Circle,In Person
ORGANIZER;CN="Sara Socha Berry":MAILTO:sara@sophiasgrove.org
END:VEVENT
BEGIN:VEVENT
DTSTART;TZID=America/Denver:20270904T090000
DTEND;TZID=America/Denver:20270904T100000
DTSTAMP:20260425T042544
CREATED:20250409T192222Z
LAST-MODIFIED:20250409T192537Z
UID:10001832-1820048400-1820052000@charisinterspirituality.org
SUMMARY:Charis Circle | In Person | Spring Branch\, Texas | 1st Saturday of the month
DESCRIPTION:Offered on the 1st Saturday of the month \nFacilitator: Sara Socha Berry \n10am – 11:30am CT \nDuration: 90 minutes \nLocation: Sophia’s Grove\, Spring Branch\, Texas
URL:https://charisinterspirituality.org/event/charis-circle-in-person-spring-branch-texas-1st-saturday-of-the-month/2027-09-04/
LOCATION:Sophia’s Grove\, Spring Branch\, Texas\, Spring Branch\, Texas\, United States
CATEGORIES:Charis Circle,In Person
ORGANIZER;CN="Sara Socha Berry":MAILTO:sara@sophiasgrove.org
END:VEVENT
BEGIN:VEVENT
DTSTART;TZID=America/Denver:20271002T090000
DTEND;TZID=America/Denver:20271002T100000
DTSTAMP:20260425T042544
CREATED:20250409T192222Z
LAST-MODIFIED:20250409T192537Z
UID:10001833-1822467600-1822471200@charisinterspirituality.org
SUMMARY:Charis Circle | In Person | Spring Branch\, Texas | 1st Saturday of the month
DESCRIPTION:Offered on the 1st Saturday of the month \nFacilitator: Sara Socha Berry \n10am – 11:30am CT \nDuration: 90 minutes \nLocation: Sophia’s Grove\, Spring Branch\, Texas
URL:https://charisinterspirituality.org/event/charis-circle-in-person-spring-branch-texas-1st-saturday-of-the-month/2027-10-02/
LOCATION:Sophia’s Grove\, Spring Branch\, Texas\, Spring Branch\, Texas\, United States
CATEGORIES:Charis Circle,In Person
ORGANIZER;CN="Sara Socha Berry":MAILTO:sara@sophiasgrove.org
END:VEVENT
BEGIN:VEVENT
DTSTART;TZID=America/Denver:20271106T090000
DTEND;TZID=America/Denver:20271106T100000
DTSTAMP:20260425T042544
CREATED:20250409T192222Z
LAST-MODIFIED:20250409T192537Z
UID:10001834-1825491600-1825495200@charisinterspirituality.org
SUMMARY:Charis Circle | In Person | Spring Branch\, Texas | 1st Saturday of the month
DESCRIPTION:Offered on the 1st Saturday of the month \nFacilitator: Sara Socha Berry \n10am – 11:30am CT \nDuration: 90 minutes \nLocation: Sophia’s Grove\, Spring Branch\, Texas
URL:https://charisinterspirituality.org/event/charis-circle-in-person-spring-branch-texas-1st-saturday-of-the-month/2027-11-06/
LOCATION:Sophia’s Grove\, Spring Branch\, Texas\, Spring Branch\, Texas\, United States
CATEGORIES:Charis Circle,In Person
ORGANIZER;CN="Sara Socha Berry":MAILTO:sara@sophiasgrove.org
END:VEVENT
BEGIN:VEVENT
DTSTART;TZID=America/Denver:20271204T090000
DTEND;TZID=America/Denver:20271204T100000
DTSTAMP:20260425T042544
CREATED:20250409T192222Z
LAST-MODIFIED:20250409T192537Z
UID:10001835-1827910800-1827914400@charisinterspirituality.org
SUMMARY:Charis Circle | In Person | Spring Branch\, Texas | 1st Saturday of the month
DESCRIPTION:Offered on the 1st Saturday of the month \nFacilitator: Sara Socha Berry \n10am – 11:30am CT \nDuration: 90 minutes \nLocation: Sophia’s Grove\, Spring Branch\, Texas
URL:https://charisinterspirituality.org/event/charis-circle-in-person-spring-branch-texas-1st-saturday-of-the-month/2027-12-04/
LOCATION:Sophia’s Grove\, Spring Branch\, Texas\, Spring Branch\, Texas\, United States
CATEGORIES:Charis Circle,In Person
ORGANIZER;CN="Sara Socha Berry":MAILTO:sara@sophiasgrove.org
END:VEVENT
BEGIN:VEVENT
DTSTART;TZID=America/Denver:20280101T090000
DTEND;TZID=America/Denver:20280101T100000
DTSTAMP:20260425T042544
CREATED:20250409T192222Z
LAST-MODIFIED:20250409T192537Z
UID:10001836-1830330000-1830333600@charisinterspirituality.org
SUMMARY:Charis Circle | In Person | Spring Branch\, Texas | 1st Saturday of the month
DESCRIPTION:Offered on the 1st Saturday of the month \nFacilitator: Sara Socha Berry \n10am – 11:30am CT \nDuration: 90 minutes \nLocation: Sophia’s Grove\, Spring Branch\, Texas
URL:https://charisinterspirituality.org/event/charis-circle-in-person-spring-branch-texas-1st-saturday-of-the-month/2028-01-01/
LOCATION:Sophia’s Grove\, Spring Branch\, Texas\, Spring Branch\, Texas\, United States
CATEGORIES:Charis Circle,In Person
ORGANIZER;CN="Sara Socha Berry":MAILTO:sara@sophiasgrove.org
END:VEVENT
BEGIN:VEVENT
DTSTART;TZID=America/Denver:20280205T090000
DTEND;TZID=America/Denver:20280205T100000
DTSTAMP:20260425T042544
CREATED:20250409T192222Z
LAST-MODIFIED:20250409T192537Z
UID:10001837-1833354000-1833357600@charisinterspirituality.org
SUMMARY:Charis Circle | In Person | Spring Branch\, Texas | 1st Saturday of the month
DESCRIPTION:Offered on the 1st Saturday of the month \nFacilitator: Sara Socha Berry \n10am – 11:30am CT \nDuration: 90 minutes \nLocation: Sophia’s Grove\, Spring Branch\, Texas
URL:https://charisinterspirituality.org/event/charis-circle-in-person-spring-branch-texas-1st-saturday-of-the-month/2028-02-05/
LOCATION:Sophia’s Grove\, Spring Branch\, Texas\, Spring Branch\, Texas\, United States
CATEGORIES:Charis Circle,In Person
ORGANIZER;CN="Sara Socha Berry":MAILTO:sara@sophiasgrove.org
END:VEVENT
BEGIN:VEVENT
DTSTART;TZID=America/Denver:20280304T090000
DTEND;TZID=America/Denver:20280304T100000
DTSTAMP:20260425T042544
CREATED:20250409T192222Z
LAST-MODIFIED:20250409T192537Z
UID:10001838-1835773200-1835776800@charisinterspirituality.org
SUMMARY:Charis Circle | In Person | Spring Branch\, Texas | 1st Saturday of the month
DESCRIPTION:Offered on the 1st Saturday of the month \nFacilitator: Sara Socha Berry \n10am – 11:30am CT \nDuration: 90 minutes \nLocation: Sophia’s Grove\, Spring Branch\, Texas
URL:https://charisinterspirituality.org/event/charis-circle-in-person-spring-branch-texas-1st-saturday-of-the-month/2028-03-04/
LOCATION:Sophia’s Grove\, Spring Branch\, Texas\, Spring Branch\, Texas\, United States
CATEGORIES:Charis Circle,In Person
ORGANIZER;CN="Sara Socha Berry":MAILTO:sara@sophiasgrove.org
END:VEVENT
BEGIN:VEVENT
DTSTART;TZID=America/Denver:20280401T090000
DTEND;TZID=America/Denver:20280401T100000
DTSTAMP:20260425T042544
CREATED:20250409T192222Z
LAST-MODIFIED:20250409T192537Z
UID:10001839-1838192400-1838196000@charisinterspirituality.org
SUMMARY:Charis Circle | In Person | Spring Branch\, Texas | 1st Saturday of the month
DESCRIPTION:Offered on the 1st Saturday of the month \nFacilitator: Sara Socha Berry \n10am – 11:30am CT \nDuration: 90 minutes \nLocation: Sophia’s Grove\, Spring Branch\, Texas
URL:https://charisinterspirituality.org/event/charis-circle-in-person-spring-branch-texas-1st-saturday-of-the-month/2028-04-01/
LOCATION:Sophia’s Grove\, Spring Branch\, Texas\, Spring Branch\, Texas\, United States
CATEGORIES:Charis Circle,In Person
ORGANIZER;CN="Sara Socha Berry":MAILTO:sara@sophiasgrove.org
END:VEVENT
BEGIN:VEVENT
DTSTART;TZID=America/Denver:20280506T090000
DTEND;TZID=America/Denver:20280506T100000
DTSTAMP:20260425T042544
CREATED:20250409T192222Z
LAST-MODIFIED:20250409T192537Z
UID:10001840-1841216400-1841220000@charisinterspirituality.org
SUMMARY:Charis Circle | In Person | Spring Branch\, Texas | 1st Saturday of the month
DESCRIPTION:Offered on the 1st Saturday of the month \nFacilitator: Sara Socha Berry \n10am – 11:30am CT \nDuration: 90 minutes \nLocation: Sophia’s Grove\, Spring Branch\, Texas
URL:https://charisinterspirituality.org/event/charis-circle-in-person-spring-branch-texas-1st-saturday-of-the-month/2028-05-06/
LOCATION:Sophia’s Grove\, Spring Branch\, Texas\, Spring Branch\, Texas\, United States
CATEGORIES:Charis Circle,In Person
ORGANIZER;CN="Sara Socha Berry":MAILTO:sara@sophiasgrove.org
END:VEVENT
BEGIN:VEVENT
DTSTART;TZID=America/Denver:20280603T090000
DTEND;TZID=America/Denver:20280603T100000
DTSTAMP:20260425T042544
CREATED:20250409T192222Z
LAST-MODIFIED:20250409T192537Z
UID:10001841-1843635600-1843639200@charisinterspirituality.org
SUMMARY:Charis Circle | In Person | Spring Branch\, Texas | 1st Saturday of the month
DESCRIPTION:Offered on the 1st Saturday of the month \nFacilitator: Sara Socha Berry \n10am – 11:30am CT \nDuration: 90 minutes \nLocation: Sophia’s Grove\, Spring Branch\, Texas
URL:https://charisinterspirituality.org/event/charis-circle-in-person-spring-branch-texas-1st-saturday-of-the-month/2028-06-03/
LOCATION:Sophia’s Grove\, Spring Branch\, Texas\, Spring Branch\, Texas\, United States
CATEGORIES:Charis Circle,In Person
ORGANIZER;CN="Sara Socha Berry":MAILTO:sara@sophiasgrove.org
END:VEVENT
BEGIN:VEVENT
DTSTART;TZID=America/Denver:20280701T090000
DTEND;TZID=America/Denver:20280701T100000
DTSTAMP:20260425T042544
CREATED:20250409T192222Z
LAST-MODIFIED:20250409T192537Z
UID:10001842-1846054800-1846058400@charisinterspirituality.org
SUMMARY:Charis Circle | In Person | Spring Branch\, Texas | 1st Saturday of the month
DESCRIPTION:Offered on the 1st Saturday of the month \nFacilitator: Sara Socha Berry \n10am – 11:30am CT \nDuration: 90 minutes \nLocation: Sophia’s Grove\, Spring Branch\, Texas
URL:https://charisinterspirituality.org/event/charis-circle-in-person-spring-branch-texas-1st-saturday-of-the-month/2028-07-01/
LOCATION:Sophia’s Grove\, Spring Branch\, Texas\, Spring Branch\, Texas\, United States
CATEGORIES:Charis Circle,In Person
ORGANIZER;CN="Sara Socha Berry":MAILTO:sara@sophiasgrove.org
END:VEVENT
BEGIN:VEVENT
DTSTART;TZID=America/Denver:20280805T090000
DTEND;TZID=America/Denver:20280805T100000
DTSTAMP:20260425T042544
CREATED:20250409T192222Z
LAST-MODIFIED:20250409T192537Z
UID:10001843-1849078800-1849082400@charisinterspirituality.org
SUMMARY:Charis Circle | In Person | Spring Branch\, Texas | 1st Saturday of the month
DESCRIPTION:Offered on the 1st Saturday of the month \nFacilitator: Sara Socha Berry \n10am – 11:30am CT \nDuration: 90 minutes \nLocation: Sophia’s Grove\, Spring Branch\, Texas
URL:https://charisinterspirituality.org/event/charis-circle-in-person-spring-branch-texas-1st-saturday-of-the-month/2028-08-05/
LOCATION:Sophia’s Grove\, Spring Branch\, Texas\, Spring Branch\, Texas\, United States
CATEGORIES:Charis Circle,In Person
ORGANIZER;CN="Sara Socha Berry":MAILTO:sara@sophiasgrove.org
END:VEVENT
BEGIN:VEVENT
DTSTART;TZID=America/Denver:20280902T090000
DTEND;TZID=America/Denver:20280902T100000
DTSTAMP:20260425T042544
CREATED:20250409T192222Z
LAST-MODIFIED:20250409T192537Z
UID:10001844-1851498000-1851501600@charisinterspirituality.org
SUMMARY:Charis Circle | In Person | Spring Branch\, Texas | 1st Saturday of the month
DESCRIPTION:Offered on the 1st Saturday of the month \nFacilitator: Sara Socha Berry \n10am – 11:30am CT \nDuration: 90 minutes \nLocation: Sophia’s Grove\, Spring Branch\, Texas
URL:https://charisinterspirituality.org/event/charis-circle-in-person-spring-branch-texas-1st-saturday-of-the-month/2028-09-02/
LOCATION:Sophia’s Grove\, Spring Branch\, Texas\, Spring Branch\, Texas\, United States
CATEGORIES:Charis Circle,In Person
ORGANIZER;CN="Sara Socha Berry":MAILTO:sara@sophiasgrove.org
END:VEVENT
BEGIN:VEVENT
DTSTART;TZID=America/Denver:20281007T090000
DTEND;TZID=America/Denver:20281007T100000
DTSTAMP:20260425T042544
CREATED:20250409T192222Z
LAST-MODIFIED:20250409T192537Z
UID:10001845-1854522000-1854525600@charisinterspirituality.org
SUMMARY:Charis Circle | In Person | Spring Branch\, Texas | 1st Saturday of the month
DESCRIPTION:Offered on the 1st Saturday of the month \nFacilitator: Sara Socha Berry \n10am – 11:30am CT \nDuration: 90 minutes \nLocation: Sophia’s Grove\, Spring Branch\, Texas
URL:https://charisinterspirituality.org/event/charis-circle-in-person-spring-branch-texas-1st-saturday-of-the-month/2028-10-07/
LOCATION:Sophia’s Grove\, Spring Branch\, Texas\, Spring Branch\, Texas\, United States
CATEGORIES:Charis Circle,In Person
ORGANIZER;CN="Sara Socha Berry":MAILTO:sara@sophiasgrove.org
END:VEVENT
BEGIN:VEVENT
DTSTART;TZID=America/Denver:20281104T090000
DTEND;TZID=America/Denver:20281104T100000
DTSTAMP:20260425T042544
CREATED:20250409T192222Z
LAST-MODIFIED:20250409T192537Z
UID:10001846-1856941200-1856944800@charisinterspirituality.org
SUMMARY:Charis Circle | In Person | Spring Branch\, Texas | 1st Saturday of the month
DESCRIPTION:Offered on the 1st Saturday of the month \nFacilitator: Sara Socha Berry \n10am – 11:30am CT \nDuration: 90 minutes \nLocation: Sophia’s Grove\, Spring Branch\, Texas
URL:https://charisinterspirituality.org/event/charis-circle-in-person-spring-branch-texas-1st-saturday-of-the-month/2028-11-04/
LOCATION:Sophia’s Grove\, Spring Branch\, Texas\, Spring Branch\, Texas\, United States
CATEGORIES:Charis Circle,In Person
ORGANIZER;CN="Sara Socha Berry":MAILTO:sara@sophiasgrove.org
END:VEVENT
BEGIN:VEVENT
DTSTART;TZID=America/Denver:20281202T090000
DTEND;TZID=America/Denver:20281202T100000
DTSTAMP:20260425T042544
CREATED:20250409T192222Z
LAST-MODIFIED:20250409T192537Z
UID:10001847-1859360400-1859364000@charisinterspirituality.org
SUMMARY:Charis Circle | In Person | Spring Branch\, Texas | 1st Saturday of the month
DESCRIPTION:Offered on the 1st Saturday of the month \nFacilitator: Sara Socha Berry \n10am – 11:30am CT \nDuration: 90 minutes \nLocation: Sophia’s Grove\, Spring Branch\, Texas
URL:https://charisinterspirituality.org/event/charis-circle-in-person-spring-branch-texas-1st-saturday-of-the-month/2028-12-02/
LOCATION:Sophia’s Grove\, Spring Branch\, Texas\, Spring Branch\, Texas\, United States
CATEGORIES:Charis Circle,In Person
ORGANIZER;CN="Sara Socha Berry":MAILTO:sara@sophiasgrove.org
END:VEVENT
BEGIN:VEVENT
DTSTART;TZID=America/Denver:20290106T090000
DTEND;TZID=America/Denver:20290106T100000
DTSTAMP:20260425T042544
CREATED:20250409T192222Z
LAST-MODIFIED:20250409T192537Z
UID:10001848-1862384400-1862388000@charisinterspirituality.org
SUMMARY:Charis Circle | In Person | Spring Branch\, Texas | 1st Saturday of the month
DESCRIPTION:Offered on the 1st Saturday of the month \nFacilitator: Sara Socha Berry \n10am – 11:30am CT \nDuration: 90 minutes \nLocation: Sophia’s Grove\, Spring Branch\, Texas
URL:https://charisinterspirituality.org/event/charis-circle-in-person-spring-branch-texas-1st-saturday-of-the-month/2029-01-06/
LOCATION:Sophia’s Grove\, Spring Branch\, Texas\, Spring Branch\, Texas\, United States
CATEGORIES:Charis Circle,In Person
ORGANIZER;CN="Sara Socha Berry":MAILTO:sara@sophiasgrove.org
END:VEVENT
BEGIN:VEVENT
DTSTART;TZID=America/Denver:20290203T090000
DTEND;TZID=America/Denver:20290203T100000
DTSTAMP:20260425T042544
CREATED:20250409T192222Z
LAST-MODIFIED:20250409T192537Z
UID:10001849-1864803600-1864807200@charisinterspirituality.org
SUMMARY:Charis Circle | In Person | Spring Branch\, Texas | 1st Saturday of the month
DESCRIPTION:Offered on the 1st Saturday of the month \nFacilitator: Sara Socha Berry \n10am – 11:30am CT \nDuration: 90 minutes \nLocation: Sophia’s Grove\, Spring Branch\, Texas
URL:https://charisinterspirituality.org/event/charis-circle-in-person-spring-branch-texas-1st-saturday-of-the-month/2029-02-03/
LOCATION:Sophia’s Grove\, Spring Branch\, Texas\, Spring Branch\, Texas\, United States
CATEGORIES:Charis Circle,In Person
ORGANIZER;CN="Sara Socha Berry":MAILTO:sara@sophiasgrove.org
END:VEVENT
BEGIN:VEVENT
DTSTART;TZID=America/Denver:20290303T090000
DTEND;TZID=America/Denver:20290303T100000
DTSTAMP:20260425T042544
CREATED:20250409T192222Z
LAST-MODIFIED:20250409T192537Z
UID:10001850-1867222800-1867226400@charisinterspirituality.org
SUMMARY:Charis Circle | In Person | Spring Branch\, Texas | 1st Saturday of the month
DESCRIPTION:Offered on the 1st Saturday of the month \nFacilitator: Sara Socha Berry \n10am – 11:30am CT \nDuration: 90 minutes \nLocation: Sophia’s Grove\, Spring Branch\, Texas
URL:https://charisinterspirituality.org/event/charis-circle-in-person-spring-branch-texas-1st-saturday-of-the-month/2029-03-03/
LOCATION:Sophia’s Grove\, Spring Branch\, Texas\, Spring Branch\, Texas\, United States
CATEGORIES:Charis Circle,In Person
ORGANIZER;CN="Sara Socha Berry":MAILTO:sara@sophiasgrove.org
END:VEVENT
BEGIN:VEVENT
DTSTART;TZID=America/Denver:20290407T090000
DTEND;TZID=America/Denver:20290407T100000
DTSTAMP:20260425T042544
CREATED:20250409T192222Z
LAST-MODIFIED:20250409T192537Z
UID:10001851-1870246800-1870250400@charisinterspirituality.org
SUMMARY:Charis Circle | In Person | Spring Branch\, Texas | 1st Saturday of the month
DESCRIPTION:Offered on the 1st Saturday of the month \nFacilitator: Sara Socha Berry \n10am – 11:30am CT \nDuration: 90 minutes \nLocation: Sophia’s Grove\, Spring Branch\, Texas
URL:https://charisinterspirituality.org/event/charis-circle-in-person-spring-branch-texas-1st-saturday-of-the-month/2029-04-07/
LOCATION:Sophia’s Grove\, Spring Branch\, Texas\, Spring Branch\, Texas\, United States
CATEGORIES:Charis Circle,In Person
ORGANIZER;CN="Sara Socha Berry":MAILTO:sara@sophiasgrove.org
END:VEVENT
BEGIN:VEVENT
DTSTART;TZID=America/Denver:20290505T090000
DTEND;TZID=America/Denver:20290505T100000
DTSTAMP:20260425T042544
CREATED:20250409T192222Z
LAST-MODIFIED:20250409T192537Z
UID:10001852-1872666000-1872669600@charisinterspirituality.org
SUMMARY:Charis Circle | In Person | Spring Branch\, Texas | 1st Saturday of the month
DESCRIPTION:Offered on the 1st Saturday of the month \nFacilitator: Sara Socha Berry \n10am – 11:30am CT \nDuration: 90 minutes \nLocation: Sophia’s Grove\, Spring Branch\, Texas
URL:https://charisinterspirituality.org/event/charis-circle-in-person-spring-branch-texas-1st-saturday-of-the-month/2029-05-05/
LOCATION:Sophia’s Grove\, Spring Branch\, Texas\, Spring Branch\, Texas\, United States
CATEGORIES:Charis Circle,In Person
ORGANIZER;CN="Sara Socha Berry":MAILTO:sara@sophiasgrove.org
END:VEVENT
BEGIN:VEVENT
DTSTART;TZID=America/Denver:20290602T090000
DTEND;TZID=America/Denver:20290602T100000
DTSTAMP:20260425T042544
CREATED:20250409T192222Z
LAST-MODIFIED:20250409T192537Z
UID:10001853-1875085200-1875088800@charisinterspirituality.org
SUMMARY:Charis Circle | In Person | Spring Branch\, Texas | 1st Saturday of the month
DESCRIPTION:Offered on the 1st Saturday of the month \nFacilitator: Sara Socha Berry \n10am – 11:30am CT \nDuration: 90 minutes \nLocation: Sophia’s Grove\, Spring Branch\, Texas
URL:https://charisinterspirituality.org/event/charis-circle-in-person-spring-branch-texas-1st-saturday-of-the-month/2029-06-02/
LOCATION:Sophia’s Grove\, Spring Branch\, Texas\, Spring Branch\, Texas\, United States
CATEGORIES:Charis Circle,In Person
ORGANIZER;CN="Sara Socha Berry":MAILTO:sara@sophiasgrove.org
END:VEVENT
BEGIN:VEVENT
DTSTART;TZID=America/Denver:20290707T090000
DTEND;TZID=America/Denver:20290707T100000
DTSTAMP:20260425T042544
CREATED:20250409T192222Z
LAST-MODIFIED:20250409T192537Z
UID:10001854-1878109200-1878112800@charisinterspirituality.org
SUMMARY:Charis Circle | In Person | Spring Branch\, Texas | 1st Saturday of the month
DESCRIPTION:Offered on the 1st Saturday of the month \nFacilitator: Sara Socha Berry \n10am – 11:30am CT \nDuration: 90 minutes \nLocation: Sophia’s Grove\, Spring Branch\, Texas
URL:https://charisinterspirituality.org/event/charis-circle-in-person-spring-branch-texas-1st-saturday-of-the-month/2029-07-07/
LOCATION:Sophia’s Grove\, Spring Branch\, Texas\, Spring Branch\, Texas\, United States
CATEGORIES:Charis Circle,In Person
ORGANIZER;CN="Sara Socha Berry":MAILTO:sara@sophiasgrove.org
END:VEVENT
BEGIN:VEVENT
DTSTART;TZID=America/Denver:20290804T090000
DTEND;TZID=America/Denver:20290804T100000
DTSTAMP:20260425T042544
CREATED:20250409T192222Z
LAST-MODIFIED:20250409T192537Z
UID:10001855-1880528400-1880532000@charisinterspirituality.org
SUMMARY:Charis Circle | In Person | Spring Branch\, Texas | 1st Saturday of the month
DESCRIPTION:Offered on the 1st Saturday of the month \nFacilitator: Sara Socha Berry \n10am – 11:30am CT \nDuration: 90 minutes \nLocation: Sophia’s Grove\, Spring Branch\, Texas
URL:https://charisinterspirituality.org/event/charis-circle-in-person-spring-branch-texas-1st-saturday-of-the-month/2029-08-04/
LOCATION:Sophia’s Grove\, Spring Branch\, Texas\, Spring Branch\, Texas\, United States
CATEGORIES:Charis Circle,In Person
ORGANIZER;CN="Sara Socha Berry":MAILTO:sara@sophiasgrove.org
END:VEVENT
BEGIN:VEVENT
DTSTART;TZID=America/Denver:20290901T090000
DTEND;TZID=America/Denver:20290901T100000
DTSTAMP:20260425T042544
CREATED:20250409T192222Z
LAST-MODIFIED:20250409T192537Z
UID:10001856-1882947600-1882951200@charisinterspirituality.org
SUMMARY:Charis Circle | In Person | Spring Branch\, Texas | 1st Saturday of the month
DESCRIPTION:Offered on the 1st Saturday of the month \nFacilitator: Sara Socha Berry \n10am – 11:30am CT \nDuration: 90 minutes \nLocation: Sophia’s Grove\, Spring Branch\, Texas
URL:https://charisinterspirituality.org/event/charis-circle-in-person-spring-branch-texas-1st-saturday-of-the-month/2029-09-01/
LOCATION:Sophia’s Grove\, Spring Branch\, Texas\, Spring Branch\, Texas\, United States
CATEGORIES:Charis Circle,In Person
ORGANIZER;CN="Sara Socha Berry":MAILTO:sara@sophiasgrove.org
END:VEVENT
BEGIN:VEVENT
DTSTART;TZID=America/Denver:20291006T090000
DTEND;TZID=America/Denver:20291006T100000
DTSTAMP:20260425T042544
CREATED:20250409T192222Z
LAST-MODIFIED:20250409T192537Z
UID:10001857-1885971600-1885975200@charisinterspirituality.org
SUMMARY:Charis Circle | In Person | Spring Branch\, Texas | 1st Saturday of the month
DESCRIPTION:Offered on the 1st Saturday of the month \nFacilitator: Sara Socha Berry \n10am – 11:30am CT \nDuration: 90 minutes \nLocation: Sophia’s Grove\, Spring Branch\, Texas
URL:https://charisinterspirituality.org/event/charis-circle-in-person-spring-branch-texas-1st-saturday-of-the-month/2029-10-06/
LOCATION:Sophia’s Grove\, Spring Branch\, Texas\, Spring Branch\, Texas\, United States
CATEGORIES:Charis Circle,In Person
ORGANIZER;CN="Sara Socha Berry":MAILTO:sara@sophiasgrove.org
END:VEVENT
END:VCALENDAR