BEGIN:VCALENDAR
VERSION:2.0
PRODID:-//Charis Foundation - ECPv6.15.20//NONSGML v1.0//EN
CALSCALE:GREGORIAN
METHOD:PUBLISH
X-WR-CALNAME:Charis Foundation
X-ORIGINAL-URL:https://charisinterspirituality.org
X-WR-CALDESC:Events for Charis Foundation
REFRESH-INTERVAL;VALUE=DURATION:PT1H
X-Robots-Tag:noindex
X-PUBLISHED-TTL:PT1H
BEGIN:VTIMEZONE
TZID:America/Denver
BEGIN:DAYLIGHT
TZOFFSETFROM:-0700
TZOFFSETTO:-0600
TZNAME:MDT
DTSTART:20280312T090000
END:DAYLIGHT
BEGIN:STANDARD
TZOFFSETFROM:-0600
TZOFFSETTO:-0700
TZNAME:MST
DTSTART:20281105T080000
END:STANDARD
BEGIN:DAYLIGHT
TZOFFSETFROM:-0700
TZOFFSETTO:-0600
TZNAME:MDT
DTSTART:20290311T090000
END:DAYLIGHT
BEGIN:STANDARD
TZOFFSETFROM:-0600
TZOFFSETTO:-0700
TZNAME:MST
DTSTART:20291104T080000
END:STANDARD
BEGIN:DAYLIGHT
TZOFFSETFROM:-0700
TZOFFSETTO:-0600
TZNAME:MDT
DTSTART:20300310T090000
END:DAYLIGHT
BEGIN:STANDARD
TZOFFSETFROM:-0600
TZOFFSETTO:-0700
TZNAME:MST
DTSTART:20301103T080000
END:STANDARD
BEGIN:DAYLIGHT
TZOFFSETFROM:-0700
TZOFFSETTO:-0600
TZNAME:MDT
DTSTART:20310309T090000
END:DAYLIGHT
BEGIN:STANDARD
TZOFFSETFROM:-0600
TZOFFSETTO:-0700
TZNAME:MST
DTSTART:20311102T080000
END:STANDARD
END:VTIMEZONE
BEGIN:VEVENT
DTSTART;TZID=America/Denver:20290505T090000
DTEND;TZID=America/Denver:20290505T100000
DTSTAMP:20260425T104407
CREATED:20250409T192222Z
LAST-MODIFIED:20250409T192537Z
UID:10001852-1872666000-1872669600@charisinterspirituality.org
SUMMARY:Charis Circle | In Person | Spring Branch\, Texas | 1st Saturday of the month
DESCRIPTION:Offered on the 1st Saturday of the month \nFacilitator: Sara Socha Berry \n10am – 11:30am CT \nDuration: 90 minutes \nLocation: Sophia’s Grove\, Spring Branch\, Texas
URL:https://charisinterspirituality.org/event/charis-circle-in-person-spring-branch-texas-1st-saturday-of-the-month/2029-05-05/
LOCATION:Sophia’s Grove\, Spring Branch\, Texas\, Spring Branch\, Texas\, United States
CATEGORIES:Charis Circle,In Person
ORGANIZER;CN="Sara Socha Berry":MAILTO:sara@sophiasgrove.org
END:VEVENT
BEGIN:VEVENT
DTSTART;TZID=America/Denver:20290602T090000
DTEND;TZID=America/Denver:20290602T100000
DTSTAMP:20260425T104407
CREATED:20250409T192222Z
LAST-MODIFIED:20250409T192537Z
UID:10001853-1875085200-1875088800@charisinterspirituality.org
SUMMARY:Charis Circle | In Person | Spring Branch\, Texas | 1st Saturday of the month
DESCRIPTION:Offered on the 1st Saturday of the month \nFacilitator: Sara Socha Berry \n10am – 11:30am CT \nDuration: 90 minutes \nLocation: Sophia’s Grove\, Spring Branch\, Texas
URL:https://charisinterspirituality.org/event/charis-circle-in-person-spring-branch-texas-1st-saturday-of-the-month/2029-06-02/
LOCATION:Sophia’s Grove\, Spring Branch\, Texas\, Spring Branch\, Texas\, United States
CATEGORIES:Charis Circle,In Person
ORGANIZER;CN="Sara Socha Berry":MAILTO:sara@sophiasgrove.org
END:VEVENT
BEGIN:VEVENT
DTSTART;TZID=America/Denver:20290707T090000
DTEND;TZID=America/Denver:20290707T100000
DTSTAMP:20260425T104407
CREATED:20250409T192222Z
LAST-MODIFIED:20250409T192537Z
UID:10001854-1878109200-1878112800@charisinterspirituality.org
SUMMARY:Charis Circle | In Person | Spring Branch\, Texas | 1st Saturday of the month
DESCRIPTION:Offered on the 1st Saturday of the month \nFacilitator: Sara Socha Berry \n10am – 11:30am CT \nDuration: 90 minutes \nLocation: Sophia’s Grove\, Spring Branch\, Texas
URL:https://charisinterspirituality.org/event/charis-circle-in-person-spring-branch-texas-1st-saturday-of-the-month/2029-07-07/
LOCATION:Sophia’s Grove\, Spring Branch\, Texas\, Spring Branch\, Texas\, United States
CATEGORIES:Charis Circle,In Person
ORGANIZER;CN="Sara Socha Berry":MAILTO:sara@sophiasgrove.org
END:VEVENT
BEGIN:VEVENT
DTSTART;TZID=America/Denver:20290804T090000
DTEND;TZID=America/Denver:20290804T100000
DTSTAMP:20260425T104407
CREATED:20250409T192222Z
LAST-MODIFIED:20250409T192537Z
UID:10001855-1880528400-1880532000@charisinterspirituality.org
SUMMARY:Charis Circle | In Person | Spring Branch\, Texas | 1st Saturday of the month
DESCRIPTION:Offered on the 1st Saturday of the month \nFacilitator: Sara Socha Berry \n10am – 11:30am CT \nDuration: 90 minutes \nLocation: Sophia’s Grove\, Spring Branch\, Texas
URL:https://charisinterspirituality.org/event/charis-circle-in-person-spring-branch-texas-1st-saturday-of-the-month/2029-08-04/
LOCATION:Sophia’s Grove\, Spring Branch\, Texas\, Spring Branch\, Texas\, United States
CATEGORIES:Charis Circle,In Person
ORGANIZER;CN="Sara Socha Berry":MAILTO:sara@sophiasgrove.org
END:VEVENT
BEGIN:VEVENT
DTSTART;TZID=America/Denver:20290901T090000
DTEND;TZID=America/Denver:20290901T100000
DTSTAMP:20260425T104407
CREATED:20250409T192222Z
LAST-MODIFIED:20250409T192537Z
UID:10001856-1882947600-1882951200@charisinterspirituality.org
SUMMARY:Charis Circle | In Person | Spring Branch\, Texas | 1st Saturday of the month
DESCRIPTION:Offered on the 1st Saturday of the month \nFacilitator: Sara Socha Berry \n10am – 11:30am CT \nDuration: 90 minutes \nLocation: Sophia’s Grove\, Spring Branch\, Texas
URL:https://charisinterspirituality.org/event/charis-circle-in-person-spring-branch-texas-1st-saturday-of-the-month/2029-09-01/
LOCATION:Sophia’s Grove\, Spring Branch\, Texas\, Spring Branch\, Texas\, United States
CATEGORIES:Charis Circle,In Person
ORGANIZER;CN="Sara Socha Berry":MAILTO:sara@sophiasgrove.org
END:VEVENT
BEGIN:VEVENT
DTSTART;TZID=America/Denver:20291006T090000
DTEND;TZID=America/Denver:20291006T100000
DTSTAMP:20260425T104407
CREATED:20250409T192222Z
LAST-MODIFIED:20250409T192537Z
UID:10001857-1885971600-1885975200@charisinterspirituality.org
SUMMARY:Charis Circle | In Person | Spring Branch\, Texas | 1st Saturday of the month
DESCRIPTION:Offered on the 1st Saturday of the month \nFacilitator: Sara Socha Berry \n10am – 11:30am CT \nDuration: 90 minutes \nLocation: Sophia’s Grove\, Spring Branch\, Texas
URL:https://charisinterspirituality.org/event/charis-circle-in-person-spring-branch-texas-1st-saturday-of-the-month/2029-10-06/
LOCATION:Sophia’s Grove\, Spring Branch\, Texas\, Spring Branch\, Texas\, United States
CATEGORIES:Charis Circle,In Person
ORGANIZER;CN="Sara Socha Berry":MAILTO:sara@sophiasgrove.org
END:VEVENT
BEGIN:VEVENT
DTSTART;TZID=America/Denver:20291103T090000
DTEND;TZID=America/Denver:20291103T100000
DTSTAMP:20260425T104407
CREATED:20250409T192222Z
LAST-MODIFIED:20250409T192537Z
UID:10001858-1888390800-1888394400@charisinterspirituality.org
SUMMARY:Charis Circle | In Person | Spring Branch\, Texas | 1st Saturday of the month
DESCRIPTION:Offered on the 1st Saturday of the month \nFacilitator: Sara Socha Berry \n10am – 11:30am CT \nDuration: 90 minutes \nLocation: Sophia’s Grove\, Spring Branch\, Texas
URL:https://charisinterspirituality.org/event/charis-circle-in-person-spring-branch-texas-1st-saturday-of-the-month/2029-11-03/
LOCATION:Sophia’s Grove\, Spring Branch\, Texas\, Spring Branch\, Texas\, United States
CATEGORIES:Charis Circle,In Person
ORGANIZER;CN="Sara Socha Berry":MAILTO:sara@sophiasgrove.org
END:VEVENT
BEGIN:VEVENT
DTSTART;TZID=America/Denver:20291201T090000
DTEND;TZID=America/Denver:20291201T100000
DTSTAMP:20260425T104407
CREATED:20250409T192222Z
LAST-MODIFIED:20250409T192537Z
UID:10001859-1890810000-1890813600@charisinterspirituality.org
SUMMARY:Charis Circle | In Person | Spring Branch\, Texas | 1st Saturday of the month
DESCRIPTION:Offered on the 1st Saturday of the month \nFacilitator: Sara Socha Berry \n10am – 11:30am CT \nDuration: 90 minutes \nLocation: Sophia’s Grove\, Spring Branch\, Texas
URL:https://charisinterspirituality.org/event/charis-circle-in-person-spring-branch-texas-1st-saturday-of-the-month/2029-12-01/
LOCATION:Sophia’s Grove\, Spring Branch\, Texas\, Spring Branch\, Texas\, United States
CATEGORIES:Charis Circle,In Person
ORGANIZER;CN="Sara Socha Berry":MAILTO:sara@sophiasgrove.org
END:VEVENT
BEGIN:VEVENT
DTSTART;TZID=America/Denver:20300105T090000
DTEND;TZID=America/Denver:20300105T100000
DTSTAMP:20260425T104407
CREATED:20250409T192222Z
LAST-MODIFIED:20250409T192537Z
UID:10001860-1893834000-1893837600@charisinterspirituality.org
SUMMARY:Charis Circle | In Person | Spring Branch\, Texas | 1st Saturday of the month
DESCRIPTION:Offered on the 1st Saturday of the month \nFacilitator: Sara Socha Berry \n10am – 11:30am CT \nDuration: 90 minutes \nLocation: Sophia’s Grove\, Spring Branch\, Texas
URL:https://charisinterspirituality.org/event/charis-circle-in-person-spring-branch-texas-1st-saturday-of-the-month/2030-01-05/
LOCATION:Sophia’s Grove\, Spring Branch\, Texas\, Spring Branch\, Texas\, United States
CATEGORIES:Charis Circle,In Person
ORGANIZER;CN="Sara Socha Berry":MAILTO:sara@sophiasgrove.org
END:VEVENT
BEGIN:VEVENT
DTSTART;TZID=America/Denver:20300202T090000
DTEND;TZID=America/Denver:20300202T100000
DTSTAMP:20260425T104407
CREATED:20250409T192222Z
LAST-MODIFIED:20250409T192537Z
UID:10001861-1896253200-1896256800@charisinterspirituality.org
SUMMARY:Charis Circle | In Person | Spring Branch\, Texas | 1st Saturday of the month
DESCRIPTION:Offered on the 1st Saturday of the month \nFacilitator: Sara Socha Berry \n10am – 11:30am CT \nDuration: 90 minutes \nLocation: Sophia’s Grove\, Spring Branch\, Texas
URL:https://charisinterspirituality.org/event/charis-circle-in-person-spring-branch-texas-1st-saturday-of-the-month/2030-02-02/
LOCATION:Sophia’s Grove\, Spring Branch\, Texas\, Spring Branch\, Texas\, United States
CATEGORIES:Charis Circle,In Person
ORGANIZER;CN="Sara Socha Berry":MAILTO:sara@sophiasgrove.org
END:VEVENT
BEGIN:VEVENT
DTSTART;TZID=America/Denver:20300302T090000
DTEND;TZID=America/Denver:20300302T100000
DTSTAMP:20260425T104407
CREATED:20250409T192222Z
LAST-MODIFIED:20250409T192537Z
UID:10001862-1898672400-1898676000@charisinterspirituality.org
SUMMARY:Charis Circle | In Person | Spring Branch\, Texas | 1st Saturday of the month
DESCRIPTION:Offered on the 1st Saturday of the month \nFacilitator: Sara Socha Berry \n10am – 11:30am CT \nDuration: 90 minutes \nLocation: Sophia’s Grove\, Spring Branch\, Texas
URL:https://charisinterspirituality.org/event/charis-circle-in-person-spring-branch-texas-1st-saturday-of-the-month/2030-03-02/
LOCATION:Sophia’s Grove\, Spring Branch\, Texas\, Spring Branch\, Texas\, United States
CATEGORIES:Charis Circle,In Person
ORGANIZER;CN="Sara Socha Berry":MAILTO:sara@sophiasgrove.org
END:VEVENT
BEGIN:VEVENT
DTSTART;TZID=America/Denver:20300406T090000
DTEND;TZID=America/Denver:20300406T100000
DTSTAMP:20260425T104407
CREATED:20250409T192222Z
LAST-MODIFIED:20250409T192537Z
UID:10001863-1901696400-1901700000@charisinterspirituality.org
SUMMARY:Charis Circle | In Person | Spring Branch\, Texas | 1st Saturday of the month
DESCRIPTION:Offered on the 1st Saturday of the month \nFacilitator: Sara Socha Berry \n10am – 11:30am CT \nDuration: 90 minutes \nLocation: Sophia’s Grove\, Spring Branch\, Texas
URL:https://charisinterspirituality.org/event/charis-circle-in-person-spring-branch-texas-1st-saturday-of-the-month/2030-04-06/
LOCATION:Sophia’s Grove\, Spring Branch\, Texas\, Spring Branch\, Texas\, United States
CATEGORIES:Charis Circle,In Person
ORGANIZER;CN="Sara Socha Berry":MAILTO:sara@sophiasgrove.org
END:VEVENT
END:VCALENDAR